BEGIN:VCALENDAR
VERSION:2.0
PRODID:-//Nordic Health Network - ECPv6.15.20//NONSGML v1.0//EN
CALSCALE:GREGORIAN
METHOD:PUBLISH
X-ORIGINAL-URL:https://nordichealthnetwork.com
X-WR-CALDESC:Events for Nordic Health Network
REFRESH-INTERVAL;VALUE=DURATION:PT1H
X-Robots-Tag:noindex
X-PUBLISHED-TTL:PT1H
BEGIN:VTIMEZONE
TZID:Europe/Amsterdam
BEGIN:DAYLIGHT
TZOFFSETFROM:+0100
TZOFFSETTO:+0200
TZNAME:CEST
DTSTART:20250330T010000
END:DAYLIGHT
BEGIN:STANDARD
TZOFFSETFROM:+0200
TZOFFSETTO:+0100
TZNAME:CET
DTSTART:20251026T010000
END:STANDARD
BEGIN:DAYLIGHT
TZOFFSETFROM:+0100
TZOFFSETTO:+0200
TZNAME:CEST
DTSTART:20260329T010000
END:DAYLIGHT
BEGIN:STANDARD
TZOFFSETFROM:+0200
TZOFFSETTO:+0100
TZNAME:CET
DTSTART:20261025T010000
END:STANDARD
BEGIN:DAYLIGHT
TZOFFSETFROM:+0100
TZOFFSETTO:+0200
TZNAME:CEST
DTSTART:20270328T010000
END:DAYLIGHT
BEGIN:STANDARD
TZOFFSETFROM:+0200
TZOFFSETTO:+0100
TZNAME:CET
DTSTART:20271031T010000
END:STANDARD
END:VTIMEZONE
BEGIN:VEVENT
DTSTART;TZID=Europe/Amsterdam:20260412T120000
DTEND;TZID=Europe/Amsterdam:20260412T170000
DTSTAMP:20260423T164108
CREATED:20260127T110520Z
LAST-MODIFIED:20260331T102920Z
UID:10000020-1775995200-1776013200@nordichealthnetwork.com
SUMMARY:Mega Business Opportunity Meeting Apeldoorn (NL)
DESCRIPTION:An excellent opportunity to introduce yourself and your guests to Eqology and its unique concept of Health\, Finance & Time. \nDuring this meeting\, you’ll learn more about the company\, its products\, and the innovative business model that is creating new growth opportunities in the Netherlands. You’re welcome to attend with guests or on your own — to connect\, learn\, and be inspired by fellow Business Partners. \nThe atmosphere is informal and relaxed. \nDoors open at 12:00 \nWe look forward to seeing you at this valuable meeting! \n  \nhttps://www.eventbrite.nl/e/eqology-lente-event-2026-tickets-1980978042652?aff=oddtdtcreator
URL:https://nordichealthnetwork.com/event/mega-business-opportunity-meeting-apeldoorn-nl/
LOCATION:Van der Valk Apeldoorn\, Van Golsteinlaan 20\, Ugchelen\, 7339GT\, Netherlands
CATEGORIES:Business Opportunity,Public
ATTACH;FMTTYPE=image/png:https://nordichealthnetwork.com/wp-content/uploads/bom-apeldoorn.png
ORGANIZER;CN="Sandra & Leen":MAILTO:sandra.quartel@eqology.biz
END:VEVENT
END:VCALENDAR