BEGIN:VCALENDAR
VERSION:2.0
PRODID:-//Nordic Health Network - ECPv6.15.20//NONSGML v1.0//EN
CALSCALE:GREGORIAN
METHOD:PUBLISH
X-ORIGINAL-URL:https://nordichealthnetwork.com
X-WR-CALDESC:Events for Nordic Health Network
REFRESH-INTERVAL;VALUE=DURATION:PT1H
X-Robots-Tag:noindex
X-PUBLISHED-TTL:PT1H
BEGIN:VTIMEZONE
TZID:Europe/Amsterdam
BEGIN:DAYLIGHT
TZOFFSETFROM:+0100
TZOFFSETTO:+0200
TZNAME:CEST
DTSTART:20250330T010000
END:DAYLIGHT
BEGIN:STANDARD
TZOFFSETFROM:+0200
TZOFFSETTO:+0100
TZNAME:CET
DTSTART:20251026T010000
END:STANDARD
BEGIN:DAYLIGHT
TZOFFSETFROM:+0100
TZOFFSETTO:+0200
TZNAME:CEST
DTSTART:20260329T010000
END:DAYLIGHT
BEGIN:STANDARD
TZOFFSETFROM:+0200
TZOFFSETTO:+0100
TZNAME:CET
DTSTART:20261025T010000
END:STANDARD
BEGIN:DAYLIGHT
TZOFFSETFROM:+0100
TZOFFSETTO:+0200
TZNAME:CEST
DTSTART:20270328T010000
END:DAYLIGHT
BEGIN:STANDARD
TZOFFSETFROM:+0200
TZOFFSETTO:+0100
TZNAME:CET
DTSTART:20271031T010000
END:STANDARD
END:VTIMEZONE
BEGIN:VEVENT
DTSTART;TZID=Europe/Amsterdam:20260301T140000
DTEND;TZID=Europe/Amsterdam:20260301T173000
DTSTAMP:20260421T153907
CREATED:20260202T175430Z
LAST-MODIFIED:20260224T122953Z
UID:10000034-1772373600-1772386200@nordichealthnetwork.com
SUMMARY:EQ Bootcamp Utrecht
DESCRIPTION:Let’s get to work. We meet in a relaxed environment and go through a mix of trainings and exercises to move you forward in a fun and efficient way. \n  \nDoors open 14:00 \nEvent Start 14:30 \nBring your notebook & some positive energy and you’re good to go. \nCoffee and Snacks provided \nBurgermeester ter pelkwijklaan 252\, Utrecht
URL:https://nordichealthnetwork.com/event/eq-bootcamp-utrecht/
CATEGORIES:Internal
ATTACH;FMTTYPE=image/png:https://nordichealthnetwork.com/wp-content/uploads/ChatGPT-Image-Feb-2-2026-06_53_48-PM.png
END:VEVENT
BEGIN:VEVENT
DTSTART;TZID=Europe/Amsterdam:20260302T200000
DTEND;TZID=Europe/Amsterdam:20260302T210000
DTSTAMP:20260421T153907
CREATED:20260302T143300Z
LAST-MODIFIED:20260302T151652Z
UID:10000048-1772481600-1772485200@nordichealthnetwork.com
SUMMARY:Team Training (EN)
DESCRIPTION:Simon Widler is inviting you to a scheduled Zoom meeting. \nTopic: Simon Widler’s Personal Meeting Room\nJoin Zoom Meeting\nhttps://us06web.zoom.us/j/7050586587?pwd=eTdNaU5Ya0dJS0h0bWtrRUZHaHFCZz09 \nMeeting ID: 705 058 6587\nPasscode: iMm04v
URL:https://nordichealthnetwork.com/event/team-training-march/
LOCATION:Online\, online\, Netherlands
CATEGORIES:Internal
ATTACH;FMTTYPE=image/jpeg:https://nordichealthnetwork.com/wp-content/uploads/Team-Training6.jpg
END:VEVENT
BEGIN:VEVENT
DTSTART;TZID=Europe/Amsterdam:20260304T180000
DTEND;TZID=Europe/Amsterdam:20260304T183000
DTSTAMP:20260421T153907
CREATED:20260213T092420Z
LAST-MODIFIED:20260213T092420Z
UID:10000040-1772647200-1772649000@nordichealthnetwork.com
SUMMARY:Co-working session
DESCRIPTION:30 mins of focused work with a set flow of activities \nSimon Widler is inviting you to a scheduled Zoom meeting. \nTopic: Simon Widler’s Personal Meeting Room\nJoin Zoom Meeting\nhttps://us06web.zoom.us/j/7050586587?pwd=eTdNaU5Ya0dJS0h0bWtrRUZHaHFCZz09 \nMeeting ID: 705 058 6587\nPasscode: iMm04v
URL:https://nordichealthnetwork.com/event/co-working-session-3/
LOCATION:Online\, online\, Netherlands
CATEGORIES:Internal
ATTACH;FMTTYPE=image/jpeg:https://nordichealthnetwork.com/wp-content/uploads/Team-Training6.jpg
END:VEVENT
BEGIN:VEVENT
DTSTART;TZID=Europe/Amsterdam:20260308T130000
DTEND;TZID=Europe/Amsterdam:20260308T170000
DTSTAMP:20260421T153907
CREATED:20260202T175531Z
LAST-MODIFIED:20260306T095328Z
UID:10000035-1772974800-1772989200@nordichealthnetwork.com
SUMMARY:EQ Bootcamp Waardenburg
DESCRIPTION:Important notes \n\nDoors open at 13:00\, please try to not arrive much earlier as there is another event happening\n13:30 we do a “small” crossfit workout ca 25 minutes\, voluntary of course\n14:00 Doors open for anyone not joining the workout\n14:30 The workshop starts\n17:00 workshop finishes\nMingling until 17:30\n\n  \nBring your notebook & some positive energy and you’re good to go. \nParking available on location. Coffee and Snacks provided \nLocation: Crossfit FNX\, Waardenburg \n  \nLet’s get to work. We meet in a relaxed environment and go through a mix of trainings and exercises to move you forward in a fun and efficient way.
URL:https://nordichealthnetwork.com/event/eq-bootcamp-waardenburg/
CATEGORIES:Internal
ATTACH;FMTTYPE=image/png:https://nordichealthnetwork.com/wp-content/uploads/ChatGPT-Image-Feb-2-2026-06_53_48-PM.png
END:VEVENT
BEGIN:VEVENT
DTSTART;TZID=Europe/Amsterdam:20260309T200000
DTEND;TZID=Europe/Amsterdam:20260309T210000
DTSTAMP:20260421T153907
CREATED:20260309T163523Z
LAST-MODIFIED:20260313T132306Z
UID:10000049-1773086400-1773090000@nordichealthnetwork.com
SUMMARY:Team Training (EN)
DESCRIPTION:Simon Widler is inviting you to a scheduled Zoom meeting. \nTopic: Simon Widler’s Personal Meeting Room\nJoin Zoom Meeting\nhttps://us06web.zoom.us/j/7050586587?pwd=eTdNaU5Ya0dJS0h0bWtrRUZHaHFCZz09 \nMeeting ID: 705 058 6587\nPasscode: iMm04v
URL:https://nordichealthnetwork.com/event/team-training-monday-en/2026-03-09/
LOCATION:Online\, online\, Netherlands
CATEGORIES:Internal
ATTACH;FMTTYPE=image/jpeg:https://nordichealthnetwork.com/wp-content/uploads/Team-Training6.jpg
END:VEVENT
BEGIN:VEVENT
DTSTART;TZID=Europe/Amsterdam:20260310T190000
DTEND;TZID=Europe/Amsterdam:20260310T203000
DTSTAMP:20260421T153907
CREATED:20260128T164149Z
LAST-MODIFIED:20260128T164149Z
UID:10000028-1773169200-1773174600@nordichealthnetwork.com
SUMMARY:Business Opportunity Meeting Haarlem (EN)
DESCRIPTION:An excellent opportunity to introduce yourself and your guests to Eqology and its unique concept of Health\, Finance & Time. \nDuring this meeting\, you’ll learn more about the company\, its products\, and the innovative business model that is creating new growth opportunities in the Netherlands. You’re welcome to attend with guests or on your own — to connect\, learn\, and be inspired by fellow Business Partners. \nThe atmosphere is informal and relaxed. \nDoors open at 7:00 PM. \nWe look forward to seeing you at this valuable meeting!
URL:https://nordichealthnetwork.com/event/business-opportunity-meeting-haarlem-en-2/
LOCATION:Locael Centraal\, Kennemerplein 6\, Haarlem\, Holland\, 2011 MJ\, Netherlands
CATEGORIES:Business Opportunity,Public
ATTACH;FMTTYPE=image/png:https://nordichealthnetwork.com/wp-content/uploads/ChatGPT-Image-Jan-6-2026-12_23_25-PM.png
END:VEVENT
BEGIN:VEVENT
DTSTART;TZID=Europe/Amsterdam:20260312T190000
DTEND;TZID=Europe/Amsterdam:20260312T203000
DTSTAMP:20260421T153907
CREATED:20260225T082538Z
LAST-MODIFIED:20260302T185441Z
UID:10000046-1773342000-1773347400@nordichealthnetwork.com
SUMMARY:Business Opportunity Meeting Heerenveen (NL)
DESCRIPTION:An excellent opportunity to introduce yourself and your guests to Eqology and its unique concept of Health\, Finance & Time. \nDuring this meeting\, you’ll learn more about the company\, its products\, and the innovative business model that is creating new growth opportunities in the Netherlands. You’re welcome to attend with guests or on your own — to connect\, learn\, and be inspired by fellow Business Partners. \nThe atmosphere is informal and relaxed. \nDoors open at 7:00 PM. \nWe look forward to seeing you at this valuable meeting! \nLocation: \nIt Goarrefean 101\, Gorrdijk
URL:https://nordichealthnetwork.com/event/business-opportunity-meeting-heerenveen/
CATEGORIES:Business Opportunity,Public
ATTACH;FMTTYPE=image/png:https://nordichealthnetwork.com/wp-content/uploads/ChatGPT-Image-Jan-6-2026-12_23_25-PM.png
END:VEVENT
BEGIN:VEVENT
DTSTART;TZID=Europe/Amsterdam:20260314T143000
DTEND;TZID=Europe/Amsterdam:20260314T170000
DTSTAMP:20260421T153907
CREATED:20260225T082405Z
LAST-MODIFIED:20260225T082405Z
UID:10000045-1773498600-1773507600@nordichealthnetwork.com
SUMMARY:Business Opportunity Meeting Eindhoven (EN)
DESCRIPTION:An excellent opportunity to introduce yourself and your guests to Eqology and its unique concept of Health\, Finance & Time. \nDuring this meeting\, you’ll learn more about the company\, its products\, and the innovative business model that is creating new growth opportunities in the Netherlands. You’re welcome to attend with guests or on your own — to connect\, learn\, and be inspired by fellow Business Partners. \nThe atmosphere is informal and relaxed. \nDoors open at 14:30 PM. \nWe look forward to seeing you at this valuable meeting!
URL:https://nordichealthnetwork.com/event/business-opportunity-meeting-eindhoven-en/
LOCATION:The Core\, Eindhoven\, Professor Doctor Dorgelolaan 14\, Eindhoven\, 5613 AM\, Netherlands
CATEGORIES:Business Opportunity,Public
ATTACH;FMTTYPE=image/png:https://nordichealthnetwork.com/wp-content/uploads/ChatGPT-Image-Jan-6-2026-12_23_25-PM.png
END:VEVENT
BEGIN:VEVENT
DTSTART;TZID=Europe/Amsterdam:20260316T200000
DTEND;TZID=Europe/Amsterdam:20260316T210000
DTSTAMP:20260421T153907
CREATED:20260309T163523Z
LAST-MODIFIED:20260313T132306Z
UID:10000311-1773691200-1773694800@nordichealthnetwork.com
SUMMARY:Team Training (EN)
DESCRIPTION:Simon Widler is inviting you to a scheduled Zoom meeting. \nTopic: Simon Widler’s Personal Meeting Room\nJoin Zoom Meeting\nhttps://us06web.zoom.us/j/7050586587?pwd=eTdNaU5Ya0dJS0h0bWtrRUZHaHFCZz09 \nMeeting ID: 705 058 6587\nPasscode: iMm04v
URL:https://nordichealthnetwork.com/event/team-training-monday-en/2026-03-16/
LOCATION:Online\, online\, Netherlands
CATEGORIES:Internal
ATTACH;FMTTYPE=image/jpeg:https://nordichealthnetwork.com/wp-content/uploads/Team-Training6.jpg
END:VEVENT
BEGIN:VEVENT
DTSTART;TZID=Europe/Amsterdam:20260317T191500
DTEND;TZID=Europe/Amsterdam:20260317T203000
DTSTAMP:20260421T153907
CREATED:20260128T124957Z
LAST-MODIFIED:20260128T124957Z
UID:10000026-1773774900-1773779400@nordichealthnetwork.com
SUMMARY:Business Opportunity Meeting Zoetermeer (NL)
DESCRIPTION:An excellent opportunity to introduce yourself and your guests to Eqology and its unique concept of Health\, Finance & Time. \nDuring this meeting\, you’ll learn more about the company\, its products\, and the innovative business model that is creating new growth opportunities in the Netherlands. You’re welcome to attend with guests or on your own — to connect\, learn\, and be inspired by fellow Business Partners. \nThe atmosphere is informal and relaxed. \nDoors open at 7:15 PM. \nWe look forward to seeing you at this valuable meeting!
URL:https://nordichealthnetwork.com/event/business-opportunity-meeting-zoetermeer-nl/
LOCATION:De Hooge Woning\, Voorweg 109\, Zoetermeer\, 2716 NH\, Netherlands
CATEGORIES:Business Opportunity,Public
ATTACH;FMTTYPE=image/png:https://nordichealthnetwork.com/wp-content/uploads/ChatGPT-Image-Jan-6-2026-12_23_25-PM.png
END:VEVENT
BEGIN:VEVENT
DTSTART;TZID=Europe/Amsterdam:20260317T191500
DTEND;TZID=Europe/Amsterdam:20260317T203000
DTSTAMP:20260421T153907
CREATED:20260216T100209Z
LAST-MODIFIED:20260216T100209Z
UID:10000041-1773774900-1773779400@nordichealthnetwork.com
SUMMARY:Business Opportunity Meeting Zwolle (NL)
DESCRIPTION:An excellent opportunity to introduce yourself and your guests to Eqology and its unique concept of Health\, Finance & Time. \nDuring this meeting\, you’ll learn more about the company\, its products\, and the innovative business model that is creating new growth opportunities in the Netherlands. You’re welcome to attend with guests or on your own — to connect\, learn\, and be inspired by fellow Business Partners. \nThe atmosphere is informal and relaxed. \nDoors open at 7:00 PM. \nWe look forward to seeing you at this valuable meeting!
URL:https://nordichealthnetwork.com/event/business-opportunity-meeting-zwolle-nl-2/
LOCATION:Bistro de Stadshoeve\, Arendshorstlaan 23\, Zwolle\, 8043VE\, Netherlands
CATEGORIES:Business Opportunity,Public
ATTACH;FMTTYPE=image/png:https://nordichealthnetwork.com/wp-content/uploads/ChatGPT-Image-Jan-6-2026-12_23_25-PM.png
END:VEVENT
BEGIN:VEVENT
DTSTART;TZID=Europe/Amsterdam:20260318T190000
DTEND;TZID=Europe/Amsterdam:20260318T203000
DTSTAMP:20260421T153907
CREATED:20260202T174917Z
LAST-MODIFIED:20260225T082711Z
UID:10000032-1773860400-1773865800@nordichealthnetwork.com
SUMMARY:Business Opportunity Meeting London (UK / EN)
DESCRIPTION:An excellent opportunity to introduce yourself and your guests to Eqology and its unique concept of Health\, Finance & Time. \nDuring this meeting\, you’ll learn more about the company\, its products\, and the innovative business model that is creating new growth opportunities in the United Kingdom. You’re welcome to attend with guests or on your own — to connect\, learn\, and be inspired by fellow Business Partners. \nThe atmosphere is informal and relaxed. \n  \nWe look forward to seeing you at this valuable meeting!
URL:https://nordichealthnetwork.com/event/business-opportunity-meeting-london-march/
CATEGORIES:Business Opportunity,Public
ATTACH;FMTTYPE=image/png:https://nordichealthnetwork.com/wp-content/uploads/ChatGPT-Image-Jan-6-2026-12_23_25-PM.png
END:VEVENT
BEGIN:VEVENT
DTSTART;TZID=Europe/Amsterdam:20260319T190000
DTEND;TZID=Europe/Amsterdam:20260319T203000
DTSTAMP:20260421T153907
CREATED:20260202T175019Z
LAST-MODIFIED:20260202T175019Z
UID:10000033-1773946800-1773952200@nordichealthnetwork.com
SUMMARY:Business Opportunity Meeting Nottingham (UK / EN)
DESCRIPTION:An excellent opportunity to introduce yourself and your guests to Eqology and its unique concept of Health\, Finance & Time. \nDuring this meeting\, you’ll learn more about the company\, its products\, and the innovative business model that is creating new growth opportunities in the United Kingdom. You’re welcome to attend with guests or on your own — to connect\, learn\, and be inspired by fellow Business Partners. \nThe atmosphere is informal and relaxed. \n  \nWe look forward to seeing you at this valuable meeting!
URL:https://nordichealthnetwork.com/event/business-opportunity-meeting-nottingham-march/
CATEGORIES:Business Opportunity,Public
ATTACH;FMTTYPE=image/png:https://nordichealthnetwork.com/wp-content/uploads/ChatGPT-Image-Jan-6-2026-12_23_25-PM.png
END:VEVENT
BEGIN:VEVENT
DTSTART;TZID=Europe/Amsterdam:20260323T200000
DTEND;TZID=Europe/Amsterdam:20260323T210000
DTSTAMP:20260421T153907
CREATED:20260309T163523Z
LAST-MODIFIED:20260313T132306Z
UID:10000312-1774296000-1774299600@nordichealthnetwork.com
SUMMARY:Team Training (EN)
DESCRIPTION:Simon Widler is inviting you to a scheduled Zoom meeting. \nTopic: Simon Widler’s Personal Meeting Room\nJoin Zoom Meeting\nhttps://us06web.zoom.us/j/7050586587?pwd=eTdNaU5Ya0dJS0h0bWtrRUZHaHFCZz09 \nMeeting ID: 705 058 6587\nPasscode: iMm04v
URL:https://nordichealthnetwork.com/event/team-training-monday-en/2026-03-23/
LOCATION:Online\, online\, Netherlands
CATEGORIES:Internal
ATTACH;FMTTYPE=image/jpeg:https://nordichealthnetwork.com/wp-content/uploads/Team-Training6.jpg
END:VEVENT
BEGIN:VEVENT
DTSTART;TZID=Europe/Amsterdam:20260324T190000
DTEND;TZID=Europe/Amsterdam:20260324T203000
DTSTAMP:20260421T153907
CREATED:20260225T082019Z
LAST-MODIFIED:20260225T082019Z
UID:10000043-1774378800-1774384200@nordichealthnetwork.com
SUMMARY:Business Opportunity Meeting Heerhugowaard
DESCRIPTION:An excellent opportunity to introduce yourself and your guests to Eqology and its unique concept of Health\, Finance & Time. \nDuring this meeting\, you’ll learn more about the company\, its products\, and the innovative business model that is creating new growth opportunities in the Netherlands. You’re welcome to attend with guests or on your own — to connect\, learn\, and be inspired by fellow Business Partners. \nThe atmosphere is informal and relaxed. \nDoors open at 7:00 PM. \nWe look forward to seeing you at this valuable meeting!
URL:https://nordichealthnetwork.com/event/business-opportunity-meeting-heerhugowaard/
LOCATION:Diëtist Heerhugowaard | GoedLichaam\, G. Rietveldweg 4\, Heerhugowaard\, 1703 DD\, Netherlands
CATEGORIES:Business Opportunity,Public
ATTACH;FMTTYPE=image/png:https://nordichealthnetwork.com/wp-content/uploads/ChatGPT-Image-Jan-6-2026-12_23_25-PM.png
END:VEVENT
BEGIN:VEVENT
DTSTART;TZID=Europe/Amsterdam:20260328T143000
DTEND;TZID=Europe/Amsterdam:20260328T160000
DTSTAMP:20260421T153907
CREATED:20260225T082130Z
LAST-MODIFIED:20260225T082130Z
UID:10000044-1774708200-1774713600@nordichealthnetwork.com
SUMMARY:Business Opportunity Meeting Amsterdam (EN)
DESCRIPTION:An excellent opportunity to introduce yourself and your guests to Eqology and its unique concept of Health\, Finance & Time. \nDuring this meeting\, you’ll learn more about the company\, its products\, and the innovative business model that is creating new growth opportunities in the Netherlands. You’re welcome to attend with guests or on your own — to connect\, learn\, and be inspired by fellow Business Partners. \nThe atmosphere is informal and relaxed. \nDoors open at 14:30. \nWe look forward to seeing you at this valuable meeting!
URL:https://nordichealthnetwork.com/event/business-opportunity-meeting-amsterdam-2/
LOCATION:Beyond Fit Amsterdam\, Tweede Kostverlorenkade 130HS\, Amsterdam\, 1053 SE\, Netherlands
CATEGORIES:Business Opportunity,Public
ATTACH;FMTTYPE=image/png:https://nordichealthnetwork.com/wp-content/uploads/ChatGPT-Image-Feb-4-2026-08_41_36-PM.png
END:VEVENT
BEGIN:VEVENT
DTSTART;TZID=Europe/Amsterdam:20260330T120000
DTEND;TZID=Europe/Amsterdam:20260330T180000
DTSTAMP:20260421T153907
CREATED:20260115T091636Z
LAST-MODIFIED:20260127T110834Z
UID:10000014-1774872000-1774893600@nordichealthnetwork.com
SUMMARY:Spring Event - Veenendaal (NL)
DESCRIPTION:Join us for an afternoon of learning and inspiration \n12:00-17:00 \nTickets via Health Creators \nLocation: De Basiliek in Veenendaal
URL:https://nordichealthnetwork.com/event/spring-event-veenendaal-nl/
CATEGORIES:Internal
ATTACH;FMTTYPE=image/jpeg:https://nordichealthnetwork.com/wp-content/uploads/spring-event-veenendaal.jpg
END:VEVENT
BEGIN:VEVENT
DTSTART;TZID=Europe/Amsterdam:20260330T200000
DTEND;TZID=Europe/Amsterdam:20260330T210000
DTSTAMP:20260421T153907
CREATED:20260309T163523Z
LAST-MODIFIED:20260313T132306Z
UID:10000313-1774900800-1774904400@nordichealthnetwork.com
SUMMARY:Team Training (EN)
DESCRIPTION:Simon Widler is inviting you to a scheduled Zoom meeting. \nTopic: Simon Widler’s Personal Meeting Room\nJoin Zoom Meeting\nhttps://us06web.zoom.us/j/7050586587?pwd=eTdNaU5Ya0dJS0h0bWtrRUZHaHFCZz09 \nMeeting ID: 705 058 6587\nPasscode: iMm04v
URL:https://nordichealthnetwork.com/event/team-training-monday-en/2026-03-30/
LOCATION:Online\, online\, Netherlands
CATEGORIES:Internal
ATTACH;FMTTYPE=image/jpeg:https://nordichealthnetwork.com/wp-content/uploads/Team-Training6.jpg
END:VEVENT
END:VCALENDAR