BEGIN:VCALENDAR
VERSION:2.0
PRODID:-//Nordic Health Network - ECPv6.15.20//NONSGML v1.0//EN
CALSCALE:GREGORIAN
METHOD:PUBLISH
X-ORIGINAL-URL:https://nordichealthnetwork.com
X-WR-CALDESC:Events for Nordic Health Network
REFRESH-INTERVAL;VALUE=DURATION:PT1H
X-Robots-Tag:noindex
X-PUBLISHED-TTL:PT1H
BEGIN:VTIMEZONE
TZID:Europe/Amsterdam
BEGIN:DAYLIGHT
TZOFFSETFROM:+0100
TZOFFSETTO:+0200
TZNAME:CEST
DTSTART:20250330T010000
END:DAYLIGHT
BEGIN:STANDARD
TZOFFSETFROM:+0200
TZOFFSETTO:+0100
TZNAME:CET
DTSTART:20251026T010000
END:STANDARD
BEGIN:DAYLIGHT
TZOFFSETFROM:+0100
TZOFFSETTO:+0200
TZNAME:CEST
DTSTART:20260329T010000
END:DAYLIGHT
BEGIN:STANDARD
TZOFFSETFROM:+0200
TZOFFSETTO:+0100
TZNAME:CET
DTSTART:20261025T010000
END:STANDARD
BEGIN:DAYLIGHT
TZOFFSETFROM:+0100
TZOFFSETTO:+0200
TZNAME:CEST
DTSTART:20270328T010000
END:DAYLIGHT
BEGIN:STANDARD
TZOFFSETFROM:+0200
TZOFFSETTO:+0100
TZNAME:CET
DTSTART:20271031T010000
END:STANDARD
BEGIN:DAYLIGHT
TZOFFSETFROM:+0100
TZOFFSETTO:+0200
TZNAME:CEST
DTSTART:20280326T010000
END:DAYLIGHT
BEGIN:STANDARD
TZOFFSETFROM:+0200
TZOFFSETTO:+0100
TZNAME:CET
DTSTART:20281029T010000
END:STANDARD
END:VTIMEZONE
BEGIN:VEVENT
DTSTART;TZID=Europe/Amsterdam:20261228T200000
DTEND;TZID=Europe/Amsterdam:20261228T210000
DTSTAMP:20260422T035553
CREATED:20260309T163523Z
LAST-MODIFIED:20260313T132306Z
UID:10000352-1798488000-1798491600@nordichealthnetwork.com
SUMMARY:Team Training (EN)
DESCRIPTION:Simon Widler is inviting you to a scheduled Zoom meeting. \nTopic: Simon Widler’s Personal Meeting Room\nJoin Zoom Meeting\nhttps://us06web.zoom.us/j/7050586587?pwd=eTdNaU5Ya0dJS0h0bWtrRUZHaHFCZz09 \nMeeting ID: 705 058 6587\nPasscode: iMm04v
URL:https://nordichealthnetwork.com/event/team-training-monday-en/2026-12-28/
LOCATION:Online\, online\, Netherlands
CATEGORIES:Internal
ATTACH;FMTTYPE=image/jpeg:https://nordichealthnetwork.com/wp-content/uploads/Team-Training6.jpg
END:VEVENT
BEGIN:VEVENT
DTSTART;TZID=Europe/Amsterdam:20270104T200000
DTEND;TZID=Europe/Amsterdam:20270104T210000
DTSTAMP:20260422T035553
CREATED:20260309T163523Z
LAST-MODIFIED:20260313T132306Z
UID:10000353-1799092800-1799096400@nordichealthnetwork.com
SUMMARY:Team Training (EN)
DESCRIPTION:Simon Widler is inviting you to a scheduled Zoom meeting. \nTopic: Simon Widler’s Personal Meeting Room\nJoin Zoom Meeting\nhttps://us06web.zoom.us/j/7050586587?pwd=eTdNaU5Ya0dJS0h0bWtrRUZHaHFCZz09 \nMeeting ID: 705 058 6587\nPasscode: iMm04v
URL:https://nordichealthnetwork.com/event/team-training-monday-en/2027-01-04/
LOCATION:Online\, online\, Netherlands
CATEGORIES:Internal
ATTACH;FMTTYPE=image/jpeg:https://nordichealthnetwork.com/wp-content/uploads/Team-Training6.jpg
END:VEVENT
BEGIN:VEVENT
DTSTART;TZID=Europe/Amsterdam:20270111T200000
DTEND;TZID=Europe/Amsterdam:20270111T210000
DTSTAMP:20260422T035553
CREATED:20260309T163523Z
LAST-MODIFIED:20260313T132306Z
UID:10000354-1799697600-1799701200@nordichealthnetwork.com
SUMMARY:Team Training (EN)
DESCRIPTION:Simon Widler is inviting you to a scheduled Zoom meeting. \nTopic: Simon Widler’s Personal Meeting Room\nJoin Zoom Meeting\nhttps://us06web.zoom.us/j/7050586587?pwd=eTdNaU5Ya0dJS0h0bWtrRUZHaHFCZz09 \nMeeting ID: 705 058 6587\nPasscode: iMm04v
URL:https://nordichealthnetwork.com/event/team-training-monday-en/2027-01-11/
LOCATION:Online\, online\, Netherlands
CATEGORIES:Internal
ATTACH;FMTTYPE=image/jpeg:https://nordichealthnetwork.com/wp-content/uploads/Team-Training6.jpg
END:VEVENT
BEGIN:VEVENT
DTSTART;TZID=Europe/Amsterdam:20270118T200000
DTEND;TZID=Europe/Amsterdam:20270118T210000
DTSTAMP:20260422T035553
CREATED:20260309T163523Z
LAST-MODIFIED:20260313T132306Z
UID:10000355-1800302400-1800306000@nordichealthnetwork.com
SUMMARY:Team Training (EN)
DESCRIPTION:Simon Widler is inviting you to a scheduled Zoom meeting. \nTopic: Simon Widler’s Personal Meeting Room\nJoin Zoom Meeting\nhttps://us06web.zoom.us/j/7050586587?pwd=eTdNaU5Ya0dJS0h0bWtrRUZHaHFCZz09 \nMeeting ID: 705 058 6587\nPasscode: iMm04v
URL:https://nordichealthnetwork.com/event/team-training-monday-en/2027-01-18/
LOCATION:Online\, online\, Netherlands
CATEGORIES:Internal
ATTACH;FMTTYPE=image/jpeg:https://nordichealthnetwork.com/wp-content/uploads/Team-Training6.jpg
END:VEVENT
BEGIN:VEVENT
DTSTART;TZID=Europe/Amsterdam:20270125T200000
DTEND;TZID=Europe/Amsterdam:20270125T210000
DTSTAMP:20260422T035553
CREATED:20260309T163523Z
LAST-MODIFIED:20260313T132306Z
UID:10000356-1800907200-1800910800@nordichealthnetwork.com
SUMMARY:Team Training (EN)
DESCRIPTION:Simon Widler is inviting you to a scheduled Zoom meeting. \nTopic: Simon Widler’s Personal Meeting Room\nJoin Zoom Meeting\nhttps://us06web.zoom.us/j/7050586587?pwd=eTdNaU5Ya0dJS0h0bWtrRUZHaHFCZz09 \nMeeting ID: 705 058 6587\nPasscode: iMm04v
URL:https://nordichealthnetwork.com/event/team-training-monday-en/2027-01-25/
LOCATION:Online\, online\, Netherlands
CATEGORIES:Internal
ATTACH;FMTTYPE=image/jpeg:https://nordichealthnetwork.com/wp-content/uploads/Team-Training6.jpg
END:VEVENT
BEGIN:VEVENT
DTSTART;TZID=Europe/Amsterdam:20270201T200000
DTEND;TZID=Europe/Amsterdam:20270201T210000
DTSTAMP:20260422T035553
CREATED:20260309T163523Z
LAST-MODIFIED:20260313T132306Z
UID:10000357-1801512000-1801515600@nordichealthnetwork.com
SUMMARY:Team Training (EN)
DESCRIPTION:Simon Widler is inviting you to a scheduled Zoom meeting. \nTopic: Simon Widler’s Personal Meeting Room\nJoin Zoom Meeting\nhttps://us06web.zoom.us/j/7050586587?pwd=eTdNaU5Ya0dJS0h0bWtrRUZHaHFCZz09 \nMeeting ID: 705 058 6587\nPasscode: iMm04v
URL:https://nordichealthnetwork.com/event/team-training-monday-en/2027-02-01/
LOCATION:Online\, online\, Netherlands
CATEGORIES:Internal
ATTACH;FMTTYPE=image/jpeg:https://nordichealthnetwork.com/wp-content/uploads/Team-Training6.jpg
END:VEVENT
BEGIN:VEVENT
DTSTART;TZID=Europe/Amsterdam:20270208T200000
DTEND;TZID=Europe/Amsterdam:20270208T210000
DTSTAMP:20260422T035553
CREATED:20260309T163523Z
LAST-MODIFIED:20260313T132306Z
UID:10000358-1802116800-1802120400@nordichealthnetwork.com
SUMMARY:Team Training (EN)
DESCRIPTION:Simon Widler is inviting you to a scheduled Zoom meeting. \nTopic: Simon Widler’s Personal Meeting Room\nJoin Zoom Meeting\nhttps://us06web.zoom.us/j/7050586587?pwd=eTdNaU5Ya0dJS0h0bWtrRUZHaHFCZz09 \nMeeting ID: 705 058 6587\nPasscode: iMm04v
URL:https://nordichealthnetwork.com/event/team-training-monday-en/2027-02-08/
LOCATION:Online\, online\, Netherlands
CATEGORIES:Internal
ATTACH;FMTTYPE=image/jpeg:https://nordichealthnetwork.com/wp-content/uploads/Team-Training6.jpg
END:VEVENT
BEGIN:VEVENT
DTSTART;TZID=Europe/Amsterdam:20270215T200000
DTEND;TZID=Europe/Amsterdam:20270215T210000
DTSTAMP:20260422T035553
CREATED:20260309T163523Z
LAST-MODIFIED:20260313T132306Z
UID:10000359-1802721600-1802725200@nordichealthnetwork.com
SUMMARY:Team Training (EN)
DESCRIPTION:Simon Widler is inviting you to a scheduled Zoom meeting. \nTopic: Simon Widler’s Personal Meeting Room\nJoin Zoom Meeting\nhttps://us06web.zoom.us/j/7050586587?pwd=eTdNaU5Ya0dJS0h0bWtrRUZHaHFCZz09 \nMeeting ID: 705 058 6587\nPasscode: iMm04v
URL:https://nordichealthnetwork.com/event/team-training-monday-en/2027-02-15/
LOCATION:Online\, online\, Netherlands
CATEGORIES:Internal
ATTACH;FMTTYPE=image/jpeg:https://nordichealthnetwork.com/wp-content/uploads/Team-Training6.jpg
END:VEVENT
BEGIN:VEVENT
DTSTART;TZID=Europe/Amsterdam:20270222T200000
DTEND;TZID=Europe/Amsterdam:20270222T210000
DTSTAMP:20260422T035553
CREATED:20260309T163523Z
LAST-MODIFIED:20260313T132306Z
UID:10000360-1803326400-1803330000@nordichealthnetwork.com
SUMMARY:Team Training (EN)
DESCRIPTION:Simon Widler is inviting you to a scheduled Zoom meeting. \nTopic: Simon Widler’s Personal Meeting Room\nJoin Zoom Meeting\nhttps://us06web.zoom.us/j/7050586587?pwd=eTdNaU5Ya0dJS0h0bWtrRUZHaHFCZz09 \nMeeting ID: 705 058 6587\nPasscode: iMm04v
URL:https://nordichealthnetwork.com/event/team-training-monday-en/2027-02-22/
LOCATION:Online\, online\, Netherlands
CATEGORIES:Internal
ATTACH;FMTTYPE=image/jpeg:https://nordichealthnetwork.com/wp-content/uploads/Team-Training6.jpg
END:VEVENT
BEGIN:VEVENT
DTSTART;TZID=Europe/Amsterdam:20270301T200000
DTEND;TZID=Europe/Amsterdam:20270301T210000
DTSTAMP:20260422T035553
CREATED:20260309T163523Z
LAST-MODIFIED:20260313T132306Z
UID:10000361-1803931200-1803934800@nordichealthnetwork.com
SUMMARY:Team Training (EN)
DESCRIPTION:Simon Widler is inviting you to a scheduled Zoom meeting. \nTopic: Simon Widler’s Personal Meeting Room\nJoin Zoom Meeting\nhttps://us06web.zoom.us/j/7050586587?pwd=eTdNaU5Ya0dJS0h0bWtrRUZHaHFCZz09 \nMeeting ID: 705 058 6587\nPasscode: iMm04v
URL:https://nordichealthnetwork.com/event/team-training-monday-en/2027-03-01/
LOCATION:Online\, online\, Netherlands
CATEGORIES:Internal
ATTACH;FMTTYPE=image/jpeg:https://nordichealthnetwork.com/wp-content/uploads/Team-Training6.jpg
END:VEVENT
BEGIN:VEVENT
DTSTART;TZID=Europe/Amsterdam:20270308T200000
DTEND;TZID=Europe/Amsterdam:20270308T210000
DTSTAMP:20260422T035553
CREATED:20260309T163523Z
LAST-MODIFIED:20260313T132306Z
UID:10000362-1804536000-1804539600@nordichealthnetwork.com
SUMMARY:Team Training (EN)
DESCRIPTION:Simon Widler is inviting you to a scheduled Zoom meeting. \nTopic: Simon Widler’s Personal Meeting Room\nJoin Zoom Meeting\nhttps://us06web.zoom.us/j/7050586587?pwd=eTdNaU5Ya0dJS0h0bWtrRUZHaHFCZz09 \nMeeting ID: 705 058 6587\nPasscode: iMm04v
URL:https://nordichealthnetwork.com/event/team-training-monday-en/2027-03-08/
LOCATION:Online\, online\, Netherlands
CATEGORIES:Internal
ATTACH;FMTTYPE=image/jpeg:https://nordichealthnetwork.com/wp-content/uploads/Team-Training6.jpg
END:VEVENT
BEGIN:VEVENT
DTSTART;TZID=Europe/Amsterdam:20270315T200000
DTEND;TZID=Europe/Amsterdam:20270315T210000
DTSTAMP:20260422T035553
CREATED:20260309T163523Z
LAST-MODIFIED:20260313T132306Z
UID:10000363-1805140800-1805144400@nordichealthnetwork.com
SUMMARY:Team Training (EN)
DESCRIPTION:Simon Widler is inviting you to a scheduled Zoom meeting. \nTopic: Simon Widler’s Personal Meeting Room\nJoin Zoom Meeting\nhttps://us06web.zoom.us/j/7050586587?pwd=eTdNaU5Ya0dJS0h0bWtrRUZHaHFCZz09 \nMeeting ID: 705 058 6587\nPasscode: iMm04v
URL:https://nordichealthnetwork.com/event/team-training-monday-en/2027-03-15/
LOCATION:Online\, online\, Netherlands
CATEGORIES:Internal
ATTACH;FMTTYPE=image/jpeg:https://nordichealthnetwork.com/wp-content/uploads/Team-Training6.jpg
END:VEVENT
BEGIN:VEVENT
DTSTART;TZID=Europe/Amsterdam:20270322T200000
DTEND;TZID=Europe/Amsterdam:20270322T210000
DTSTAMP:20260422T035553
CREATED:20260309T163523Z
LAST-MODIFIED:20260313T132306Z
UID:10000364-1805745600-1805749200@nordichealthnetwork.com
SUMMARY:Team Training (EN)
DESCRIPTION:Simon Widler is inviting you to a scheduled Zoom meeting. \nTopic: Simon Widler’s Personal Meeting Room\nJoin Zoom Meeting\nhttps://us06web.zoom.us/j/7050586587?pwd=eTdNaU5Ya0dJS0h0bWtrRUZHaHFCZz09 \nMeeting ID: 705 058 6587\nPasscode: iMm04v
URL:https://nordichealthnetwork.com/event/team-training-monday-en/2027-03-22/
LOCATION:Online\, online\, Netherlands
CATEGORIES:Internal
ATTACH;FMTTYPE=image/jpeg:https://nordichealthnetwork.com/wp-content/uploads/Team-Training6.jpg
END:VEVENT
BEGIN:VEVENT
DTSTART;TZID=Europe/Amsterdam:20270329T200000
DTEND;TZID=Europe/Amsterdam:20270329T210000
DTSTAMP:20260422T035553
CREATED:20260309T163523Z
LAST-MODIFIED:20260313T132306Z
UID:10000365-1806350400-1806354000@nordichealthnetwork.com
SUMMARY:Team Training (EN)
DESCRIPTION:Simon Widler is inviting you to a scheduled Zoom meeting. \nTopic: Simon Widler’s Personal Meeting Room\nJoin Zoom Meeting\nhttps://us06web.zoom.us/j/7050586587?pwd=eTdNaU5Ya0dJS0h0bWtrRUZHaHFCZz09 \nMeeting ID: 705 058 6587\nPasscode: iMm04v
URL:https://nordichealthnetwork.com/event/team-training-monday-en/2027-03-29/
LOCATION:Online\, online\, Netherlands
CATEGORIES:Internal
ATTACH;FMTTYPE=image/jpeg:https://nordichealthnetwork.com/wp-content/uploads/Team-Training6.jpg
END:VEVENT
BEGIN:VEVENT
DTSTART;TZID=Europe/Amsterdam:20270405T200000
DTEND;TZID=Europe/Amsterdam:20270405T210000
DTSTAMP:20260422T035553
CREATED:20260309T163523Z
LAST-MODIFIED:20260313T132306Z
UID:10000366-1806955200-1806958800@nordichealthnetwork.com
SUMMARY:Team Training (EN)
DESCRIPTION:Simon Widler is inviting you to a scheduled Zoom meeting. \nTopic: Simon Widler’s Personal Meeting Room\nJoin Zoom Meeting\nhttps://us06web.zoom.us/j/7050586587?pwd=eTdNaU5Ya0dJS0h0bWtrRUZHaHFCZz09 \nMeeting ID: 705 058 6587\nPasscode: iMm04v
URL:https://nordichealthnetwork.com/event/team-training-monday-en/2027-04-05/
LOCATION:Online\, online\, Netherlands
CATEGORIES:Internal
ATTACH;FMTTYPE=image/jpeg:https://nordichealthnetwork.com/wp-content/uploads/Team-Training6.jpg
END:VEVENT
BEGIN:VEVENT
DTSTART;TZID=Europe/Amsterdam:20270412T200000
DTEND;TZID=Europe/Amsterdam:20270412T210000
DTSTAMP:20260422T035553
CREATED:20260309T163523Z
LAST-MODIFIED:20260313T132306Z
UID:10000367-1807560000-1807563600@nordichealthnetwork.com
SUMMARY:Team Training (EN)
DESCRIPTION:Simon Widler is inviting you to a scheduled Zoom meeting. \nTopic: Simon Widler’s Personal Meeting Room\nJoin Zoom Meeting\nhttps://us06web.zoom.us/j/7050586587?pwd=eTdNaU5Ya0dJS0h0bWtrRUZHaHFCZz09 \nMeeting ID: 705 058 6587\nPasscode: iMm04v
URL:https://nordichealthnetwork.com/event/team-training-monday-en/2027-04-12/
LOCATION:Online\, online\, Netherlands
CATEGORIES:Internal
ATTACH;FMTTYPE=image/jpeg:https://nordichealthnetwork.com/wp-content/uploads/Team-Training6.jpg
END:VEVENT
BEGIN:VEVENT
DTSTART;TZID=Europe/Amsterdam:20270419T200000
DTEND;TZID=Europe/Amsterdam:20270419T210000
DTSTAMP:20260422T035553
CREATED:20260309T163523Z
LAST-MODIFIED:20260313T132306Z
UID:10000368-1808164800-1808168400@nordichealthnetwork.com
SUMMARY:Team Training (EN)
DESCRIPTION:Simon Widler is inviting you to a scheduled Zoom meeting. \nTopic: Simon Widler’s Personal Meeting Room\nJoin Zoom Meeting\nhttps://us06web.zoom.us/j/7050586587?pwd=eTdNaU5Ya0dJS0h0bWtrRUZHaHFCZz09 \nMeeting ID: 705 058 6587\nPasscode: iMm04v
URL:https://nordichealthnetwork.com/event/team-training-monday-en/2027-04-19/
LOCATION:Online\, online\, Netherlands
CATEGORIES:Internal
ATTACH;FMTTYPE=image/jpeg:https://nordichealthnetwork.com/wp-content/uploads/Team-Training6.jpg
END:VEVENT
BEGIN:VEVENT
DTSTART;TZID=Europe/Amsterdam:20270426T200000
DTEND;TZID=Europe/Amsterdam:20270426T210000
DTSTAMP:20260422T035553
CREATED:20260309T163523Z
LAST-MODIFIED:20260313T132306Z
UID:10000369-1808769600-1808773200@nordichealthnetwork.com
SUMMARY:Team Training (EN)
DESCRIPTION:Simon Widler is inviting you to a scheduled Zoom meeting. \nTopic: Simon Widler’s Personal Meeting Room\nJoin Zoom Meeting\nhttps://us06web.zoom.us/j/7050586587?pwd=eTdNaU5Ya0dJS0h0bWtrRUZHaHFCZz09 \nMeeting ID: 705 058 6587\nPasscode: iMm04v
URL:https://nordichealthnetwork.com/event/team-training-monday-en/2027-04-26/
LOCATION:Online\, online\, Netherlands
CATEGORIES:Internal
ATTACH;FMTTYPE=image/jpeg:https://nordichealthnetwork.com/wp-content/uploads/Team-Training6.jpg
END:VEVENT
BEGIN:VEVENT
DTSTART;TZID=Europe/Amsterdam:20270503T200000
DTEND;TZID=Europe/Amsterdam:20270503T210000
DTSTAMP:20260422T035553
CREATED:20260309T163523Z
LAST-MODIFIED:20260313T132306Z
UID:10000370-1809374400-1809378000@nordichealthnetwork.com
SUMMARY:Team Training (EN)
DESCRIPTION:Simon Widler is inviting you to a scheduled Zoom meeting. \nTopic: Simon Widler’s Personal Meeting Room\nJoin Zoom Meeting\nhttps://us06web.zoom.us/j/7050586587?pwd=eTdNaU5Ya0dJS0h0bWtrRUZHaHFCZz09 \nMeeting ID: 705 058 6587\nPasscode: iMm04v
URL:https://nordichealthnetwork.com/event/team-training-monday-en/2027-05-03/
LOCATION:Online\, online\, Netherlands
CATEGORIES:Internal
ATTACH;FMTTYPE=image/jpeg:https://nordichealthnetwork.com/wp-content/uploads/Team-Training6.jpg
END:VEVENT
BEGIN:VEVENT
DTSTART;TZID=Europe/Amsterdam:20270510T200000
DTEND;TZID=Europe/Amsterdam:20270510T210000
DTSTAMP:20260422T035553
CREATED:20260309T163523Z
LAST-MODIFIED:20260313T132306Z
UID:10000371-1809979200-1809982800@nordichealthnetwork.com
SUMMARY:Team Training (EN)
DESCRIPTION:Simon Widler is inviting you to a scheduled Zoom meeting. \nTopic: Simon Widler’s Personal Meeting Room\nJoin Zoom Meeting\nhttps://us06web.zoom.us/j/7050586587?pwd=eTdNaU5Ya0dJS0h0bWtrRUZHaHFCZz09 \nMeeting ID: 705 058 6587\nPasscode: iMm04v
URL:https://nordichealthnetwork.com/event/team-training-monday-en/2027-05-10/
LOCATION:Online\, online\, Netherlands
CATEGORIES:Internal
ATTACH;FMTTYPE=image/jpeg:https://nordichealthnetwork.com/wp-content/uploads/Team-Training6.jpg
END:VEVENT
BEGIN:VEVENT
DTSTART;TZID=Europe/Amsterdam:20270517T200000
DTEND;TZID=Europe/Amsterdam:20270517T210000
DTSTAMP:20260422T035553
CREATED:20260309T163523Z
LAST-MODIFIED:20260313T132306Z
UID:10000372-1810584000-1810587600@nordichealthnetwork.com
SUMMARY:Team Training (EN)
DESCRIPTION:Simon Widler is inviting you to a scheduled Zoom meeting. \nTopic: Simon Widler’s Personal Meeting Room\nJoin Zoom Meeting\nhttps://us06web.zoom.us/j/7050586587?pwd=eTdNaU5Ya0dJS0h0bWtrRUZHaHFCZz09 \nMeeting ID: 705 058 6587\nPasscode: iMm04v
URL:https://nordichealthnetwork.com/event/team-training-monday-en/2027-05-17/
LOCATION:Online\, online\, Netherlands
CATEGORIES:Internal
ATTACH;FMTTYPE=image/jpeg:https://nordichealthnetwork.com/wp-content/uploads/Team-Training6.jpg
END:VEVENT
BEGIN:VEVENT
DTSTART;TZID=Europe/Amsterdam:20270524T200000
DTEND;TZID=Europe/Amsterdam:20270524T210000
DTSTAMP:20260422T035553
CREATED:20260309T163523Z
LAST-MODIFIED:20260313T132306Z
UID:10000373-1811188800-1811192400@nordichealthnetwork.com
SUMMARY:Team Training (EN)
DESCRIPTION:Simon Widler is inviting you to a scheduled Zoom meeting. \nTopic: Simon Widler’s Personal Meeting Room\nJoin Zoom Meeting\nhttps://us06web.zoom.us/j/7050586587?pwd=eTdNaU5Ya0dJS0h0bWtrRUZHaHFCZz09 \nMeeting ID: 705 058 6587\nPasscode: iMm04v
URL:https://nordichealthnetwork.com/event/team-training-monday-en/2027-05-24/
LOCATION:Online\, online\, Netherlands
CATEGORIES:Internal
ATTACH;FMTTYPE=image/jpeg:https://nordichealthnetwork.com/wp-content/uploads/Team-Training6.jpg
END:VEVENT
BEGIN:VEVENT
DTSTART;TZID=Europe/Amsterdam:20270531T200000
DTEND;TZID=Europe/Amsterdam:20270531T210000
DTSTAMP:20260422T035553
CREATED:20260309T163523Z
LAST-MODIFIED:20260313T132306Z
UID:10000374-1811793600-1811797200@nordichealthnetwork.com
SUMMARY:Team Training (EN)
DESCRIPTION:Simon Widler is inviting you to a scheduled Zoom meeting. \nTopic: Simon Widler’s Personal Meeting Room\nJoin Zoom Meeting\nhttps://us06web.zoom.us/j/7050586587?pwd=eTdNaU5Ya0dJS0h0bWtrRUZHaHFCZz09 \nMeeting ID: 705 058 6587\nPasscode: iMm04v
URL:https://nordichealthnetwork.com/event/team-training-monday-en/2027-05-31/
LOCATION:Online\, online\, Netherlands
CATEGORIES:Internal
ATTACH;FMTTYPE=image/jpeg:https://nordichealthnetwork.com/wp-content/uploads/Team-Training6.jpg
END:VEVENT
BEGIN:VEVENT
DTSTART;TZID=Europe/Amsterdam:20270607T200000
DTEND;TZID=Europe/Amsterdam:20270607T210000
DTSTAMP:20260422T035553
CREATED:20260309T163523Z
LAST-MODIFIED:20260313T132306Z
UID:10000375-1812398400-1812402000@nordichealthnetwork.com
SUMMARY:Team Training (EN)
DESCRIPTION:Simon Widler is inviting you to a scheduled Zoom meeting. \nTopic: Simon Widler’s Personal Meeting Room\nJoin Zoom Meeting\nhttps://us06web.zoom.us/j/7050586587?pwd=eTdNaU5Ya0dJS0h0bWtrRUZHaHFCZz09 \nMeeting ID: 705 058 6587\nPasscode: iMm04v
URL:https://nordichealthnetwork.com/event/team-training-monday-en/2027-06-07/
LOCATION:Online\, online\, Netherlands
CATEGORIES:Internal
ATTACH;FMTTYPE=image/jpeg:https://nordichealthnetwork.com/wp-content/uploads/Team-Training6.jpg
END:VEVENT
BEGIN:VEVENT
DTSTART;TZID=Europe/Amsterdam:20270614T200000
DTEND;TZID=Europe/Amsterdam:20270614T210000
DTSTAMP:20260422T035553
CREATED:20260309T163523Z
LAST-MODIFIED:20260313T132306Z
UID:10000376-1813003200-1813006800@nordichealthnetwork.com
SUMMARY:Team Training (EN)
DESCRIPTION:Simon Widler is inviting you to a scheduled Zoom meeting. \nTopic: Simon Widler’s Personal Meeting Room\nJoin Zoom Meeting\nhttps://us06web.zoom.us/j/7050586587?pwd=eTdNaU5Ya0dJS0h0bWtrRUZHaHFCZz09 \nMeeting ID: 705 058 6587\nPasscode: iMm04v
URL:https://nordichealthnetwork.com/event/team-training-monday-en/2027-06-14/
LOCATION:Online\, online\, Netherlands
CATEGORIES:Internal
ATTACH;FMTTYPE=image/jpeg:https://nordichealthnetwork.com/wp-content/uploads/Team-Training6.jpg
END:VEVENT
BEGIN:VEVENT
DTSTART;TZID=Europe/Amsterdam:20270621T200000
DTEND;TZID=Europe/Amsterdam:20270621T210000
DTSTAMP:20260422T035553
CREATED:20260309T163523Z
LAST-MODIFIED:20260313T132306Z
UID:10000377-1813608000-1813611600@nordichealthnetwork.com
SUMMARY:Team Training (EN)
DESCRIPTION:Simon Widler is inviting you to a scheduled Zoom meeting. \nTopic: Simon Widler’s Personal Meeting Room\nJoin Zoom Meeting\nhttps://us06web.zoom.us/j/7050586587?pwd=eTdNaU5Ya0dJS0h0bWtrRUZHaHFCZz09 \nMeeting ID: 705 058 6587\nPasscode: iMm04v
URL:https://nordichealthnetwork.com/event/team-training-monday-en/2027-06-21/
LOCATION:Online\, online\, Netherlands
CATEGORIES:Internal
ATTACH;FMTTYPE=image/jpeg:https://nordichealthnetwork.com/wp-content/uploads/Team-Training6.jpg
END:VEVENT
BEGIN:VEVENT
DTSTART;TZID=Europe/Amsterdam:20270628T200000
DTEND;TZID=Europe/Amsterdam:20270628T210000
DTSTAMP:20260422T035553
CREATED:20260309T163523Z
LAST-MODIFIED:20260313T132306Z
UID:10000378-1814212800-1814216400@nordichealthnetwork.com
SUMMARY:Team Training (EN)
DESCRIPTION:Simon Widler is inviting you to a scheduled Zoom meeting. \nTopic: Simon Widler’s Personal Meeting Room\nJoin Zoom Meeting\nhttps://us06web.zoom.us/j/7050586587?pwd=eTdNaU5Ya0dJS0h0bWtrRUZHaHFCZz09 \nMeeting ID: 705 058 6587\nPasscode: iMm04v
URL:https://nordichealthnetwork.com/event/team-training-monday-en/2027-06-28/
LOCATION:Online\, online\, Netherlands
CATEGORIES:Internal
ATTACH;FMTTYPE=image/jpeg:https://nordichealthnetwork.com/wp-content/uploads/Team-Training6.jpg
END:VEVENT
BEGIN:VEVENT
DTSTART;TZID=Europe/Amsterdam:20270705T200000
DTEND;TZID=Europe/Amsterdam:20270705T210000
DTSTAMP:20260422T035553
CREATED:20260309T163523Z
LAST-MODIFIED:20260313T132306Z
UID:10000379-1814817600-1814821200@nordichealthnetwork.com
SUMMARY:Team Training (EN)
DESCRIPTION:Simon Widler is inviting you to a scheduled Zoom meeting. \nTopic: Simon Widler’s Personal Meeting Room\nJoin Zoom Meeting\nhttps://us06web.zoom.us/j/7050586587?pwd=eTdNaU5Ya0dJS0h0bWtrRUZHaHFCZz09 \nMeeting ID: 705 058 6587\nPasscode: iMm04v
URL:https://nordichealthnetwork.com/event/team-training-monday-en/2027-07-05/
LOCATION:Online\, online\, Netherlands
CATEGORIES:Internal
ATTACH;FMTTYPE=image/jpeg:https://nordichealthnetwork.com/wp-content/uploads/Team-Training6.jpg
END:VEVENT
BEGIN:VEVENT
DTSTART;TZID=Europe/Amsterdam:20270712T200000
DTEND;TZID=Europe/Amsterdam:20270712T210000
DTSTAMP:20260422T035553
CREATED:20260309T163523Z
LAST-MODIFIED:20260313T132306Z
UID:10000380-1815422400-1815426000@nordichealthnetwork.com
SUMMARY:Team Training (EN)
DESCRIPTION:Simon Widler is inviting you to a scheduled Zoom meeting. \nTopic: Simon Widler’s Personal Meeting Room\nJoin Zoom Meeting\nhttps://us06web.zoom.us/j/7050586587?pwd=eTdNaU5Ya0dJS0h0bWtrRUZHaHFCZz09 \nMeeting ID: 705 058 6587\nPasscode: iMm04v
URL:https://nordichealthnetwork.com/event/team-training-monday-en/2027-07-12/
LOCATION:Online\, online\, Netherlands
CATEGORIES:Internal
ATTACH;FMTTYPE=image/jpeg:https://nordichealthnetwork.com/wp-content/uploads/Team-Training6.jpg
END:VEVENT
BEGIN:VEVENT
DTSTART;TZID=Europe/Amsterdam:20270719T200000
DTEND;TZID=Europe/Amsterdam:20270719T210000
DTSTAMP:20260422T035553
CREATED:20260309T163523Z
LAST-MODIFIED:20260313T132306Z
UID:10000381-1816027200-1816030800@nordichealthnetwork.com
SUMMARY:Team Training (EN)
DESCRIPTION:Simon Widler is inviting you to a scheduled Zoom meeting. \nTopic: Simon Widler’s Personal Meeting Room\nJoin Zoom Meeting\nhttps://us06web.zoom.us/j/7050586587?pwd=eTdNaU5Ya0dJS0h0bWtrRUZHaHFCZz09 \nMeeting ID: 705 058 6587\nPasscode: iMm04v
URL:https://nordichealthnetwork.com/event/team-training-monday-en/2027-07-19/
LOCATION:Online\, online\, Netherlands
CATEGORIES:Internal
ATTACH;FMTTYPE=image/jpeg:https://nordichealthnetwork.com/wp-content/uploads/Team-Training6.jpg
END:VEVENT
END:VCALENDAR