BEGIN:VCALENDAR
VERSION:2.0
PRODID:-//Nordic Health Network - ECPv6.15.20//NONSGML v1.0//EN
CALSCALE:GREGORIAN
METHOD:PUBLISH
X-WR-CALNAME:Nordic Health Network
X-ORIGINAL-URL:https://nordichealthnetwork.com
X-WR-CALDESC:Events for Nordic Health Network
REFRESH-INTERVAL;VALUE=DURATION:PT1H
X-Robots-Tag:noindex
X-PUBLISHED-TTL:PT1H
BEGIN:VTIMEZONE
TZID:Europe/Amsterdam
BEGIN:DAYLIGHT
TZOFFSETFROM:+0100
TZOFFSETTO:+0200
TZNAME:CEST
DTSTART:20250330T010000
END:DAYLIGHT
BEGIN:STANDARD
TZOFFSETFROM:+0200
TZOFFSETTO:+0100
TZNAME:CET
DTSTART:20251026T010000
END:STANDARD
BEGIN:DAYLIGHT
TZOFFSETFROM:+0100
TZOFFSETTO:+0200
TZNAME:CEST
DTSTART:20260329T010000
END:DAYLIGHT
BEGIN:STANDARD
TZOFFSETFROM:+0200
TZOFFSETTO:+0100
TZNAME:CET
DTSTART:20261025T010000
END:STANDARD
BEGIN:DAYLIGHT
TZOFFSETFROM:+0100
TZOFFSETTO:+0200
TZNAME:CEST
DTSTART:20270328T010000
END:DAYLIGHT
BEGIN:STANDARD
TZOFFSETFROM:+0200
TZOFFSETTO:+0100
TZNAME:CET
DTSTART:20271031T010000
END:STANDARD
END:VTIMEZONE
BEGIN:VEVENT
DTSTART;TZID=Europe/Amsterdam:20260209T210000
DTEND;TZID=Europe/Amsterdam:20260209T213000
DTSTAMP:20260421T222721
CREATED:20260202T174734Z
LAST-MODIFIED:20260205T084039Z
UID:10000031-1770670800-1770672600@nordichealthnetwork.com
SUMMARY:UK Launch Call
DESCRIPTION:Boosting success across European markets\n\n\n\n\n\n\n\n\nWe are excited to launch the UK Growth Initiative\, our latest step in boosting success across European markets. The first two UK events have been announced: \n18th March – London\n19th March – Nottingham \nAll Business Partners who are motivated and want to learn more are invited to join an introductory call on February 9 at 21:00 CET to hear about our plans and how they can get involved. \nThis is an exciting step toward growing our community and helping Business Partners thrive all over Europe! \n  \nZoom Link: \nhttps://us06web.zoom.us/meeting/register/_DAs4mViQHWvdRyUTAHjUA \n 
URL:https://nordichealthnetwork.com/event/uk-launch-call/
LOCATION:Online\, online\, Netherlands
CATEGORIES:Internal
END:VEVENT
BEGIN:VEVENT
DTSTART;TZID=Europe/Amsterdam:20260209T200000
DTEND;TZID=Europe/Amsterdam:20260209T210000
DTSTAMP:20260421T222721
CREATED:20260127T111344Z
LAST-MODIFIED:20260127T111356Z
UID:10000022-1770667200-1770670800@nordichealthnetwork.com
SUMMARY:Team Training (EN)
DESCRIPTION:TBA \nSimon Widler is inviting you to a scheduled Zoom meeting. \nTopic: Simon Widler’s Personal Meeting Room\nJoin Zoom Meeting\nhttps://us06web.zoom.us/j/7050586587?pwd=eTdNaU5Ya0dJS0h0bWtrRUZHaHFCZz09 \nMeeting ID: 705 058 6587\nPasscode: iMm04v
URL:https://nordichealthnetwork.com/event/team-training-en-copy/
LOCATION:Online\, online\, Netherlands
CATEGORIES:Internal
ATTACH;FMTTYPE=image/jpeg:https://nordichealthnetwork.com/wp-content/uploads/Team-Training6.jpg
END:VEVENT
BEGIN:VEVENT
DTSTART;TZID=Europe/Amsterdam:20260204T193000
DTEND;TZID=Europe/Amsterdam:20260204T203000
DTSTAMP:20260421T222721
CREATED:20260128T164514Z
LAST-MODIFIED:20260129T175215Z
UID:10000030-1770233400-1770237000@nordichealthnetwork.com
SUMMARY:Health Event: Eqology & Female Hormone Health (NL)
DESCRIPTION:Je goed voelen als vrouw start bij de balans in je hormonen. 💗 \nIn dit webinar leer je wat de rol is van omega-3 vetzuren en de juiste vitaminen op je hormoonsystemen. En welke gevolgen het kan hebben als deze niet optimaal in balans zijn. \nDenk dan aan PMS-klachten\, PCOS\, overgansklachten\, stemmingswisselingen\, menstruatiepijn\, onregelmatige of uitblijvende cyclus\, brainfog\, schildklierklachten en hormonale acne. \nJe leert hoe je je inzicht krijgt in je tekorten middels testen\, hoe je dit op een verantwoordelijke manier kunt aanpakken en welke praktische stappen je kunt zetten om je hormonen te ondersteunen. \n  \nOnderwerp: Eqology & vrouwelijke hormonen\nTijd: 4 feb 2026 07:30 p.m. Amsterdam\nDeelnemen aan Zoom-vergadering\nhttps://us06web.zoom.us/j/82248388913 \nVergadering-ID: 822 4838 8913
URL:https://nordichealthnetwork.com/event/health-event-eqology-female-hormone-health-nl-2/
LOCATION:Online\, online\, Netherlands
CATEGORIES:Health Events,Public
ATTACH;FMTTYPE=image/png:https://nordichealthnetwork.com/wp-content/uploads/female-hormon-health.png
END:VEVENT
BEGIN:VEVENT
DTSTART;TZID=Europe/Amsterdam:20260203T193000
DTEND;TZID=Europe/Amsterdam:20260203T210000
DTSTAMP:20260421T222721
CREATED:20260115T092610Z
LAST-MODIFIED:20260115T092610Z
UID:10000015-1770147000-1770152400@nordichealthnetwork.com
SUMMARY:Business Opportunity Meeting Apeldoorn (NL)
DESCRIPTION:An excellent opportunity to introduce yourself and your guests to Eqology and its unique concept of Health\, Finance & Time. \nDuring this meeting\, you’ll learn more about the company\, its products\, and the innovative business model that is creating new growth opportunities in the Netherlands. You’re welcome to attend with guests or on your own — to connect\, learn\, and be inspired by fellow Business Partners. \nThe atmosphere is informal and relaxed. \nDoors open at 7:15 PM. \nWe look forward to seeing you at this valuable meeting!
URL:https://nordichealthnetwork.com/event/business-opportunity-meeting-apeldoorn-nl-2/
LOCATION:Marry’s Kruidentuin\, Engeland 25\, Beekbergen\, 7361 CS\, Netherlands
CATEGORIES:Business Opportunity,Public
ATTACH;FMTTYPE=image/png:https://nordichealthnetwork.com/wp-content/uploads/ChatGPT-Image-Jan-6-2026-12_23_25-PM.png
ORGANIZER;CN="Sandra & Leen":MAILTO:sandra.quartel@eqology.biz
END:VEVENT
BEGIN:VEVENT
DTSTART;TZID=Europe/Amsterdam:20260203T191500
DTEND;TZID=Europe/Amsterdam:20260203T203000
DTSTAMP:20260421T222721
CREATED:20260126T135001Z
LAST-MODIFIED:20260126T135001Z
UID:10000019-1770146100-1770150600@nordichealthnetwork.com
SUMMARY:Business Opportunity Meeting Zwolle (NL)
DESCRIPTION:An excellent opportunity to introduce yourself and your guests to Eqology and its unique concept of Health\, Finance & Time. \nDuring this meeting\, you’ll learn more about the company\, its products\, and the innovative business model that is creating new growth opportunities in the Netherlands. You’re welcome to attend with guests or on your own — to connect\, learn\, and be inspired by fellow Business Partners. \nThe atmosphere is informal and relaxed. \nDoors open at 7:00 PM. \nWe look forward to seeing you at this valuable meeting!
URL:https://nordichealthnetwork.com/event/business-opportunity-meeting-zwolle-nl/
LOCATION:Bistro de Stadshoeve\, Arendshorstlaan 23\, Zwolle\, 8043VE\, Netherlands
CATEGORIES:Business Opportunity,Public
ATTACH;FMTTYPE=image/png:https://nordichealthnetwork.com/wp-content/uploads/ChatGPT-Image-Jan-6-2026-12_23_25-PM.png
END:VEVENT
BEGIN:VEVENT
DTSTART;TZID=Europe/Amsterdam:20260202T200000
DTEND;TZID=Europe/Amsterdam:20260202T210000
DTSTAMP:20260421T222721
CREATED:20260127T111303Z
LAST-MODIFIED:20260127T111303Z
UID:10000021-1770062400-1770066000@nordichealthnetwork.com
SUMMARY:Team Training (EN)
DESCRIPTION:TBA \nSimon Widler is inviting you to a scheduled Zoom meeting. \nTopic: Simon Widler’s Personal Meeting Room\nJoin Zoom Meeting\nhttps://us06web.zoom.us/j/7050586587?pwd=eTdNaU5Ya0dJS0h0bWtrRUZHaHFCZz09 \nMeeting ID: 705 058 6587\nPasscode: iMm04v
URL:https://nordichealthnetwork.com/event/team-training-en-2/
LOCATION:Online\, online\, Netherlands
CATEGORIES:Internal
ATTACH;FMTTYPE=image/jpeg:https://nordichealthnetwork.com/wp-content/uploads/Team-Training6.jpg
END:VEVENT
BEGIN:VEVENT
DTSTART;TZID=Europe/Amsterdam:20260129T200000
DTEND;TZID=Europe/Amsterdam:20260129T210000
DTSTAMP:20260421T222721
CREATED:20260111T130726Z
LAST-MODIFIED:20260126T105207Z
UID:10000012-1769716800-1769720400@nordichealthnetwork.com
SUMMARY:Health Event: Eqology & Broad Blood Work Case Study (EN)
DESCRIPTION:This session is about Nordine Hamels personal health journey — told through data: \nI’ll share how my blood markers evolved over the years\, and what changed after implementing consistent\, high-quality omega-3 supplementation.\nBeyond lab results\, I’ll touch on how I actually felt day to day\, including digestion\, recovery\, and sleep quality.\nNo theory\, no hype — just one real story\, real measurements\, and the lessons they revealed over time.\nFor anyone curious about long-term health and what blood biomarkers can truly tell you. \n  \n \n  \nHost: Nordine Hamel \nIG: @Nordinehamelfitness \nZoom Link: \nhttps://us06web.zoom.us/j/88020888774?pwd=R9FXim34WF275L5atmfz4undcab1Lb.1 \n 
URL:https://nordichealthnetwork.com/event/health-event-eqology-broad-blood-work-case-study-en/
LOCATION:Online\, online\, Netherlands
CATEGORIES:Health Events,Public
ATTACH;FMTTYPE=image/png:https://nordichealthnetwork.com/wp-content/uploads/bloodwork-and-eq.png
END:VEVENT
BEGIN:VEVENT
DTSTART;TZID=Europe/Amsterdam:20260126T200000
DTEND;TZID=Europe/Amsterdam:20260126T210000
DTSTAMP:20260421T222721
CREATED:20260111T130944Z
LAST-MODIFIED:20260111T130944Z
UID:10000013-1769457600-1769461200@nordichealthnetwork.com
SUMMARY:Team Training (EN)
DESCRIPTION:Story Telling\, questions and objections. Learn how to recognize curiosity\, skepticism and how simple stories can make all conversations flow easily. \n  \nSimon Widler is inviting you to a scheduled Zoom meeting. \nTopic: Simon Widler’s Personal Meeting Room\nJoin Zoom Meeting\nhttps://us06web.zoom.us/j/7050586587?pwd=eTdNaU5Ya0dJS0h0bWtrRUZHaHFCZz09 \nMeeting ID: 705 058 6587\nPasscode: iMm04v
URL:https://nordichealthnetwork.com/event/team-training-en/
LOCATION:Online\, online\, Netherlands
CATEGORIES:Internal
ATTACH;FMTTYPE=image/jpeg:https://nordichealthnetwork.com/wp-content/uploads/Team-Training6.jpg
END:VEVENT
BEGIN:VEVENT
DTSTART;TZID=Europe/Amsterdam:20260125T130000
DTEND;TZID=Europe/Amsterdam:20260125T170000
DTSTAMP:20260421T222721
CREATED:20260106T193017Z
LAST-MODIFIED:20260106T193017Z
UID:10000010-1769346000-1769360400@nordichealthnetwork.com
SUMMARY:Kick-Off Event Zwolle (NL)
DESCRIPTION:This afternoon is fully dedicated to inspiration\, connection\, and collaboration. \nTogether\, we will look ahead and not only set meaningful and achievable goals for the new year 🎯\, but also provide you with concrete tools\, practical tips\, and insights to turn those goals into action and results. \nWe are currently putting together an inspiring and valuable program. \nA small preview? \n\n\nHow to pitch a sales conversation \n\n\nAn in-depth talk on sports and omega-3 \n\n\nHow to create leadership — and therefore growth — within your team \n\n\nMore information will be shared in due course. \nLocation:Lumen\, Zwolle \nSchedule:Doors open at 12:00Program from 1:00 PM – 4:30 PM \nInvestment:€29.95 early bird (afterwards €34.95) \nIncludes coffee\, tea\, water\, and a 🥂 drink
URL:https://nordichealthnetwork.com/event/kick-off-event-zwolle-nl/
CATEGORIES:Internal
ATTACH;FMTTYPE=image/jpeg:https://nordichealthnetwork.com/wp-content/uploads/Zwolle-kickoff.jpeg
END:VEVENT
BEGIN:VEVENT
DTSTART;TZID=Europe/Amsterdam:20260122T193000
DTEND;TZID=Europe/Amsterdam:20260122T203000
DTSTAMP:20260421T222721
CREATED:20260111T130019Z
LAST-MODIFIED:20260119T134709Z
UID:10000011-1769110200-1769113800@nordichealthnetwork.com
SUMMARY:Health Event: Eqology & Female Hormone Health (NL)
DESCRIPTION:Je goed voelen als vrouw start bij de balans in je hormonen. 💗 \nIn dit webinar leer je wat de rol is van omega-3 vetzuren en de juiste vitaminen op je hormoonsystemen. En welke gevolgen het kan hebben als deze niet optimaal in balans zijn. \nDenk dan aan PMS-klachten\, PCOS\, overgansklachten\, stemmingswisselingen\, menstruatiepijn\, onregelmatige of uitblijvende cyclus\, brainfog\, schildklierklachten en hormonale acne. \nJe leert hoe je je inzicht krijgt in je tekorten middels testen\, hoe je dit op een verantwoordelijke manier kunt aanpakken en welke praktische stappen je kunt zetten om je hormonen te ondersteunen. \n  \nKirsten heeft u uitgenodigd voor een geplande Zoom-vergadering. \nOnderwerp: Eqology & Hormonen\nTijd: 22 jan 2026 07:30 p.m. Amsterdam\nDeelnemen aan Zoom-vergadering\nhttps://us06web.zoom.us/j/83932839356 \nVergadering-ID: 839 3283 9356
URL:https://nordichealthnetwork.com/event/health-event-eqology-female-hormone-health-nl/
LOCATION:Online\, online\, Netherlands
CATEGORIES:Health Events,Public
ATTACH;FMTTYPE=image/png:https://nordichealthnetwork.com/wp-content/uploads/female-hormon-health.png
END:VEVENT
BEGIN:VEVENT
DTSTART;TZID=Europe/Amsterdam:20260120T191500
DTEND;TZID=Europe/Amsterdam:20260120T203000
DTSTAMP:20260421T222721
CREATED:20260106T155345Z
LAST-MODIFIED:20260111T131600Z
UID:10000008-1768936500-1768941000@nordichealthnetwork.com
SUMMARY:Business Opportunity Meeting Nootdorp (NL)
DESCRIPTION:An excellent opportunity to introduce yourself and your guests to Eqology and its unique concept of Health\, Finance & Time. \nDuring this meeting\, you’ll learn more about the company\, its products\, and the innovative business model that is creating new growth opportunities in the Netherlands. You’re welcome to attend with guests or on your own — to connect\, learn\, and be inspired by fellow Business Partners. \nThe atmosphere is informal and relaxed. \nDoors open at 7:15 PM. \nWe look forward to seeing you at this valuable meeting!
URL:https://nordichealthnetwork.com/event/business-opportunity-meeting-nootdorp/
LOCATION:Nootdorp\, Laan van Ambacht 2N\, Nootdorp\, 2631RD\, Netherlands
CATEGORIES:Business Opportunity,Public
ATTACH;FMTTYPE=image/png:https://nordichealthnetwork.com/wp-content/uploads/ChatGPT-Image-Jan-6-2026-12_23_25-PM.png
END:VEVENT
BEGIN:VEVENT
DTSTART;TZID=Europe/Amsterdam:20260119T200000
DTEND;TZID=Europe/Amsterdam:20260119T210000
DTSTAMP:20260421T222721
CREATED:20260106T150602Z
LAST-MODIFIED:20260106T192619Z
UID:10000005-1768852800-1768856400@nordichealthnetwork.com
SUMMARY:Team Training (EN)
DESCRIPTION:Eqology Development Plan \nBreakdown of each rank + skills attached. Walk away with a clear guide on what’s YOUR next step \n  \nSimon Widler is inviting you to a scheduled Zoom meeting. \nTopic: Simon Widler’s Personal Meeting Room\nJoin Zoom Meeting\nhttps://us06web.zoom.us/j/7050586587?pwd=eTdNaU5Ya0dJS0h0bWtrRUZHaHFCZz09 \nMeeting ID: 705 058 6587\nPasscode: iMm04v
URL:https://nordichealthnetwork.com/event/team-training-2/
LOCATION:Online\, online\, Netherlands
CATEGORIES:Internal
ATTACH;FMTTYPE=image/jpeg:https://nordichealthnetwork.com/wp-content/uploads/Team-Training6.jpg
END:VEVENT
BEGIN:VEVENT
DTSTART;TZID=Europe/Amsterdam:20260115T200000
DTEND;TZID=Europe/Amsterdam:20260115T210000
DTSTAMP:20260421T222721
CREATED:20260106T150338Z
LAST-MODIFIED:20260106T192607Z
UID:10000004-1768507200-1768510800@nordichealthnetwork.com
SUMMARY:Health Event Eqology & Sports (EN)
DESCRIPTION:Recovery\, Performance & Injury Prevention Event\nOptimal performance starts on the inside. This event explores how micronutrients\, testing\, and targeted recovery strategies support athletic performance\, resilience\, and long-term health. \nWe take a practical look at how vitamins\, minerals\, fatty acids\, and antioxidants influence energy production\, muscle function\, recovery\, and injury prevention — and why individualized testing is key to understanding what your body actually needs. \nYou’ll learn how modern testing methods can reveal hidden deficiencies\, guide smarter supplementation\, and help athletes train harder while reducing the risk of overload and injury. We also connect the dots between nutrition\, inflammation\, recovery\, and sustainable performance across all levels of sport. \nDrawing on evidence-based approaches and the holistic philosophy behind Eqology\, this event is designed for athletes\, coaches\, and active individuals who want to move beyond guesswork and build performance on a solid biological foundation. \nTrain smarter. Recover better. Perform longer. \nSimon Widler is inviting you to a scheduled Zoom meeting. \nTopic: Sports & Eqology\nTime: Jan 15\, 2026 08:00 PM Amsterdam\nJoin Zoom Meeting\nhttps://us06web.zoom.us/j/87800127595 \nMeeting ID: 878 0012 7595
URL:https://nordichealthnetwork.com/event/health-event-eqology-sports/
LOCATION:Online\, online\, Netherlands
CATEGORIES:Health Events,Public
ATTACH;FMTTYPE=image/png:https://nordichealthnetwork.com/wp-content/uploads/ChatGPT-Image-Jan-6-2026-12_07_08-PM.png
END:VEVENT
BEGIN:VEVENT
DTSTART;TZID=Europe/Amsterdam:20260114T190000
DTEND;TZID=Europe/Amsterdam:20260114T203000
DTSTAMP:20260421T222721
CREATED:20260106T150957Z
LAST-MODIFIED:20260106T192446Z
UID:10000006-1768417200-1768422600@nordichealthnetwork.com
SUMMARY:Business Opportunity Meeting Haarlem (EN)
DESCRIPTION:An excellent opportunity to introduce yourself and your guests to Eqology and its unique concept of Health\, Finance & Time. \nDuring this meeting\, you’ll learn more about the company\, its products\, and the innovative business model that is creating new growth opportunities in the Netherlands. You’re welcome to attend with guests or on your own — to connect\, learn\, and be inspired by fellow Business Partners. \nThe atmosphere is informal and relaxed. \nDoors open at 7:00 PM. \nWe look forward to seeing you at this valuable meeting!
URL:https://nordichealthnetwork.com/event/business-opportunity-meeting-haarlem/
LOCATION:Locael Centraal\, Kennemerplein 6\, Haarlem\, Holland\, 2011 MJ\, Netherlands
CATEGORIES:Business Opportunity,Public
ATTACH;FMTTYPE=image/png:https://nordichealthnetwork.com/wp-content/uploads/ChatGPT-Image-Jan-6-2026-12_23_25-PM.png
END:VEVENT
BEGIN:VEVENT
DTSTART;TZID=Europe/Amsterdam:20260112T200000
DTEND;TZID=Europe/Amsterdam:20260112T210000
DTSTAMP:20260421T222721
CREATED:20260106T140237Z
LAST-MODIFIED:20260106T192556Z
UID:10000003-1768248000-1768251600@nordichealthnetwork.com
SUMMARY:Team Training (EN)
DESCRIPTION:Everyone enters this business from a different starting point. What creates long-term results isn’t speed or talent\, but ownership\, commitment\, and consistency. \nIn this training we focus on what it really means to own your journey — choosing your pace\, taking responsibility for your growth\, and staying aligned with the team and the process. \nWhat we’ll cover\n\n\nWhat ownership looks like in practice \n\n\nHow commitment is built (not forced) \n\n\nCreating consistency without burnout \n\n\nTaking responsibility for your growth and results \n\n\nInternal training – partners onlyOptional Q&A and discussion at the end. \n\nSustainable growth starts with ownership.
URL:https://nordichealthnetwork.com/event/team-training/
LOCATION:Online\, online\, Netherlands
CATEGORIES:Internal
ATTACH;FMTTYPE=image/jpeg:https://nordichealthnetwork.com/wp-content/uploads/Team-Training6.jpg
END:VEVENT
BEGIN:VEVENT
DTSTART;TZID=Europe/Amsterdam:20260112T191500
DTEND;TZID=Europe/Amsterdam:20260112T203000
DTSTAMP:20260421T222721
CREATED:20260106T153624Z
LAST-MODIFIED:20260106T192451Z
UID:10000007-1768245300-1768249800@nordichealthnetwork.com
SUMMARY:Business Opportunity Meeting Zwolle (NL)
DESCRIPTION:An excellent opportunity to introduce yourself and your guests to Eqology and its unique concept of Health\, Finance & Time. \nDuring this meeting\, you’ll learn more about the company\, its products\, and the innovative business model that is creating new growth opportunities in the Netherlands. You’re welcome to attend with guests or on your own — to connect\, learn\, and be inspired by fellow Business Partners. \nThe atmosphere is informal and relaxed. \nDoors open at 7:00 PM. \nWe look forward to seeing you at this valuable meeting!
URL:https://nordichealthnetwork.com/event/business-opportunity-meeting-zwolle/
LOCATION:Zwembad de Vrolijkheid\, Ossenkamp 7\, Zwolle\, 8024AG\, Netherlands
CATEGORIES:Business Opportunity,Public
ATTACH;FMTTYPE=image/png:https://nordichealthnetwork.com/wp-content/uploads/ChatGPT-Image-Jan-6-2026-12_23_25-PM.png
END:VEVENT
BEGIN:VEVENT
DTSTART;TZID=Europe/Amsterdam:20260111T120000
DTEND;TZID=Europe/Amsterdam:20260111T170000
DTSTAMP:20260421T222721
CREATED:20260106T192231Z
LAST-MODIFIED:20260106T192308Z
UID:10000009-1768132800-1768150800@nordichealthnetwork.com
SUMMARY:Business Opportunity Meeting Apeldoorn (NL)
DESCRIPTION:Sunday\, January 11\, 2026 marks the kickoff of the new year for you\, your team\, and potential business partners at the EQ Kick Off Event 2026 in Apeldoorn. \nThis inspiring afternoon features a varied program covering the company vision\, the innovative product and business concept\, and the latest developments within Eqology. A great opportunity to gain inspiration yourself and introduce your guests to both the health benefits and the business opportunity. \nThe event includes coffee or tea with a healthy treat on arrival\, followed by a festive New Year’s drink to connect\, network\, and toast to a healthy and successful year ahead. \nRegistration opens at 12:00 PM. \nTickets: \n\n\n1 ticket: €30 \n\n\n3-ticket bundle: €60 (1 for you\, 2 for your guests)
URL:https://nordichealthnetwork.com/event/business-opportunity-meeting-apeldoorn-nl/
CATEGORIES:Business Opportunity,Public
ATTACH;FMTTYPE=image/jpeg:https://nordichealthnetwork.com/wp-content/uploads/apeldoorn-bom.jpeg
END:VEVENT
BEGIN:VEVENT
DTSTART;TZID=Europe/Amsterdam:20260107T200000
DTEND;TZID=Europe/Amsterdam:20260107T210000
DTSTAMP:20260421T222721
CREATED:20260106T135040Z
LAST-MODIFIED:20260106T193513Z
UID:10000002-1767816000-1767819600@nordichealthnetwork.com
SUMMARY:Health Event: Eqology & Longevity (EN)
DESCRIPTION:Longevity is not just about living longer — it’s about staying healthy\, vital\, and resilient as we age. This health event is dedicated to the powerful role of Omega-3 fatty acids in supporting long-term health and longevity. \nDuring this event\, we explore how Omega-3 contributes to heart and brain health\, inflammation balance\, cellular aging\, joint function\, and recovery. You’ll gain insight into why Omega-3 is essential at every stage of life and how modern nutrition and testing can help identify individual needs. \nWith a science-based yet practical approach\, we translate research into everyday strategies you can apply immediately. \nThis event is ideal for anyone interested in preventive health\, longevity\, and building a strong foundation for the years ahead. \nBecause healthy years matter just as much as the number of years. \nZoom Invite: \nSimon Widler is inviting you to a scheduled Zoom meeting. \nTopic: Longevity & Eqology\nTime: Jan 7\, 2026 08:00 PM Amsterdam\nJoin Zoom Meeting\nhttps://us06web.zoom.us/j/87407984657 \nMeeting ID: 874 0798 4657
URL:https://nordichealthnetwork.com/event/health-event-longevity/
LOCATION:Online\, online\, Netherlands
CATEGORIES:Health Events,Public
ATTACH;FMTTYPE=image/png:https://nordichealthnetwork.com/wp-content/uploads/ChatGPT-Image-Jan-6-2026-11_27_01-AM.png
END:VEVENT
END:VCALENDAR