BEGIN:VCALENDAR
VERSION:2.0
PRODID:-//Nordic Health Network - ECPv6.15.20//NONSGML v1.0//EN
CALSCALE:GREGORIAN
METHOD:PUBLISH
X-WR-CALNAME:Nordic Health Network
X-ORIGINAL-URL:https://nordichealthnetwork.com
X-WR-CALDESC:Events for Nordic Health Network
REFRESH-INTERVAL;VALUE=DURATION:PT1H
X-Robots-Tag:noindex
X-PUBLISHED-TTL:PT1H
BEGIN:VTIMEZONE
TZID:Europe/Amsterdam
BEGIN:DAYLIGHT
TZOFFSETFROM:+0100
TZOFFSETTO:+0200
TZNAME:CEST
DTSTART:20270328T010000
END:DAYLIGHT
BEGIN:STANDARD
TZOFFSETFROM:+0200
TZOFFSETTO:+0100
TZNAME:CET
DTSTART:20271031T010000
END:STANDARD
BEGIN:DAYLIGHT
TZOFFSETFROM:+0100
TZOFFSETTO:+0200
TZNAME:CEST
DTSTART:20280326T010000
END:DAYLIGHT
BEGIN:STANDARD
TZOFFSETFROM:+0200
TZOFFSETTO:+0100
TZNAME:CET
DTSTART:20281029T010000
END:STANDARD
BEGIN:DAYLIGHT
TZOFFSETFROM:+0100
TZOFFSETTO:+0200
TZNAME:CEST
DTSTART:20290325T010000
END:DAYLIGHT
BEGIN:STANDARD
TZOFFSETFROM:+0200
TZOFFSETTO:+0100
TZNAME:CET
DTSTART:20291028T010000
END:STANDARD
BEGIN:DAYLIGHT
TZOFFSETFROM:+0100
TZOFFSETTO:+0200
TZNAME:CEST
DTSTART:20300331T010000
END:DAYLIGHT
BEGIN:STANDARD
TZOFFSETFROM:+0200
TZOFFSETTO:+0100
TZNAME:CET
DTSTART:20301027T010000
END:STANDARD
END:VTIMEZONE
BEGIN:VEVENT
DTSTART;TZID=Europe/Amsterdam:20281218T200000
DTEND;TZID=Europe/Amsterdam:20281218T210000
DTSTAMP:20260422T144735
CREATED:20260309T163523Z
LAST-MODIFIED:20260313T132306Z
UID:10000455-1860782400-1860786000@nordichealthnetwork.com
SUMMARY:Team Training (EN)
DESCRIPTION:Simon Widler is inviting you to a scheduled Zoom meeting. \nTopic: Simon Widler’s Personal Meeting Room\nJoin Zoom Meeting\nhttps://us06web.zoom.us/j/7050586587?pwd=eTdNaU5Ya0dJS0h0bWtrRUZHaHFCZz09 \nMeeting ID: 705 058 6587\nPasscode: iMm04v
URL:https://nordichealthnetwork.com/event/team-training-monday-en/2028-12-18/
LOCATION:Online\, online\, Netherlands
CATEGORIES:Internal
ATTACH;FMTTYPE=image/jpeg:https://nordichealthnetwork.com/wp-content/uploads/Team-Training6.jpg
END:VEVENT
BEGIN:VEVENT
DTSTART;TZID=Europe/Amsterdam:20281225T200000
DTEND;TZID=Europe/Amsterdam:20281225T210000
DTSTAMP:20260422T144735
CREATED:20260309T163523Z
LAST-MODIFIED:20260313T132306Z
UID:10000456-1861387200-1861390800@nordichealthnetwork.com
SUMMARY:Team Training (EN)
DESCRIPTION:Simon Widler is inviting you to a scheduled Zoom meeting. \nTopic: Simon Widler’s Personal Meeting Room\nJoin Zoom Meeting\nhttps://us06web.zoom.us/j/7050586587?pwd=eTdNaU5Ya0dJS0h0bWtrRUZHaHFCZz09 \nMeeting ID: 705 058 6587\nPasscode: iMm04v
URL:https://nordichealthnetwork.com/event/team-training-monday-en/2028-12-25/
LOCATION:Online\, online\, Netherlands
CATEGORIES:Internal
ATTACH;FMTTYPE=image/jpeg:https://nordichealthnetwork.com/wp-content/uploads/Team-Training6.jpg
END:VEVENT
BEGIN:VEVENT
DTSTART;TZID=Europe/Amsterdam:20290101T200000
DTEND;TZID=Europe/Amsterdam:20290101T210000
DTSTAMP:20260422T144735
CREATED:20260309T163523Z
LAST-MODIFIED:20260313T132306Z
UID:10000457-1861992000-1861995600@nordichealthnetwork.com
SUMMARY:Team Training (EN)
DESCRIPTION:Simon Widler is inviting you to a scheduled Zoom meeting. \nTopic: Simon Widler’s Personal Meeting Room\nJoin Zoom Meeting\nhttps://us06web.zoom.us/j/7050586587?pwd=eTdNaU5Ya0dJS0h0bWtrRUZHaHFCZz09 \nMeeting ID: 705 058 6587\nPasscode: iMm04v
URL:https://nordichealthnetwork.com/event/team-training-monday-en/2029-01-01/
LOCATION:Online\, online\, Netherlands
CATEGORIES:Internal
ATTACH;FMTTYPE=image/jpeg:https://nordichealthnetwork.com/wp-content/uploads/Team-Training6.jpg
END:VEVENT
BEGIN:VEVENT
DTSTART;TZID=Europe/Amsterdam:20290108T200000
DTEND;TZID=Europe/Amsterdam:20290108T210000
DTSTAMP:20260422T144735
CREATED:20260309T163523Z
LAST-MODIFIED:20260313T132306Z
UID:10000458-1862596800-1862600400@nordichealthnetwork.com
SUMMARY:Team Training (EN)
DESCRIPTION:Simon Widler is inviting you to a scheduled Zoom meeting. \nTopic: Simon Widler’s Personal Meeting Room\nJoin Zoom Meeting\nhttps://us06web.zoom.us/j/7050586587?pwd=eTdNaU5Ya0dJS0h0bWtrRUZHaHFCZz09 \nMeeting ID: 705 058 6587\nPasscode: iMm04v
URL:https://nordichealthnetwork.com/event/team-training-monday-en/2029-01-08/
LOCATION:Online\, online\, Netherlands
CATEGORIES:Internal
ATTACH;FMTTYPE=image/jpeg:https://nordichealthnetwork.com/wp-content/uploads/Team-Training6.jpg
END:VEVENT
BEGIN:VEVENT
DTSTART;TZID=Europe/Amsterdam:20290115T200000
DTEND;TZID=Europe/Amsterdam:20290115T210000
DTSTAMP:20260422T144735
CREATED:20260309T163523Z
LAST-MODIFIED:20260313T132306Z
UID:10000459-1863201600-1863205200@nordichealthnetwork.com
SUMMARY:Team Training (EN)
DESCRIPTION:Simon Widler is inviting you to a scheduled Zoom meeting. \nTopic: Simon Widler’s Personal Meeting Room\nJoin Zoom Meeting\nhttps://us06web.zoom.us/j/7050586587?pwd=eTdNaU5Ya0dJS0h0bWtrRUZHaHFCZz09 \nMeeting ID: 705 058 6587\nPasscode: iMm04v
URL:https://nordichealthnetwork.com/event/team-training-monday-en/2029-01-15/
LOCATION:Online\, online\, Netherlands
CATEGORIES:Internal
ATTACH;FMTTYPE=image/jpeg:https://nordichealthnetwork.com/wp-content/uploads/Team-Training6.jpg
END:VEVENT
BEGIN:VEVENT
DTSTART;TZID=Europe/Amsterdam:20290122T200000
DTEND;TZID=Europe/Amsterdam:20290122T210000
DTSTAMP:20260422T144735
CREATED:20260309T163523Z
LAST-MODIFIED:20260313T132306Z
UID:10000460-1863806400-1863810000@nordichealthnetwork.com
SUMMARY:Team Training (EN)
DESCRIPTION:Simon Widler is inviting you to a scheduled Zoom meeting. \nTopic: Simon Widler’s Personal Meeting Room\nJoin Zoom Meeting\nhttps://us06web.zoom.us/j/7050586587?pwd=eTdNaU5Ya0dJS0h0bWtrRUZHaHFCZz09 \nMeeting ID: 705 058 6587\nPasscode: iMm04v
URL:https://nordichealthnetwork.com/event/team-training-monday-en/2029-01-22/
LOCATION:Online\, online\, Netherlands
CATEGORIES:Internal
ATTACH;FMTTYPE=image/jpeg:https://nordichealthnetwork.com/wp-content/uploads/Team-Training6.jpg
END:VEVENT
BEGIN:VEVENT
DTSTART;TZID=Europe/Amsterdam:20290129T200000
DTEND;TZID=Europe/Amsterdam:20290129T210000
DTSTAMP:20260422T144735
CREATED:20260309T163523Z
LAST-MODIFIED:20260313T132306Z
UID:10000461-1864411200-1864414800@nordichealthnetwork.com
SUMMARY:Team Training (EN)
DESCRIPTION:Simon Widler is inviting you to a scheduled Zoom meeting. \nTopic: Simon Widler’s Personal Meeting Room\nJoin Zoom Meeting\nhttps://us06web.zoom.us/j/7050586587?pwd=eTdNaU5Ya0dJS0h0bWtrRUZHaHFCZz09 \nMeeting ID: 705 058 6587\nPasscode: iMm04v
URL:https://nordichealthnetwork.com/event/team-training-monday-en/2029-01-29/
LOCATION:Online\, online\, Netherlands
CATEGORIES:Internal
ATTACH;FMTTYPE=image/jpeg:https://nordichealthnetwork.com/wp-content/uploads/Team-Training6.jpg
END:VEVENT
BEGIN:VEVENT
DTSTART;TZID=Europe/Amsterdam:20290205T200000
DTEND;TZID=Europe/Amsterdam:20290205T210000
DTSTAMP:20260422T144735
CREATED:20260309T163523Z
LAST-MODIFIED:20260313T132306Z
UID:10000462-1865016000-1865019600@nordichealthnetwork.com
SUMMARY:Team Training (EN)
DESCRIPTION:Simon Widler is inviting you to a scheduled Zoom meeting. \nTopic: Simon Widler’s Personal Meeting Room\nJoin Zoom Meeting\nhttps://us06web.zoom.us/j/7050586587?pwd=eTdNaU5Ya0dJS0h0bWtrRUZHaHFCZz09 \nMeeting ID: 705 058 6587\nPasscode: iMm04v
URL:https://nordichealthnetwork.com/event/team-training-monday-en/2029-02-05/
LOCATION:Online\, online\, Netherlands
CATEGORIES:Internal
ATTACH;FMTTYPE=image/jpeg:https://nordichealthnetwork.com/wp-content/uploads/Team-Training6.jpg
END:VEVENT
BEGIN:VEVENT
DTSTART;TZID=Europe/Amsterdam:20290212T200000
DTEND;TZID=Europe/Amsterdam:20290212T210000
DTSTAMP:20260422T144735
CREATED:20260309T163523Z
LAST-MODIFIED:20260313T132306Z
UID:10000463-1865620800-1865624400@nordichealthnetwork.com
SUMMARY:Team Training (EN)
DESCRIPTION:Simon Widler is inviting you to a scheduled Zoom meeting. \nTopic: Simon Widler’s Personal Meeting Room\nJoin Zoom Meeting\nhttps://us06web.zoom.us/j/7050586587?pwd=eTdNaU5Ya0dJS0h0bWtrRUZHaHFCZz09 \nMeeting ID: 705 058 6587\nPasscode: iMm04v
URL:https://nordichealthnetwork.com/event/team-training-monday-en/2029-02-12/
LOCATION:Online\, online\, Netherlands
CATEGORIES:Internal
ATTACH;FMTTYPE=image/jpeg:https://nordichealthnetwork.com/wp-content/uploads/Team-Training6.jpg
END:VEVENT
BEGIN:VEVENT
DTSTART;TZID=Europe/Amsterdam:20290219T200000
DTEND;TZID=Europe/Amsterdam:20290219T210000
DTSTAMP:20260422T144735
CREATED:20260309T163523Z
LAST-MODIFIED:20260313T132306Z
UID:10000464-1866225600-1866229200@nordichealthnetwork.com
SUMMARY:Team Training (EN)
DESCRIPTION:Simon Widler is inviting you to a scheduled Zoom meeting. \nTopic: Simon Widler’s Personal Meeting Room\nJoin Zoom Meeting\nhttps://us06web.zoom.us/j/7050586587?pwd=eTdNaU5Ya0dJS0h0bWtrRUZHaHFCZz09 \nMeeting ID: 705 058 6587\nPasscode: iMm04v
URL:https://nordichealthnetwork.com/event/team-training-monday-en/2029-02-19/
LOCATION:Online\, online\, Netherlands
CATEGORIES:Internal
ATTACH;FMTTYPE=image/jpeg:https://nordichealthnetwork.com/wp-content/uploads/Team-Training6.jpg
END:VEVENT
BEGIN:VEVENT
DTSTART;TZID=Europe/Amsterdam:20290226T200000
DTEND;TZID=Europe/Amsterdam:20290226T210000
DTSTAMP:20260422T144735
CREATED:20260309T163523Z
LAST-MODIFIED:20260313T132306Z
UID:10000465-1866830400-1866834000@nordichealthnetwork.com
SUMMARY:Team Training (EN)
DESCRIPTION:Simon Widler is inviting you to a scheduled Zoom meeting. \nTopic: Simon Widler’s Personal Meeting Room\nJoin Zoom Meeting\nhttps://us06web.zoom.us/j/7050586587?pwd=eTdNaU5Ya0dJS0h0bWtrRUZHaHFCZz09 \nMeeting ID: 705 058 6587\nPasscode: iMm04v
URL:https://nordichealthnetwork.com/event/team-training-monday-en/2029-02-26/
LOCATION:Online\, online\, Netherlands
CATEGORIES:Internal
ATTACH;FMTTYPE=image/jpeg:https://nordichealthnetwork.com/wp-content/uploads/Team-Training6.jpg
END:VEVENT
BEGIN:VEVENT
DTSTART;TZID=Europe/Amsterdam:20290305T200000
DTEND;TZID=Europe/Amsterdam:20290305T210000
DTSTAMP:20260422T144735
CREATED:20260309T163523Z
LAST-MODIFIED:20260313T132306Z
UID:10000466-1867435200-1867438800@nordichealthnetwork.com
SUMMARY:Team Training (EN)
DESCRIPTION:Simon Widler is inviting you to a scheduled Zoom meeting. \nTopic: Simon Widler’s Personal Meeting Room\nJoin Zoom Meeting\nhttps://us06web.zoom.us/j/7050586587?pwd=eTdNaU5Ya0dJS0h0bWtrRUZHaHFCZz09 \nMeeting ID: 705 058 6587\nPasscode: iMm04v
URL:https://nordichealthnetwork.com/event/team-training-monday-en/2029-03-05/
LOCATION:Online\, online\, Netherlands
CATEGORIES:Internal
ATTACH;FMTTYPE=image/jpeg:https://nordichealthnetwork.com/wp-content/uploads/Team-Training6.jpg
END:VEVENT
BEGIN:VEVENT
DTSTART;TZID=Europe/Amsterdam:20290312T200000
DTEND;TZID=Europe/Amsterdam:20290312T210000
DTSTAMP:20260422T144735
CREATED:20260309T163523Z
LAST-MODIFIED:20260313T132306Z
UID:10000467-1868040000-1868043600@nordichealthnetwork.com
SUMMARY:Team Training (EN)
DESCRIPTION:Simon Widler is inviting you to a scheduled Zoom meeting. \nTopic: Simon Widler’s Personal Meeting Room\nJoin Zoom Meeting\nhttps://us06web.zoom.us/j/7050586587?pwd=eTdNaU5Ya0dJS0h0bWtrRUZHaHFCZz09 \nMeeting ID: 705 058 6587\nPasscode: iMm04v
URL:https://nordichealthnetwork.com/event/team-training-monday-en/2029-03-12/
LOCATION:Online\, online\, Netherlands
CATEGORIES:Internal
ATTACH;FMTTYPE=image/jpeg:https://nordichealthnetwork.com/wp-content/uploads/Team-Training6.jpg
END:VEVENT
BEGIN:VEVENT
DTSTART;TZID=Europe/Amsterdam:20290319T200000
DTEND;TZID=Europe/Amsterdam:20290319T210000
DTSTAMP:20260422T144735
CREATED:20260309T163523Z
LAST-MODIFIED:20260313T132306Z
UID:10000468-1868644800-1868648400@nordichealthnetwork.com
SUMMARY:Team Training (EN)
DESCRIPTION:Simon Widler is inviting you to a scheduled Zoom meeting. \nTopic: Simon Widler’s Personal Meeting Room\nJoin Zoom Meeting\nhttps://us06web.zoom.us/j/7050586587?pwd=eTdNaU5Ya0dJS0h0bWtrRUZHaHFCZz09 \nMeeting ID: 705 058 6587\nPasscode: iMm04v
URL:https://nordichealthnetwork.com/event/team-training-monday-en/2029-03-19/
LOCATION:Online\, online\, Netherlands
CATEGORIES:Internal
ATTACH;FMTTYPE=image/jpeg:https://nordichealthnetwork.com/wp-content/uploads/Team-Training6.jpg
END:VEVENT
BEGIN:VEVENT
DTSTART;TZID=Europe/Amsterdam:20290326T200000
DTEND;TZID=Europe/Amsterdam:20290326T210000
DTSTAMP:20260422T144735
CREATED:20260309T163523Z
LAST-MODIFIED:20260313T132306Z
UID:10000469-1869249600-1869253200@nordichealthnetwork.com
SUMMARY:Team Training (EN)
DESCRIPTION:Simon Widler is inviting you to a scheduled Zoom meeting. \nTopic: Simon Widler’s Personal Meeting Room\nJoin Zoom Meeting\nhttps://us06web.zoom.us/j/7050586587?pwd=eTdNaU5Ya0dJS0h0bWtrRUZHaHFCZz09 \nMeeting ID: 705 058 6587\nPasscode: iMm04v
URL:https://nordichealthnetwork.com/event/team-training-monday-en/2029-03-26/
LOCATION:Online\, online\, Netherlands
CATEGORIES:Internal
ATTACH;FMTTYPE=image/jpeg:https://nordichealthnetwork.com/wp-content/uploads/Team-Training6.jpg
END:VEVENT
BEGIN:VEVENT
DTSTART;TZID=Europe/Amsterdam:20290402T200000
DTEND;TZID=Europe/Amsterdam:20290402T210000
DTSTAMP:20260422T144735
CREATED:20260309T163523Z
LAST-MODIFIED:20260313T132306Z
UID:10000470-1869854400-1869858000@nordichealthnetwork.com
SUMMARY:Team Training (EN)
DESCRIPTION:Simon Widler is inviting you to a scheduled Zoom meeting. \nTopic: Simon Widler’s Personal Meeting Room\nJoin Zoom Meeting\nhttps://us06web.zoom.us/j/7050586587?pwd=eTdNaU5Ya0dJS0h0bWtrRUZHaHFCZz09 \nMeeting ID: 705 058 6587\nPasscode: iMm04v
URL:https://nordichealthnetwork.com/event/team-training-monday-en/2029-04-02/
LOCATION:Online\, online\, Netherlands
CATEGORIES:Internal
ATTACH;FMTTYPE=image/jpeg:https://nordichealthnetwork.com/wp-content/uploads/Team-Training6.jpg
END:VEVENT
BEGIN:VEVENT
DTSTART;TZID=Europe/Amsterdam:20290409T200000
DTEND;TZID=Europe/Amsterdam:20290409T210000
DTSTAMP:20260422T144735
CREATED:20260309T163523Z
LAST-MODIFIED:20260313T132306Z
UID:10000471-1870459200-1870462800@nordichealthnetwork.com
SUMMARY:Team Training (EN)
DESCRIPTION:Simon Widler is inviting you to a scheduled Zoom meeting. \nTopic: Simon Widler’s Personal Meeting Room\nJoin Zoom Meeting\nhttps://us06web.zoom.us/j/7050586587?pwd=eTdNaU5Ya0dJS0h0bWtrRUZHaHFCZz09 \nMeeting ID: 705 058 6587\nPasscode: iMm04v
URL:https://nordichealthnetwork.com/event/team-training-monday-en/2029-04-09/
LOCATION:Online\, online\, Netherlands
CATEGORIES:Internal
ATTACH;FMTTYPE=image/jpeg:https://nordichealthnetwork.com/wp-content/uploads/Team-Training6.jpg
END:VEVENT
BEGIN:VEVENT
DTSTART;TZID=Europe/Amsterdam:20290416T200000
DTEND;TZID=Europe/Amsterdam:20290416T210000
DTSTAMP:20260422T144735
CREATED:20260309T163523Z
LAST-MODIFIED:20260313T132306Z
UID:10000472-1871064000-1871067600@nordichealthnetwork.com
SUMMARY:Team Training (EN)
DESCRIPTION:Simon Widler is inviting you to a scheduled Zoom meeting. \nTopic: Simon Widler’s Personal Meeting Room\nJoin Zoom Meeting\nhttps://us06web.zoom.us/j/7050586587?pwd=eTdNaU5Ya0dJS0h0bWtrRUZHaHFCZz09 \nMeeting ID: 705 058 6587\nPasscode: iMm04v
URL:https://nordichealthnetwork.com/event/team-training-monday-en/2029-04-16/
LOCATION:Online\, online\, Netherlands
CATEGORIES:Internal
ATTACH;FMTTYPE=image/jpeg:https://nordichealthnetwork.com/wp-content/uploads/Team-Training6.jpg
END:VEVENT
BEGIN:VEVENT
DTSTART;TZID=Europe/Amsterdam:20290423T200000
DTEND;TZID=Europe/Amsterdam:20290423T210000
DTSTAMP:20260422T144735
CREATED:20260309T163523Z
LAST-MODIFIED:20260313T132306Z
UID:10000473-1871668800-1871672400@nordichealthnetwork.com
SUMMARY:Team Training (EN)
DESCRIPTION:Simon Widler is inviting you to a scheduled Zoom meeting. \nTopic: Simon Widler’s Personal Meeting Room\nJoin Zoom Meeting\nhttps://us06web.zoom.us/j/7050586587?pwd=eTdNaU5Ya0dJS0h0bWtrRUZHaHFCZz09 \nMeeting ID: 705 058 6587\nPasscode: iMm04v
URL:https://nordichealthnetwork.com/event/team-training-monday-en/2029-04-23/
LOCATION:Online\, online\, Netherlands
CATEGORIES:Internal
ATTACH;FMTTYPE=image/jpeg:https://nordichealthnetwork.com/wp-content/uploads/Team-Training6.jpg
END:VEVENT
BEGIN:VEVENT
DTSTART;TZID=Europe/Amsterdam:20290430T200000
DTEND;TZID=Europe/Amsterdam:20290430T210000
DTSTAMP:20260422T144735
CREATED:20260309T163523Z
LAST-MODIFIED:20260313T132306Z
UID:10000474-1872273600-1872277200@nordichealthnetwork.com
SUMMARY:Team Training (EN)
DESCRIPTION:Simon Widler is inviting you to a scheduled Zoom meeting. \nTopic: Simon Widler’s Personal Meeting Room\nJoin Zoom Meeting\nhttps://us06web.zoom.us/j/7050586587?pwd=eTdNaU5Ya0dJS0h0bWtrRUZHaHFCZz09 \nMeeting ID: 705 058 6587\nPasscode: iMm04v
URL:https://nordichealthnetwork.com/event/team-training-monday-en/2029-04-30/
LOCATION:Online\, online\, Netherlands
CATEGORIES:Internal
ATTACH;FMTTYPE=image/jpeg:https://nordichealthnetwork.com/wp-content/uploads/Team-Training6.jpg
END:VEVENT
BEGIN:VEVENT
DTSTART;TZID=Europe/Amsterdam:20290507T200000
DTEND;TZID=Europe/Amsterdam:20290507T210000
DTSTAMP:20260422T144735
CREATED:20260309T163523Z
LAST-MODIFIED:20260313T132306Z
UID:10000475-1872878400-1872882000@nordichealthnetwork.com
SUMMARY:Team Training (EN)
DESCRIPTION:Simon Widler is inviting you to a scheduled Zoom meeting. \nTopic: Simon Widler’s Personal Meeting Room\nJoin Zoom Meeting\nhttps://us06web.zoom.us/j/7050586587?pwd=eTdNaU5Ya0dJS0h0bWtrRUZHaHFCZz09 \nMeeting ID: 705 058 6587\nPasscode: iMm04v
URL:https://nordichealthnetwork.com/event/team-training-monday-en/2029-05-07/
LOCATION:Online\, online\, Netherlands
CATEGORIES:Internal
ATTACH;FMTTYPE=image/jpeg:https://nordichealthnetwork.com/wp-content/uploads/Team-Training6.jpg
END:VEVENT
BEGIN:VEVENT
DTSTART;TZID=Europe/Amsterdam:20290514T200000
DTEND;TZID=Europe/Amsterdam:20290514T210000
DTSTAMP:20260422T144735
CREATED:20260309T163523Z
LAST-MODIFIED:20260313T132306Z
UID:10000476-1873483200-1873486800@nordichealthnetwork.com
SUMMARY:Team Training (EN)
DESCRIPTION:Simon Widler is inviting you to a scheduled Zoom meeting. \nTopic: Simon Widler’s Personal Meeting Room\nJoin Zoom Meeting\nhttps://us06web.zoom.us/j/7050586587?pwd=eTdNaU5Ya0dJS0h0bWtrRUZHaHFCZz09 \nMeeting ID: 705 058 6587\nPasscode: iMm04v
URL:https://nordichealthnetwork.com/event/team-training-monday-en/2029-05-14/
LOCATION:Online\, online\, Netherlands
CATEGORIES:Internal
ATTACH;FMTTYPE=image/jpeg:https://nordichealthnetwork.com/wp-content/uploads/Team-Training6.jpg
END:VEVENT
BEGIN:VEVENT
DTSTART;TZID=Europe/Amsterdam:20290521T200000
DTEND;TZID=Europe/Amsterdam:20290521T210000
DTSTAMP:20260422T144735
CREATED:20260309T163523Z
LAST-MODIFIED:20260313T132306Z
UID:10000477-1874088000-1874091600@nordichealthnetwork.com
SUMMARY:Team Training (EN)
DESCRIPTION:Simon Widler is inviting you to a scheduled Zoom meeting. \nTopic: Simon Widler’s Personal Meeting Room\nJoin Zoom Meeting\nhttps://us06web.zoom.us/j/7050586587?pwd=eTdNaU5Ya0dJS0h0bWtrRUZHaHFCZz09 \nMeeting ID: 705 058 6587\nPasscode: iMm04v
URL:https://nordichealthnetwork.com/event/team-training-monday-en/2029-05-21/
LOCATION:Online\, online\, Netherlands
CATEGORIES:Internal
ATTACH;FMTTYPE=image/jpeg:https://nordichealthnetwork.com/wp-content/uploads/Team-Training6.jpg
END:VEVENT
BEGIN:VEVENT
DTSTART;TZID=Europe/Amsterdam:20290528T200000
DTEND;TZID=Europe/Amsterdam:20290528T210000
DTSTAMP:20260422T144735
CREATED:20260309T163523Z
LAST-MODIFIED:20260313T132306Z
UID:10000478-1874692800-1874696400@nordichealthnetwork.com
SUMMARY:Team Training (EN)
DESCRIPTION:Simon Widler is inviting you to a scheduled Zoom meeting. \nTopic: Simon Widler’s Personal Meeting Room\nJoin Zoom Meeting\nhttps://us06web.zoom.us/j/7050586587?pwd=eTdNaU5Ya0dJS0h0bWtrRUZHaHFCZz09 \nMeeting ID: 705 058 6587\nPasscode: iMm04v
URL:https://nordichealthnetwork.com/event/team-training-monday-en/2029-05-28/
LOCATION:Online\, online\, Netherlands
CATEGORIES:Internal
ATTACH;FMTTYPE=image/jpeg:https://nordichealthnetwork.com/wp-content/uploads/Team-Training6.jpg
END:VEVENT
BEGIN:VEVENT
DTSTART;TZID=Europe/Amsterdam:20290604T200000
DTEND;TZID=Europe/Amsterdam:20290604T210000
DTSTAMP:20260422T144735
CREATED:20260309T163523Z
LAST-MODIFIED:20260313T132306Z
UID:10000479-1875297600-1875301200@nordichealthnetwork.com
SUMMARY:Team Training (EN)
DESCRIPTION:Simon Widler is inviting you to a scheduled Zoom meeting. \nTopic: Simon Widler’s Personal Meeting Room\nJoin Zoom Meeting\nhttps://us06web.zoom.us/j/7050586587?pwd=eTdNaU5Ya0dJS0h0bWtrRUZHaHFCZz09 \nMeeting ID: 705 058 6587\nPasscode: iMm04v
URL:https://nordichealthnetwork.com/event/team-training-monday-en/2029-06-04/
LOCATION:Online\, online\, Netherlands
CATEGORIES:Internal
ATTACH;FMTTYPE=image/jpeg:https://nordichealthnetwork.com/wp-content/uploads/Team-Training6.jpg
END:VEVENT
BEGIN:VEVENT
DTSTART;TZID=Europe/Amsterdam:20290611T200000
DTEND;TZID=Europe/Amsterdam:20290611T210000
DTSTAMP:20260422T144735
CREATED:20260309T163523Z
LAST-MODIFIED:20260313T132306Z
UID:10000480-1875902400-1875906000@nordichealthnetwork.com
SUMMARY:Team Training (EN)
DESCRIPTION:Simon Widler is inviting you to a scheduled Zoom meeting. \nTopic: Simon Widler’s Personal Meeting Room\nJoin Zoom Meeting\nhttps://us06web.zoom.us/j/7050586587?pwd=eTdNaU5Ya0dJS0h0bWtrRUZHaHFCZz09 \nMeeting ID: 705 058 6587\nPasscode: iMm04v
URL:https://nordichealthnetwork.com/event/team-training-monday-en/2029-06-11/
LOCATION:Online\, online\, Netherlands
CATEGORIES:Internal
ATTACH;FMTTYPE=image/jpeg:https://nordichealthnetwork.com/wp-content/uploads/Team-Training6.jpg
END:VEVENT
BEGIN:VEVENT
DTSTART;TZID=Europe/Amsterdam:20290618T200000
DTEND;TZID=Europe/Amsterdam:20290618T210000
DTSTAMP:20260422T144735
CREATED:20260309T163523Z
LAST-MODIFIED:20260313T132306Z
UID:10000481-1876507200-1876510800@nordichealthnetwork.com
SUMMARY:Team Training (EN)
DESCRIPTION:Simon Widler is inviting you to a scheduled Zoom meeting. \nTopic: Simon Widler’s Personal Meeting Room\nJoin Zoom Meeting\nhttps://us06web.zoom.us/j/7050586587?pwd=eTdNaU5Ya0dJS0h0bWtrRUZHaHFCZz09 \nMeeting ID: 705 058 6587\nPasscode: iMm04v
URL:https://nordichealthnetwork.com/event/team-training-monday-en/2029-06-18/
LOCATION:Online\, online\, Netherlands
CATEGORIES:Internal
ATTACH;FMTTYPE=image/jpeg:https://nordichealthnetwork.com/wp-content/uploads/Team-Training6.jpg
END:VEVENT
BEGIN:VEVENT
DTSTART;TZID=Europe/Amsterdam:20290625T200000
DTEND;TZID=Europe/Amsterdam:20290625T210000
DTSTAMP:20260422T144735
CREATED:20260309T163523Z
LAST-MODIFIED:20260313T132306Z
UID:10000482-1877112000-1877115600@nordichealthnetwork.com
SUMMARY:Team Training (EN)
DESCRIPTION:Simon Widler is inviting you to a scheduled Zoom meeting. \nTopic: Simon Widler’s Personal Meeting Room\nJoin Zoom Meeting\nhttps://us06web.zoom.us/j/7050586587?pwd=eTdNaU5Ya0dJS0h0bWtrRUZHaHFCZz09 \nMeeting ID: 705 058 6587\nPasscode: iMm04v
URL:https://nordichealthnetwork.com/event/team-training-monday-en/2029-06-25/
LOCATION:Online\, online\, Netherlands
CATEGORIES:Internal
ATTACH;FMTTYPE=image/jpeg:https://nordichealthnetwork.com/wp-content/uploads/Team-Training6.jpg
END:VEVENT
BEGIN:VEVENT
DTSTART;TZID=Europe/Amsterdam:20290702T200000
DTEND;TZID=Europe/Amsterdam:20290702T210000
DTSTAMP:20260422T144735
CREATED:20260309T163523Z
LAST-MODIFIED:20260313T132306Z
UID:10000483-1877716800-1877720400@nordichealthnetwork.com
SUMMARY:Team Training (EN)
DESCRIPTION:Simon Widler is inviting you to a scheduled Zoom meeting. \nTopic: Simon Widler’s Personal Meeting Room\nJoin Zoom Meeting\nhttps://us06web.zoom.us/j/7050586587?pwd=eTdNaU5Ya0dJS0h0bWtrRUZHaHFCZz09 \nMeeting ID: 705 058 6587\nPasscode: iMm04v
URL:https://nordichealthnetwork.com/event/team-training-monday-en/2029-07-02/
LOCATION:Online\, online\, Netherlands
CATEGORIES:Internal
ATTACH;FMTTYPE=image/jpeg:https://nordichealthnetwork.com/wp-content/uploads/Team-Training6.jpg
END:VEVENT
BEGIN:VEVENT
DTSTART;TZID=Europe/Amsterdam:20290709T200000
DTEND;TZID=Europe/Amsterdam:20290709T210000
DTSTAMP:20260422T144735
CREATED:20260309T163523Z
LAST-MODIFIED:20260313T132306Z
UID:10000484-1878321600-1878325200@nordichealthnetwork.com
SUMMARY:Team Training (EN)
DESCRIPTION:Simon Widler is inviting you to a scheduled Zoom meeting. \nTopic: Simon Widler’s Personal Meeting Room\nJoin Zoom Meeting\nhttps://us06web.zoom.us/j/7050586587?pwd=eTdNaU5Ya0dJS0h0bWtrRUZHaHFCZz09 \nMeeting ID: 705 058 6587\nPasscode: iMm04v
URL:https://nordichealthnetwork.com/event/team-training-monday-en/2029-07-09/
LOCATION:Online\, online\, Netherlands
CATEGORIES:Internal
ATTACH;FMTTYPE=image/jpeg:https://nordichealthnetwork.com/wp-content/uploads/Team-Training6.jpg
END:VEVENT
END:VCALENDAR