BEGIN:VCALENDAR
VERSION:2.0
PRODID:-//Nordic Health Network - ECPv6.15.20//NONSGML v1.0//EN
CALSCALE:GREGORIAN
METHOD:PUBLISH
X-WR-CALNAME:Nordic Health Network
X-ORIGINAL-URL:https://nordichealthnetwork.com
X-WR-CALDESC:Events for Nordic Health Network
REFRESH-INTERVAL;VALUE=DURATION:PT1H
X-Robots-Tag:noindex
X-PUBLISHED-TTL:PT1H
BEGIN:VTIMEZONE
TZID:Europe/Amsterdam
BEGIN:DAYLIGHT
TZOFFSETFROM:+0100
TZOFFSETTO:+0200
TZNAME:CEST
DTSTART:20270328T010000
END:DAYLIGHT
BEGIN:STANDARD
TZOFFSETFROM:+0200
TZOFFSETTO:+0100
TZNAME:CET
DTSTART:20271031T010000
END:STANDARD
BEGIN:DAYLIGHT
TZOFFSETFROM:+0100
TZOFFSETTO:+0200
TZNAME:CEST
DTSTART:20280326T010000
END:DAYLIGHT
BEGIN:STANDARD
TZOFFSETFROM:+0200
TZOFFSETTO:+0100
TZNAME:CET
DTSTART:20281029T010000
END:STANDARD
BEGIN:DAYLIGHT
TZOFFSETFROM:+0100
TZOFFSETTO:+0200
TZNAME:CEST
DTSTART:20290325T010000
END:DAYLIGHT
BEGIN:STANDARD
TZOFFSETFROM:+0200
TZOFFSETTO:+0100
TZNAME:CET
DTSTART:20291028T010000
END:STANDARD
BEGIN:DAYLIGHT
TZOFFSETFROM:+0100
TZOFFSETTO:+0200
TZNAME:CEST
DTSTART:20300331T010000
END:DAYLIGHT
BEGIN:STANDARD
TZOFFSETFROM:+0200
TZOFFSETTO:+0100
TZNAME:CET
DTSTART:20301027T010000
END:STANDARD
END:VTIMEZONE
BEGIN:VEVENT
DTSTART;TZID=Europe/Amsterdam:20280703T200000
DTEND;TZID=Europe/Amsterdam:20280703T210000
DTSTAMP:20260422T112000
CREATED:20260309T163523Z
LAST-MODIFIED:20260313T132306Z
UID:10000431-1846267200-1846270800@nordichealthnetwork.com
SUMMARY:Team Training (EN)
DESCRIPTION:Simon Widler is inviting you to a scheduled Zoom meeting. \nTopic: Simon Widler’s Personal Meeting Room\nJoin Zoom Meeting\nhttps://us06web.zoom.us/j/7050586587?pwd=eTdNaU5Ya0dJS0h0bWtrRUZHaHFCZz09 \nMeeting ID: 705 058 6587\nPasscode: iMm04v
URL:https://nordichealthnetwork.com/event/team-training-monday-en/2028-07-03/
LOCATION:Online\, online\, Netherlands
CATEGORIES:Internal
ATTACH;FMTTYPE=image/jpeg:https://nordichealthnetwork.com/wp-content/uploads/Team-Training6.jpg
END:VEVENT
BEGIN:VEVENT
DTSTART;TZID=Europe/Amsterdam:20280710T200000
DTEND;TZID=Europe/Amsterdam:20280710T210000
DTSTAMP:20260422T112000
CREATED:20260309T163523Z
LAST-MODIFIED:20260313T132306Z
UID:10000432-1846872000-1846875600@nordichealthnetwork.com
SUMMARY:Team Training (EN)
DESCRIPTION:Simon Widler is inviting you to a scheduled Zoom meeting. \nTopic: Simon Widler’s Personal Meeting Room\nJoin Zoom Meeting\nhttps://us06web.zoom.us/j/7050586587?pwd=eTdNaU5Ya0dJS0h0bWtrRUZHaHFCZz09 \nMeeting ID: 705 058 6587\nPasscode: iMm04v
URL:https://nordichealthnetwork.com/event/team-training-monday-en/2028-07-10/
LOCATION:Online\, online\, Netherlands
CATEGORIES:Internal
ATTACH;FMTTYPE=image/jpeg:https://nordichealthnetwork.com/wp-content/uploads/Team-Training6.jpg
END:VEVENT
BEGIN:VEVENT
DTSTART;TZID=Europe/Amsterdam:20280717T200000
DTEND;TZID=Europe/Amsterdam:20280717T210000
DTSTAMP:20260422T112000
CREATED:20260309T163523Z
LAST-MODIFIED:20260313T132306Z
UID:10000433-1847476800-1847480400@nordichealthnetwork.com
SUMMARY:Team Training (EN)
DESCRIPTION:Simon Widler is inviting you to a scheduled Zoom meeting. \nTopic: Simon Widler’s Personal Meeting Room\nJoin Zoom Meeting\nhttps://us06web.zoom.us/j/7050586587?pwd=eTdNaU5Ya0dJS0h0bWtrRUZHaHFCZz09 \nMeeting ID: 705 058 6587\nPasscode: iMm04v
URL:https://nordichealthnetwork.com/event/team-training-monday-en/2028-07-17/
LOCATION:Online\, online\, Netherlands
CATEGORIES:Internal
ATTACH;FMTTYPE=image/jpeg:https://nordichealthnetwork.com/wp-content/uploads/Team-Training6.jpg
END:VEVENT
BEGIN:VEVENT
DTSTART;TZID=Europe/Amsterdam:20280724T200000
DTEND;TZID=Europe/Amsterdam:20280724T210000
DTSTAMP:20260422T112000
CREATED:20260309T163523Z
LAST-MODIFIED:20260313T132306Z
UID:10000434-1848081600-1848085200@nordichealthnetwork.com
SUMMARY:Team Training (EN)
DESCRIPTION:Simon Widler is inviting you to a scheduled Zoom meeting. \nTopic: Simon Widler’s Personal Meeting Room\nJoin Zoom Meeting\nhttps://us06web.zoom.us/j/7050586587?pwd=eTdNaU5Ya0dJS0h0bWtrRUZHaHFCZz09 \nMeeting ID: 705 058 6587\nPasscode: iMm04v
URL:https://nordichealthnetwork.com/event/team-training-monday-en/2028-07-24/
LOCATION:Online\, online\, Netherlands
CATEGORIES:Internal
ATTACH;FMTTYPE=image/jpeg:https://nordichealthnetwork.com/wp-content/uploads/Team-Training6.jpg
END:VEVENT
BEGIN:VEVENT
DTSTART;TZID=Europe/Amsterdam:20280731T200000
DTEND;TZID=Europe/Amsterdam:20280731T210000
DTSTAMP:20260422T112000
CREATED:20260309T163523Z
LAST-MODIFIED:20260313T132306Z
UID:10000435-1848686400-1848690000@nordichealthnetwork.com
SUMMARY:Team Training (EN)
DESCRIPTION:Simon Widler is inviting you to a scheduled Zoom meeting. \nTopic: Simon Widler’s Personal Meeting Room\nJoin Zoom Meeting\nhttps://us06web.zoom.us/j/7050586587?pwd=eTdNaU5Ya0dJS0h0bWtrRUZHaHFCZz09 \nMeeting ID: 705 058 6587\nPasscode: iMm04v
URL:https://nordichealthnetwork.com/event/team-training-monday-en/2028-07-31/
LOCATION:Online\, online\, Netherlands
CATEGORIES:Internal
ATTACH;FMTTYPE=image/jpeg:https://nordichealthnetwork.com/wp-content/uploads/Team-Training6.jpg
END:VEVENT
BEGIN:VEVENT
DTSTART;TZID=Europe/Amsterdam:20280807T200000
DTEND;TZID=Europe/Amsterdam:20280807T210000
DTSTAMP:20260422T112000
CREATED:20260309T163523Z
LAST-MODIFIED:20260313T132306Z
UID:10000436-1849291200-1849294800@nordichealthnetwork.com
SUMMARY:Team Training (EN)
DESCRIPTION:Simon Widler is inviting you to a scheduled Zoom meeting. \nTopic: Simon Widler’s Personal Meeting Room\nJoin Zoom Meeting\nhttps://us06web.zoom.us/j/7050586587?pwd=eTdNaU5Ya0dJS0h0bWtrRUZHaHFCZz09 \nMeeting ID: 705 058 6587\nPasscode: iMm04v
URL:https://nordichealthnetwork.com/event/team-training-monday-en/2028-08-07/
LOCATION:Online\, online\, Netherlands
CATEGORIES:Internal
ATTACH;FMTTYPE=image/jpeg:https://nordichealthnetwork.com/wp-content/uploads/Team-Training6.jpg
END:VEVENT
BEGIN:VEVENT
DTSTART;TZID=Europe/Amsterdam:20280814T200000
DTEND;TZID=Europe/Amsterdam:20280814T210000
DTSTAMP:20260422T112000
CREATED:20260309T163523Z
LAST-MODIFIED:20260313T132306Z
UID:10000437-1849896000-1849899600@nordichealthnetwork.com
SUMMARY:Team Training (EN)
DESCRIPTION:Simon Widler is inviting you to a scheduled Zoom meeting. \nTopic: Simon Widler’s Personal Meeting Room\nJoin Zoom Meeting\nhttps://us06web.zoom.us/j/7050586587?pwd=eTdNaU5Ya0dJS0h0bWtrRUZHaHFCZz09 \nMeeting ID: 705 058 6587\nPasscode: iMm04v
URL:https://nordichealthnetwork.com/event/team-training-monday-en/2028-08-14/
LOCATION:Online\, online\, Netherlands
CATEGORIES:Internal
ATTACH;FMTTYPE=image/jpeg:https://nordichealthnetwork.com/wp-content/uploads/Team-Training6.jpg
END:VEVENT
BEGIN:VEVENT
DTSTART;TZID=Europe/Amsterdam:20280821T200000
DTEND;TZID=Europe/Amsterdam:20280821T210000
DTSTAMP:20260422T112000
CREATED:20260309T163523Z
LAST-MODIFIED:20260313T132306Z
UID:10000438-1850500800-1850504400@nordichealthnetwork.com
SUMMARY:Team Training (EN)
DESCRIPTION:Simon Widler is inviting you to a scheduled Zoom meeting. \nTopic: Simon Widler’s Personal Meeting Room\nJoin Zoom Meeting\nhttps://us06web.zoom.us/j/7050586587?pwd=eTdNaU5Ya0dJS0h0bWtrRUZHaHFCZz09 \nMeeting ID: 705 058 6587\nPasscode: iMm04v
URL:https://nordichealthnetwork.com/event/team-training-monday-en/2028-08-21/
LOCATION:Online\, online\, Netherlands
CATEGORIES:Internal
ATTACH;FMTTYPE=image/jpeg:https://nordichealthnetwork.com/wp-content/uploads/Team-Training6.jpg
END:VEVENT
BEGIN:VEVENT
DTSTART;TZID=Europe/Amsterdam:20280828T200000
DTEND;TZID=Europe/Amsterdam:20280828T210000
DTSTAMP:20260422T112000
CREATED:20260309T163523Z
LAST-MODIFIED:20260313T132306Z
UID:10000439-1851105600-1851109200@nordichealthnetwork.com
SUMMARY:Team Training (EN)
DESCRIPTION:Simon Widler is inviting you to a scheduled Zoom meeting. \nTopic: Simon Widler’s Personal Meeting Room\nJoin Zoom Meeting\nhttps://us06web.zoom.us/j/7050586587?pwd=eTdNaU5Ya0dJS0h0bWtrRUZHaHFCZz09 \nMeeting ID: 705 058 6587\nPasscode: iMm04v
URL:https://nordichealthnetwork.com/event/team-training-monday-en/2028-08-28/
LOCATION:Online\, online\, Netherlands
CATEGORIES:Internal
ATTACH;FMTTYPE=image/jpeg:https://nordichealthnetwork.com/wp-content/uploads/Team-Training6.jpg
END:VEVENT
BEGIN:VEVENT
DTSTART;TZID=Europe/Amsterdam:20280904T200000
DTEND;TZID=Europe/Amsterdam:20280904T210000
DTSTAMP:20260422T112000
CREATED:20260309T163523Z
LAST-MODIFIED:20260313T132306Z
UID:10000440-1851710400-1851714000@nordichealthnetwork.com
SUMMARY:Team Training (EN)
DESCRIPTION:Simon Widler is inviting you to a scheduled Zoom meeting. \nTopic: Simon Widler’s Personal Meeting Room\nJoin Zoom Meeting\nhttps://us06web.zoom.us/j/7050586587?pwd=eTdNaU5Ya0dJS0h0bWtrRUZHaHFCZz09 \nMeeting ID: 705 058 6587\nPasscode: iMm04v
URL:https://nordichealthnetwork.com/event/team-training-monday-en/2028-09-04/
LOCATION:Online\, online\, Netherlands
CATEGORIES:Internal
ATTACH;FMTTYPE=image/jpeg:https://nordichealthnetwork.com/wp-content/uploads/Team-Training6.jpg
END:VEVENT
BEGIN:VEVENT
DTSTART;TZID=Europe/Amsterdam:20280911T200000
DTEND;TZID=Europe/Amsterdam:20280911T210000
DTSTAMP:20260422T112000
CREATED:20260309T163523Z
LAST-MODIFIED:20260313T132306Z
UID:10000441-1852315200-1852318800@nordichealthnetwork.com
SUMMARY:Team Training (EN)
DESCRIPTION:Simon Widler is inviting you to a scheduled Zoom meeting. \nTopic: Simon Widler’s Personal Meeting Room\nJoin Zoom Meeting\nhttps://us06web.zoom.us/j/7050586587?pwd=eTdNaU5Ya0dJS0h0bWtrRUZHaHFCZz09 \nMeeting ID: 705 058 6587\nPasscode: iMm04v
URL:https://nordichealthnetwork.com/event/team-training-monday-en/2028-09-11/
LOCATION:Online\, online\, Netherlands
CATEGORIES:Internal
ATTACH;FMTTYPE=image/jpeg:https://nordichealthnetwork.com/wp-content/uploads/Team-Training6.jpg
END:VEVENT
BEGIN:VEVENT
DTSTART;TZID=Europe/Amsterdam:20280918T200000
DTEND;TZID=Europe/Amsterdam:20280918T210000
DTSTAMP:20260422T112000
CREATED:20260309T163523Z
LAST-MODIFIED:20260313T132306Z
UID:10000442-1852920000-1852923600@nordichealthnetwork.com
SUMMARY:Team Training (EN)
DESCRIPTION:Simon Widler is inviting you to a scheduled Zoom meeting. \nTopic: Simon Widler’s Personal Meeting Room\nJoin Zoom Meeting\nhttps://us06web.zoom.us/j/7050586587?pwd=eTdNaU5Ya0dJS0h0bWtrRUZHaHFCZz09 \nMeeting ID: 705 058 6587\nPasscode: iMm04v
URL:https://nordichealthnetwork.com/event/team-training-monday-en/2028-09-18/
LOCATION:Online\, online\, Netherlands
CATEGORIES:Internal
ATTACH;FMTTYPE=image/jpeg:https://nordichealthnetwork.com/wp-content/uploads/Team-Training6.jpg
END:VEVENT
BEGIN:VEVENT
DTSTART;TZID=Europe/Amsterdam:20280925T200000
DTEND;TZID=Europe/Amsterdam:20280925T210000
DTSTAMP:20260422T112000
CREATED:20260309T163523Z
LAST-MODIFIED:20260313T132306Z
UID:10000443-1853524800-1853528400@nordichealthnetwork.com
SUMMARY:Team Training (EN)
DESCRIPTION:Simon Widler is inviting you to a scheduled Zoom meeting. \nTopic: Simon Widler’s Personal Meeting Room\nJoin Zoom Meeting\nhttps://us06web.zoom.us/j/7050586587?pwd=eTdNaU5Ya0dJS0h0bWtrRUZHaHFCZz09 \nMeeting ID: 705 058 6587\nPasscode: iMm04v
URL:https://nordichealthnetwork.com/event/team-training-monday-en/2028-09-25/
LOCATION:Online\, online\, Netherlands
CATEGORIES:Internal
ATTACH;FMTTYPE=image/jpeg:https://nordichealthnetwork.com/wp-content/uploads/Team-Training6.jpg
END:VEVENT
BEGIN:VEVENT
DTSTART;TZID=Europe/Amsterdam:20281002T200000
DTEND;TZID=Europe/Amsterdam:20281002T210000
DTSTAMP:20260422T112000
CREATED:20260309T163523Z
LAST-MODIFIED:20260313T132306Z
UID:10000444-1854129600-1854133200@nordichealthnetwork.com
SUMMARY:Team Training (EN)
DESCRIPTION:Simon Widler is inviting you to a scheduled Zoom meeting. \nTopic: Simon Widler’s Personal Meeting Room\nJoin Zoom Meeting\nhttps://us06web.zoom.us/j/7050586587?pwd=eTdNaU5Ya0dJS0h0bWtrRUZHaHFCZz09 \nMeeting ID: 705 058 6587\nPasscode: iMm04v
URL:https://nordichealthnetwork.com/event/team-training-monday-en/2028-10-02/
LOCATION:Online\, online\, Netherlands
CATEGORIES:Internal
ATTACH;FMTTYPE=image/jpeg:https://nordichealthnetwork.com/wp-content/uploads/Team-Training6.jpg
END:VEVENT
BEGIN:VEVENT
DTSTART;TZID=Europe/Amsterdam:20281009T200000
DTEND;TZID=Europe/Amsterdam:20281009T210000
DTSTAMP:20260422T112000
CREATED:20260309T163523Z
LAST-MODIFIED:20260313T132306Z
UID:10000445-1854734400-1854738000@nordichealthnetwork.com
SUMMARY:Team Training (EN)
DESCRIPTION:Simon Widler is inviting you to a scheduled Zoom meeting. \nTopic: Simon Widler’s Personal Meeting Room\nJoin Zoom Meeting\nhttps://us06web.zoom.us/j/7050586587?pwd=eTdNaU5Ya0dJS0h0bWtrRUZHaHFCZz09 \nMeeting ID: 705 058 6587\nPasscode: iMm04v
URL:https://nordichealthnetwork.com/event/team-training-monday-en/2028-10-09/
LOCATION:Online\, online\, Netherlands
CATEGORIES:Internal
ATTACH;FMTTYPE=image/jpeg:https://nordichealthnetwork.com/wp-content/uploads/Team-Training6.jpg
END:VEVENT
BEGIN:VEVENT
DTSTART;TZID=Europe/Amsterdam:20281016T200000
DTEND;TZID=Europe/Amsterdam:20281016T210000
DTSTAMP:20260422T112000
CREATED:20260309T163523Z
LAST-MODIFIED:20260313T132306Z
UID:10000446-1855339200-1855342800@nordichealthnetwork.com
SUMMARY:Team Training (EN)
DESCRIPTION:Simon Widler is inviting you to a scheduled Zoom meeting. \nTopic: Simon Widler’s Personal Meeting Room\nJoin Zoom Meeting\nhttps://us06web.zoom.us/j/7050586587?pwd=eTdNaU5Ya0dJS0h0bWtrRUZHaHFCZz09 \nMeeting ID: 705 058 6587\nPasscode: iMm04v
URL:https://nordichealthnetwork.com/event/team-training-monday-en/2028-10-16/
LOCATION:Online\, online\, Netherlands
CATEGORIES:Internal
ATTACH;FMTTYPE=image/jpeg:https://nordichealthnetwork.com/wp-content/uploads/Team-Training6.jpg
END:VEVENT
BEGIN:VEVENT
DTSTART;TZID=Europe/Amsterdam:20281023T200000
DTEND;TZID=Europe/Amsterdam:20281023T210000
DTSTAMP:20260422T112000
CREATED:20260309T163523Z
LAST-MODIFIED:20260313T132306Z
UID:10000447-1855944000-1855947600@nordichealthnetwork.com
SUMMARY:Team Training (EN)
DESCRIPTION:Simon Widler is inviting you to a scheduled Zoom meeting. \nTopic: Simon Widler’s Personal Meeting Room\nJoin Zoom Meeting\nhttps://us06web.zoom.us/j/7050586587?pwd=eTdNaU5Ya0dJS0h0bWtrRUZHaHFCZz09 \nMeeting ID: 705 058 6587\nPasscode: iMm04v
URL:https://nordichealthnetwork.com/event/team-training-monday-en/2028-10-23/
LOCATION:Online\, online\, Netherlands
CATEGORIES:Internal
ATTACH;FMTTYPE=image/jpeg:https://nordichealthnetwork.com/wp-content/uploads/Team-Training6.jpg
END:VEVENT
BEGIN:VEVENT
DTSTART;TZID=Europe/Amsterdam:20281030T200000
DTEND;TZID=Europe/Amsterdam:20281030T210000
DTSTAMP:20260422T112000
CREATED:20260309T163523Z
LAST-MODIFIED:20260313T132306Z
UID:10000448-1856548800-1856552400@nordichealthnetwork.com
SUMMARY:Team Training (EN)
DESCRIPTION:Simon Widler is inviting you to a scheduled Zoom meeting. \nTopic: Simon Widler’s Personal Meeting Room\nJoin Zoom Meeting\nhttps://us06web.zoom.us/j/7050586587?pwd=eTdNaU5Ya0dJS0h0bWtrRUZHaHFCZz09 \nMeeting ID: 705 058 6587\nPasscode: iMm04v
URL:https://nordichealthnetwork.com/event/team-training-monday-en/2028-10-30/
LOCATION:Online\, online\, Netherlands
CATEGORIES:Internal
ATTACH;FMTTYPE=image/jpeg:https://nordichealthnetwork.com/wp-content/uploads/Team-Training6.jpg
END:VEVENT
BEGIN:VEVENT
DTSTART;TZID=Europe/Amsterdam:20281106T200000
DTEND;TZID=Europe/Amsterdam:20281106T210000
DTSTAMP:20260422T112000
CREATED:20260309T163523Z
LAST-MODIFIED:20260313T132306Z
UID:10000449-1857153600-1857157200@nordichealthnetwork.com
SUMMARY:Team Training (EN)
DESCRIPTION:Simon Widler is inviting you to a scheduled Zoom meeting. \nTopic: Simon Widler’s Personal Meeting Room\nJoin Zoom Meeting\nhttps://us06web.zoom.us/j/7050586587?pwd=eTdNaU5Ya0dJS0h0bWtrRUZHaHFCZz09 \nMeeting ID: 705 058 6587\nPasscode: iMm04v
URL:https://nordichealthnetwork.com/event/team-training-monday-en/2028-11-06/
LOCATION:Online\, online\, Netherlands
CATEGORIES:Internal
ATTACH;FMTTYPE=image/jpeg:https://nordichealthnetwork.com/wp-content/uploads/Team-Training6.jpg
END:VEVENT
BEGIN:VEVENT
DTSTART;TZID=Europe/Amsterdam:20281113T200000
DTEND;TZID=Europe/Amsterdam:20281113T210000
DTSTAMP:20260422T112000
CREATED:20260309T163523Z
LAST-MODIFIED:20260313T132306Z
UID:10000450-1857758400-1857762000@nordichealthnetwork.com
SUMMARY:Team Training (EN)
DESCRIPTION:Simon Widler is inviting you to a scheduled Zoom meeting. \nTopic: Simon Widler’s Personal Meeting Room\nJoin Zoom Meeting\nhttps://us06web.zoom.us/j/7050586587?pwd=eTdNaU5Ya0dJS0h0bWtrRUZHaHFCZz09 \nMeeting ID: 705 058 6587\nPasscode: iMm04v
URL:https://nordichealthnetwork.com/event/team-training-monday-en/2028-11-13/
LOCATION:Online\, online\, Netherlands
CATEGORIES:Internal
ATTACH;FMTTYPE=image/jpeg:https://nordichealthnetwork.com/wp-content/uploads/Team-Training6.jpg
END:VEVENT
BEGIN:VEVENT
DTSTART;TZID=Europe/Amsterdam:20281120T200000
DTEND;TZID=Europe/Amsterdam:20281120T210000
DTSTAMP:20260422T112000
CREATED:20260309T163523Z
LAST-MODIFIED:20260313T132306Z
UID:10000451-1858363200-1858366800@nordichealthnetwork.com
SUMMARY:Team Training (EN)
DESCRIPTION:Simon Widler is inviting you to a scheduled Zoom meeting. \nTopic: Simon Widler’s Personal Meeting Room\nJoin Zoom Meeting\nhttps://us06web.zoom.us/j/7050586587?pwd=eTdNaU5Ya0dJS0h0bWtrRUZHaHFCZz09 \nMeeting ID: 705 058 6587\nPasscode: iMm04v
URL:https://nordichealthnetwork.com/event/team-training-monday-en/2028-11-20/
LOCATION:Online\, online\, Netherlands
CATEGORIES:Internal
ATTACH;FMTTYPE=image/jpeg:https://nordichealthnetwork.com/wp-content/uploads/Team-Training6.jpg
END:VEVENT
BEGIN:VEVENT
DTSTART;TZID=Europe/Amsterdam:20281127T200000
DTEND;TZID=Europe/Amsterdam:20281127T210000
DTSTAMP:20260422T112000
CREATED:20260309T163523Z
LAST-MODIFIED:20260313T132306Z
UID:10000452-1858968000-1858971600@nordichealthnetwork.com
SUMMARY:Team Training (EN)
DESCRIPTION:Simon Widler is inviting you to a scheduled Zoom meeting. \nTopic: Simon Widler’s Personal Meeting Room\nJoin Zoom Meeting\nhttps://us06web.zoom.us/j/7050586587?pwd=eTdNaU5Ya0dJS0h0bWtrRUZHaHFCZz09 \nMeeting ID: 705 058 6587\nPasscode: iMm04v
URL:https://nordichealthnetwork.com/event/team-training-monday-en/2028-11-27/
LOCATION:Online\, online\, Netherlands
CATEGORIES:Internal
ATTACH;FMTTYPE=image/jpeg:https://nordichealthnetwork.com/wp-content/uploads/Team-Training6.jpg
END:VEVENT
BEGIN:VEVENT
DTSTART;TZID=Europe/Amsterdam:20281204T200000
DTEND;TZID=Europe/Amsterdam:20281204T210000
DTSTAMP:20260422T112000
CREATED:20260309T163523Z
LAST-MODIFIED:20260313T132306Z
UID:10000453-1859572800-1859576400@nordichealthnetwork.com
SUMMARY:Team Training (EN)
DESCRIPTION:Simon Widler is inviting you to a scheduled Zoom meeting. \nTopic: Simon Widler’s Personal Meeting Room\nJoin Zoom Meeting\nhttps://us06web.zoom.us/j/7050586587?pwd=eTdNaU5Ya0dJS0h0bWtrRUZHaHFCZz09 \nMeeting ID: 705 058 6587\nPasscode: iMm04v
URL:https://nordichealthnetwork.com/event/team-training-monday-en/2028-12-04/
LOCATION:Online\, online\, Netherlands
CATEGORIES:Internal
ATTACH;FMTTYPE=image/jpeg:https://nordichealthnetwork.com/wp-content/uploads/Team-Training6.jpg
END:VEVENT
BEGIN:VEVENT
DTSTART;TZID=Europe/Amsterdam:20281211T200000
DTEND;TZID=Europe/Amsterdam:20281211T210000
DTSTAMP:20260422T112000
CREATED:20260309T163523Z
LAST-MODIFIED:20260313T132306Z
UID:10000454-1860177600-1860181200@nordichealthnetwork.com
SUMMARY:Team Training (EN)
DESCRIPTION:Simon Widler is inviting you to a scheduled Zoom meeting. \nTopic: Simon Widler’s Personal Meeting Room\nJoin Zoom Meeting\nhttps://us06web.zoom.us/j/7050586587?pwd=eTdNaU5Ya0dJS0h0bWtrRUZHaHFCZz09 \nMeeting ID: 705 058 6587\nPasscode: iMm04v
URL:https://nordichealthnetwork.com/event/team-training-monday-en/2028-12-11/
LOCATION:Online\, online\, Netherlands
CATEGORIES:Internal
ATTACH;FMTTYPE=image/jpeg:https://nordichealthnetwork.com/wp-content/uploads/Team-Training6.jpg
END:VEVENT
BEGIN:VEVENT
DTSTART;TZID=Europe/Amsterdam:20281218T200000
DTEND;TZID=Europe/Amsterdam:20281218T210000
DTSTAMP:20260422T112000
CREATED:20260309T163523Z
LAST-MODIFIED:20260313T132306Z
UID:10000455-1860782400-1860786000@nordichealthnetwork.com
SUMMARY:Team Training (EN)
DESCRIPTION:Simon Widler is inviting you to a scheduled Zoom meeting. \nTopic: Simon Widler’s Personal Meeting Room\nJoin Zoom Meeting\nhttps://us06web.zoom.us/j/7050586587?pwd=eTdNaU5Ya0dJS0h0bWtrRUZHaHFCZz09 \nMeeting ID: 705 058 6587\nPasscode: iMm04v
URL:https://nordichealthnetwork.com/event/team-training-monday-en/2028-12-18/
LOCATION:Online\, online\, Netherlands
CATEGORIES:Internal
ATTACH;FMTTYPE=image/jpeg:https://nordichealthnetwork.com/wp-content/uploads/Team-Training6.jpg
END:VEVENT
BEGIN:VEVENT
DTSTART;TZID=Europe/Amsterdam:20281225T200000
DTEND;TZID=Europe/Amsterdam:20281225T210000
DTSTAMP:20260422T112000
CREATED:20260309T163523Z
LAST-MODIFIED:20260313T132306Z
UID:10000456-1861387200-1861390800@nordichealthnetwork.com
SUMMARY:Team Training (EN)
DESCRIPTION:Simon Widler is inviting you to a scheduled Zoom meeting. \nTopic: Simon Widler’s Personal Meeting Room\nJoin Zoom Meeting\nhttps://us06web.zoom.us/j/7050586587?pwd=eTdNaU5Ya0dJS0h0bWtrRUZHaHFCZz09 \nMeeting ID: 705 058 6587\nPasscode: iMm04v
URL:https://nordichealthnetwork.com/event/team-training-monday-en/2028-12-25/
LOCATION:Online\, online\, Netherlands
CATEGORIES:Internal
ATTACH;FMTTYPE=image/jpeg:https://nordichealthnetwork.com/wp-content/uploads/Team-Training6.jpg
END:VEVENT
BEGIN:VEVENT
DTSTART;TZID=Europe/Amsterdam:20290101T200000
DTEND;TZID=Europe/Amsterdam:20290101T210000
DTSTAMP:20260422T112000
CREATED:20260309T163523Z
LAST-MODIFIED:20260313T132306Z
UID:10000457-1861992000-1861995600@nordichealthnetwork.com
SUMMARY:Team Training (EN)
DESCRIPTION:Simon Widler is inviting you to a scheduled Zoom meeting. \nTopic: Simon Widler’s Personal Meeting Room\nJoin Zoom Meeting\nhttps://us06web.zoom.us/j/7050586587?pwd=eTdNaU5Ya0dJS0h0bWtrRUZHaHFCZz09 \nMeeting ID: 705 058 6587\nPasscode: iMm04v
URL:https://nordichealthnetwork.com/event/team-training-monday-en/2029-01-01/
LOCATION:Online\, online\, Netherlands
CATEGORIES:Internal
ATTACH;FMTTYPE=image/jpeg:https://nordichealthnetwork.com/wp-content/uploads/Team-Training6.jpg
END:VEVENT
BEGIN:VEVENT
DTSTART;TZID=Europe/Amsterdam:20290108T200000
DTEND;TZID=Europe/Amsterdam:20290108T210000
DTSTAMP:20260422T112000
CREATED:20260309T163523Z
LAST-MODIFIED:20260313T132306Z
UID:10000458-1862596800-1862600400@nordichealthnetwork.com
SUMMARY:Team Training (EN)
DESCRIPTION:Simon Widler is inviting you to a scheduled Zoom meeting. \nTopic: Simon Widler’s Personal Meeting Room\nJoin Zoom Meeting\nhttps://us06web.zoom.us/j/7050586587?pwd=eTdNaU5Ya0dJS0h0bWtrRUZHaHFCZz09 \nMeeting ID: 705 058 6587\nPasscode: iMm04v
URL:https://nordichealthnetwork.com/event/team-training-monday-en/2029-01-08/
LOCATION:Online\, online\, Netherlands
CATEGORIES:Internal
ATTACH;FMTTYPE=image/jpeg:https://nordichealthnetwork.com/wp-content/uploads/Team-Training6.jpg
END:VEVENT
BEGIN:VEVENT
DTSTART;TZID=Europe/Amsterdam:20290115T200000
DTEND;TZID=Europe/Amsterdam:20290115T210000
DTSTAMP:20260422T112000
CREATED:20260309T163523Z
LAST-MODIFIED:20260313T132306Z
UID:10000459-1863201600-1863205200@nordichealthnetwork.com
SUMMARY:Team Training (EN)
DESCRIPTION:Simon Widler is inviting you to a scheduled Zoom meeting. \nTopic: Simon Widler’s Personal Meeting Room\nJoin Zoom Meeting\nhttps://us06web.zoom.us/j/7050586587?pwd=eTdNaU5Ya0dJS0h0bWtrRUZHaHFCZz09 \nMeeting ID: 705 058 6587\nPasscode: iMm04v
URL:https://nordichealthnetwork.com/event/team-training-monday-en/2029-01-15/
LOCATION:Online\, online\, Netherlands
CATEGORIES:Internal
ATTACH;FMTTYPE=image/jpeg:https://nordichealthnetwork.com/wp-content/uploads/Team-Training6.jpg
END:VEVENT
BEGIN:VEVENT
DTSTART;TZID=Europe/Amsterdam:20290122T200000
DTEND;TZID=Europe/Amsterdam:20290122T210000
DTSTAMP:20260422T112000
CREATED:20260309T163523Z
LAST-MODIFIED:20260313T132306Z
UID:10000460-1863806400-1863810000@nordichealthnetwork.com
SUMMARY:Team Training (EN)
DESCRIPTION:Simon Widler is inviting you to a scheduled Zoom meeting. \nTopic: Simon Widler’s Personal Meeting Room\nJoin Zoom Meeting\nhttps://us06web.zoom.us/j/7050586587?pwd=eTdNaU5Ya0dJS0h0bWtrRUZHaHFCZz09 \nMeeting ID: 705 058 6587\nPasscode: iMm04v
URL:https://nordichealthnetwork.com/event/team-training-monday-en/2029-01-22/
LOCATION:Online\, online\, Netherlands
CATEGORIES:Internal
ATTACH;FMTTYPE=image/jpeg:https://nordichealthnetwork.com/wp-content/uploads/Team-Training6.jpg
END:VEVENT
END:VCALENDAR