BEGIN:VCALENDAR
VERSION:2.0
PRODID:-//Nordic Health Network - ECPv6.15.20//NONSGML v1.0//EN
CALSCALE:GREGORIAN
METHOD:PUBLISH
X-WR-CALNAME:Nordic Health Network
X-ORIGINAL-URL:https://nordichealthnetwork.com
X-WR-CALDESC:Events for Nordic Health Network
REFRESH-INTERVAL;VALUE=DURATION:PT1H
X-Robots-Tag:noindex
X-PUBLISHED-TTL:PT1H
BEGIN:VTIMEZONE
TZID:Europe/Amsterdam
BEGIN:DAYLIGHT
TZOFFSETFROM:+0100
TZOFFSETTO:+0200
TZNAME:CEST
DTSTART:20250330T010000
END:DAYLIGHT
BEGIN:STANDARD
TZOFFSETFROM:+0200
TZOFFSETTO:+0100
TZNAME:CET
DTSTART:20251026T010000
END:STANDARD
BEGIN:DAYLIGHT
TZOFFSETFROM:+0100
TZOFFSETTO:+0200
TZNAME:CEST
DTSTART:20260329T010000
END:DAYLIGHT
BEGIN:STANDARD
TZOFFSETFROM:+0200
TZOFFSETTO:+0100
TZNAME:CET
DTSTART:20261025T010000
END:STANDARD
BEGIN:DAYLIGHT
TZOFFSETFROM:+0100
TZOFFSETTO:+0200
TZNAME:CEST
DTSTART:20270328T010000
END:DAYLIGHT
BEGIN:STANDARD
TZOFFSETFROM:+0200
TZOFFSETTO:+0100
TZNAME:CET
DTSTART:20271031T010000
END:STANDARD
END:VTIMEZONE
BEGIN:VEVENT
DTSTART;TZID=Europe/Amsterdam:20260406T200000
DTEND;TZID=Europe/Amsterdam:20260406T210000
DTSTAMP:20260422T041803
CREATED:20260401T063850Z
LAST-MODIFIED:20260401T063851Z
UID:10000314-1775505600-1775509200@nordichealthnetwork.com
SUMMARY:Team Training (EN)
DESCRIPTION:4 Years Eqology in Numbers. \nSimon will share his 4 year journey in Eqology\, from partners to clients\, growth months\, event attendance etc. \nWhy? Because it’s easy to think “nothing is happening” and “I’m going so slow”. Seeing a realistic 4 year development of a Business Partner will show you what to expect \n  \nSimon Widler is inviting you to a scheduled Zoom meeting. \nTopic: Simon Widler’s Personal Meeting Room\nJoin Zoom Meeting\nhttps://us06web.zoom.us/j/7050586587?pwd=eTdNaU5Ya0dJS0h0bWtrRUZHaHFCZz09 \nMeeting ID: 705 058 6587\nPasscode: iMm04v
URL:https://nordichealthnetwork.com/event/team-training-monday-en-2/
LOCATION:Online\, online\, Netherlands
CATEGORIES:Internal
ATTACH;FMTTYPE=image/jpeg:https://nordichealthnetwork.com/wp-content/uploads/Team-Training6.jpg
END:VEVENT
BEGIN:VEVENT
DTSTART;TZID=Europe/Amsterdam:20260413T200000
DTEND;TZID=Europe/Amsterdam:20260413T210000
DTSTAMP:20260422T041803
CREATED:20260401T064322Z
LAST-MODIFIED:20260401T064323Z
UID:10000315-1776110400-1776114000@nordichealthnetwork.com
SUMMARY:Team Training (EN)
DESCRIPTION:Learn to share: How do you explain what we do? How do our product concepts work? Why should people take omega 3s? Why should people look at Eqology as a company? \n  \nJoin us and learn how to share what we do in simple terms that get people curious and excited to learn more \n  \nSimon Widler is inviting you to a scheduled Zoom meeting. \nTopic: Simon Widler’s Personal Meeting Room\nJoin Zoom Meeting\nhttps://us06web.zoom.us/j/7050586587?pwd=eTdNaU5Ya0dJS0h0bWtrRUZHaHFCZz09 \nMeeting ID: 705 058 6587\nPasscode: iMm04v
URL:https://nordichealthnetwork.com/event/team-training-monday-en-3/
LOCATION:Online\, online\, Netherlands
CATEGORIES:Internal
ATTACH;FMTTYPE=image/jpeg:https://nordichealthnetwork.com/wp-content/uploads/Team-Training6.jpg
END:VEVENT
BEGIN:VEVENT
DTSTART;TZID=Europe/Amsterdam:20260420T200000
DTEND;TZID=Europe/Amsterdam:20260420T210000
DTSTAMP:20260422T041803
CREATED:20260309T163523Z
LAST-MODIFIED:20260313T132306Z
UID:10000316-1776715200-1776718800@nordichealthnetwork.com
SUMMARY:Team Training (EN)
DESCRIPTION:Simon Widler is inviting you to a scheduled Zoom meeting. \nTopic: Simon Widler’s Personal Meeting Room\nJoin Zoom Meeting\nhttps://us06web.zoom.us/j/7050586587?pwd=eTdNaU5Ya0dJS0h0bWtrRUZHaHFCZz09 \nMeeting ID: 705 058 6587\nPasscode: iMm04v
URL:https://nordichealthnetwork.com/event/team-training-monday-en/2026-04-20/
LOCATION:Online\, online\, Netherlands
CATEGORIES:Internal
ATTACH;FMTTYPE=image/jpeg:https://nordichealthnetwork.com/wp-content/uploads/Team-Training6.jpg
END:VEVENT
BEGIN:VEVENT
DTSTART;TZID=Europe/Amsterdam:20260427T200000
DTEND;TZID=Europe/Amsterdam:20260427T210000
DTSTAMP:20260422T041803
CREATED:20260309T163523Z
LAST-MODIFIED:20260313T132306Z
UID:10000317-1777320000-1777323600@nordichealthnetwork.com
SUMMARY:Team Training (EN)
DESCRIPTION:Simon Widler is inviting you to a scheduled Zoom meeting. \nTopic: Simon Widler’s Personal Meeting Room\nJoin Zoom Meeting\nhttps://us06web.zoom.us/j/7050586587?pwd=eTdNaU5Ya0dJS0h0bWtrRUZHaHFCZz09 \nMeeting ID: 705 058 6587\nPasscode: iMm04v
URL:https://nordichealthnetwork.com/event/team-training-monday-en/2026-04-27/
LOCATION:Online\, online\, Netherlands
CATEGORIES:Internal
ATTACH;FMTTYPE=image/jpeg:https://nordichealthnetwork.com/wp-content/uploads/Team-Training6.jpg
END:VEVENT
BEGIN:VEVENT
DTSTART;TZID=Europe/Amsterdam:20260504T200000
DTEND;TZID=Europe/Amsterdam:20260504T210000
DTSTAMP:20260422T041803
CREATED:20260309T163523Z
LAST-MODIFIED:20260313T132306Z
UID:10000318-1777924800-1777928400@nordichealthnetwork.com
SUMMARY:Team Training (EN)
DESCRIPTION:Simon Widler is inviting you to a scheduled Zoom meeting. \nTopic: Simon Widler’s Personal Meeting Room\nJoin Zoom Meeting\nhttps://us06web.zoom.us/j/7050586587?pwd=eTdNaU5Ya0dJS0h0bWtrRUZHaHFCZz09 \nMeeting ID: 705 058 6587\nPasscode: iMm04v
URL:https://nordichealthnetwork.com/event/team-training-monday-en/2026-05-04/
LOCATION:Online\, online\, Netherlands
CATEGORIES:Internal
ATTACH;FMTTYPE=image/jpeg:https://nordichealthnetwork.com/wp-content/uploads/Team-Training6.jpg
END:VEVENT
BEGIN:VEVENT
DTSTART;TZID=Europe/Amsterdam:20260511T200000
DTEND;TZID=Europe/Amsterdam:20260511T210000
DTSTAMP:20260422T041803
CREATED:20260309T163523Z
LAST-MODIFIED:20260313T132306Z
UID:10000319-1778529600-1778533200@nordichealthnetwork.com
SUMMARY:Team Training (EN)
DESCRIPTION:Simon Widler is inviting you to a scheduled Zoom meeting. \nTopic: Simon Widler’s Personal Meeting Room\nJoin Zoom Meeting\nhttps://us06web.zoom.us/j/7050586587?pwd=eTdNaU5Ya0dJS0h0bWtrRUZHaHFCZz09 \nMeeting ID: 705 058 6587\nPasscode: iMm04v
URL:https://nordichealthnetwork.com/event/team-training-monday-en/2026-05-11/
LOCATION:Online\, online\, Netherlands
CATEGORIES:Internal
ATTACH;FMTTYPE=image/jpeg:https://nordichealthnetwork.com/wp-content/uploads/Team-Training6.jpg
END:VEVENT
BEGIN:VEVENT
DTSTART;TZID=Europe/Amsterdam:20260518T200000
DTEND;TZID=Europe/Amsterdam:20260518T210000
DTSTAMP:20260422T041803
CREATED:20260309T163523Z
LAST-MODIFIED:20260313T132306Z
UID:10000320-1779134400-1779138000@nordichealthnetwork.com
SUMMARY:Team Training (EN)
DESCRIPTION:Simon Widler is inviting you to a scheduled Zoom meeting. \nTopic: Simon Widler’s Personal Meeting Room\nJoin Zoom Meeting\nhttps://us06web.zoom.us/j/7050586587?pwd=eTdNaU5Ya0dJS0h0bWtrRUZHaHFCZz09 \nMeeting ID: 705 058 6587\nPasscode: iMm04v
URL:https://nordichealthnetwork.com/event/team-training-monday-en/2026-05-18/
LOCATION:Online\, online\, Netherlands
CATEGORIES:Internal
ATTACH;FMTTYPE=image/jpeg:https://nordichealthnetwork.com/wp-content/uploads/Team-Training6.jpg
END:VEVENT
BEGIN:VEVENT
DTSTART;TZID=Europe/Amsterdam:20260525T200000
DTEND;TZID=Europe/Amsterdam:20260525T210000
DTSTAMP:20260422T041803
CREATED:20260309T163523Z
LAST-MODIFIED:20260313T132306Z
UID:10000321-1779739200-1779742800@nordichealthnetwork.com
SUMMARY:Team Training (EN)
DESCRIPTION:Simon Widler is inviting you to a scheduled Zoom meeting. \nTopic: Simon Widler’s Personal Meeting Room\nJoin Zoom Meeting\nhttps://us06web.zoom.us/j/7050586587?pwd=eTdNaU5Ya0dJS0h0bWtrRUZHaHFCZz09 \nMeeting ID: 705 058 6587\nPasscode: iMm04v
URL:https://nordichealthnetwork.com/event/team-training-monday-en/2026-05-25/
LOCATION:Online\, online\, Netherlands
CATEGORIES:Internal
ATTACH;FMTTYPE=image/jpeg:https://nordichealthnetwork.com/wp-content/uploads/Team-Training6.jpg
END:VEVENT
BEGIN:VEVENT
DTSTART;TZID=Europe/Amsterdam:20260601T200000
DTEND;TZID=Europe/Amsterdam:20260601T210000
DTSTAMP:20260422T041803
CREATED:20260309T163523Z
LAST-MODIFIED:20260313T132306Z
UID:10000322-1780344000-1780347600@nordichealthnetwork.com
SUMMARY:Team Training (EN)
DESCRIPTION:Simon Widler is inviting you to a scheduled Zoom meeting. \nTopic: Simon Widler’s Personal Meeting Room\nJoin Zoom Meeting\nhttps://us06web.zoom.us/j/7050586587?pwd=eTdNaU5Ya0dJS0h0bWtrRUZHaHFCZz09 \nMeeting ID: 705 058 6587\nPasscode: iMm04v
URL:https://nordichealthnetwork.com/event/team-training-monday-en/2026-06-01/
LOCATION:Online\, online\, Netherlands
CATEGORIES:Internal
ATTACH;FMTTYPE=image/jpeg:https://nordichealthnetwork.com/wp-content/uploads/Team-Training6.jpg
END:VEVENT
BEGIN:VEVENT
DTSTART;TZID=Europe/Amsterdam:20260608T200000
DTEND;TZID=Europe/Amsterdam:20260608T210000
DTSTAMP:20260422T041803
CREATED:20260309T163523Z
LAST-MODIFIED:20260313T132306Z
UID:10000323-1780948800-1780952400@nordichealthnetwork.com
SUMMARY:Team Training (EN)
DESCRIPTION:Simon Widler is inviting you to a scheduled Zoom meeting. \nTopic: Simon Widler’s Personal Meeting Room\nJoin Zoom Meeting\nhttps://us06web.zoom.us/j/7050586587?pwd=eTdNaU5Ya0dJS0h0bWtrRUZHaHFCZz09 \nMeeting ID: 705 058 6587\nPasscode: iMm04v
URL:https://nordichealthnetwork.com/event/team-training-monday-en/2026-06-08/
LOCATION:Online\, online\, Netherlands
CATEGORIES:Internal
ATTACH;FMTTYPE=image/jpeg:https://nordichealthnetwork.com/wp-content/uploads/Team-Training6.jpg
END:VEVENT
BEGIN:VEVENT
DTSTART;VALUE=DATE:20260613
DTEND;VALUE=DATE:20260614
DTSTAMP:20260422T041803
CREATED:20260116T171036Z
LAST-MODIFIED:20260313T124811Z
UID:10000018-1781308800-1781395199@nordichealthnetwork.com
SUMMARY:Summer Rally Cologne
DESCRIPTION:The Eqology Summer Rally 2026 is a physical event taking place in Cologne\, Germany\, on June 13\, 2026. President+ Training (for qualified participants) will take place on the evening of June 12. The 4th annual Eqology Fun Run will take place on Sunday morning (June 14). This ticket includes lunch and admission to the Saturday afterparty\, coffee/tea\, and admission to the event. \nPlease note: Dinner is not provided. \nWe look forward to seeing you there! \n  \nLocation: Koelnmesse Confex\,Cologne\, Germany
URL:https://nordichealthnetwork.com/event/summer-rally-cologne/
CATEGORIES:Internal
ATTACH;FMTTYPE=image/png:https://nordichealthnetwork.com/wp-content/uploads/eqology_summer_rally_2026_ticket_default_568x578_earlybird_germany_90112_1.png
END:VEVENT
BEGIN:VEVENT
DTSTART;TZID=Europe/Amsterdam:20260615T200000
DTEND;TZID=Europe/Amsterdam:20260615T210000
DTSTAMP:20260422T041803
CREATED:20260309T163523Z
LAST-MODIFIED:20260313T132306Z
UID:10000324-1781553600-1781557200@nordichealthnetwork.com
SUMMARY:Team Training (EN)
DESCRIPTION:Simon Widler is inviting you to a scheduled Zoom meeting. \nTopic: Simon Widler’s Personal Meeting Room\nJoin Zoom Meeting\nhttps://us06web.zoom.us/j/7050586587?pwd=eTdNaU5Ya0dJS0h0bWtrRUZHaHFCZz09 \nMeeting ID: 705 058 6587\nPasscode: iMm04v
URL:https://nordichealthnetwork.com/event/team-training-monday-en/2026-06-15/
LOCATION:Online\, online\, Netherlands
CATEGORIES:Internal
ATTACH;FMTTYPE=image/jpeg:https://nordichealthnetwork.com/wp-content/uploads/Team-Training6.jpg
END:VEVENT
BEGIN:VEVENT
DTSTART;TZID=Europe/Amsterdam:20260622T200000
DTEND;TZID=Europe/Amsterdam:20260622T210000
DTSTAMP:20260422T041803
CREATED:20260309T163523Z
LAST-MODIFIED:20260313T132306Z
UID:10000325-1782158400-1782162000@nordichealthnetwork.com
SUMMARY:Team Training (EN)
DESCRIPTION:Simon Widler is inviting you to a scheduled Zoom meeting. \nTopic: Simon Widler’s Personal Meeting Room\nJoin Zoom Meeting\nhttps://us06web.zoom.us/j/7050586587?pwd=eTdNaU5Ya0dJS0h0bWtrRUZHaHFCZz09 \nMeeting ID: 705 058 6587\nPasscode: iMm04v
URL:https://nordichealthnetwork.com/event/team-training-monday-en/2026-06-22/
LOCATION:Online\, online\, Netherlands
CATEGORIES:Internal
ATTACH;FMTTYPE=image/jpeg:https://nordichealthnetwork.com/wp-content/uploads/Team-Training6.jpg
END:VEVENT
BEGIN:VEVENT
DTSTART;TZID=Europe/Amsterdam:20260629T200000
DTEND;TZID=Europe/Amsterdam:20260629T210000
DTSTAMP:20260422T041803
CREATED:20260309T163523Z
LAST-MODIFIED:20260313T132306Z
UID:10000326-1782763200-1782766800@nordichealthnetwork.com
SUMMARY:Team Training (EN)
DESCRIPTION:Simon Widler is inviting you to a scheduled Zoom meeting. \nTopic: Simon Widler’s Personal Meeting Room\nJoin Zoom Meeting\nhttps://us06web.zoom.us/j/7050586587?pwd=eTdNaU5Ya0dJS0h0bWtrRUZHaHFCZz09 \nMeeting ID: 705 058 6587\nPasscode: iMm04v
URL:https://nordichealthnetwork.com/event/team-training-monday-en/2026-06-29/
LOCATION:Online\, online\, Netherlands
CATEGORIES:Internal
ATTACH;FMTTYPE=image/jpeg:https://nordichealthnetwork.com/wp-content/uploads/Team-Training6.jpg
END:VEVENT
BEGIN:VEVENT
DTSTART;TZID=Europe/Amsterdam:20260706T200000
DTEND;TZID=Europe/Amsterdam:20260706T210000
DTSTAMP:20260422T041803
CREATED:20260309T163523Z
LAST-MODIFIED:20260313T132306Z
UID:10000327-1783368000-1783371600@nordichealthnetwork.com
SUMMARY:Team Training (EN)
DESCRIPTION:Simon Widler is inviting you to a scheduled Zoom meeting. \nTopic: Simon Widler’s Personal Meeting Room\nJoin Zoom Meeting\nhttps://us06web.zoom.us/j/7050586587?pwd=eTdNaU5Ya0dJS0h0bWtrRUZHaHFCZz09 \nMeeting ID: 705 058 6587\nPasscode: iMm04v
URL:https://nordichealthnetwork.com/event/team-training-monday-en/2026-07-06/
LOCATION:Online\, online\, Netherlands
CATEGORIES:Internal
ATTACH;FMTTYPE=image/jpeg:https://nordichealthnetwork.com/wp-content/uploads/Team-Training6.jpg
END:VEVENT
BEGIN:VEVENT
DTSTART;TZID=Europe/Amsterdam:20260713T200000
DTEND;TZID=Europe/Amsterdam:20260713T210000
DTSTAMP:20260422T041803
CREATED:20260309T163523Z
LAST-MODIFIED:20260313T132306Z
UID:10000328-1783972800-1783976400@nordichealthnetwork.com
SUMMARY:Team Training (EN)
DESCRIPTION:Simon Widler is inviting you to a scheduled Zoom meeting. \nTopic: Simon Widler’s Personal Meeting Room\nJoin Zoom Meeting\nhttps://us06web.zoom.us/j/7050586587?pwd=eTdNaU5Ya0dJS0h0bWtrRUZHaHFCZz09 \nMeeting ID: 705 058 6587\nPasscode: iMm04v
URL:https://nordichealthnetwork.com/event/team-training-monday-en/2026-07-13/
LOCATION:Online\, online\, Netherlands
CATEGORIES:Internal
ATTACH;FMTTYPE=image/jpeg:https://nordichealthnetwork.com/wp-content/uploads/Team-Training6.jpg
END:VEVENT
BEGIN:VEVENT
DTSTART;TZID=Europe/Amsterdam:20260720T200000
DTEND;TZID=Europe/Amsterdam:20260720T210000
DTSTAMP:20260422T041803
CREATED:20260309T163523Z
LAST-MODIFIED:20260313T132306Z
UID:10000329-1784577600-1784581200@nordichealthnetwork.com
SUMMARY:Team Training (EN)
DESCRIPTION:Simon Widler is inviting you to a scheduled Zoom meeting. \nTopic: Simon Widler’s Personal Meeting Room\nJoin Zoom Meeting\nhttps://us06web.zoom.us/j/7050586587?pwd=eTdNaU5Ya0dJS0h0bWtrRUZHaHFCZz09 \nMeeting ID: 705 058 6587\nPasscode: iMm04v
URL:https://nordichealthnetwork.com/event/team-training-monday-en/2026-07-20/
LOCATION:Online\, online\, Netherlands
CATEGORIES:Internal
ATTACH;FMTTYPE=image/jpeg:https://nordichealthnetwork.com/wp-content/uploads/Team-Training6.jpg
END:VEVENT
BEGIN:VEVENT
DTSTART;TZID=Europe/Amsterdam:20260727T200000
DTEND;TZID=Europe/Amsterdam:20260727T210000
DTSTAMP:20260422T041803
CREATED:20260309T163523Z
LAST-MODIFIED:20260313T132306Z
UID:10000330-1785182400-1785186000@nordichealthnetwork.com
SUMMARY:Team Training (EN)
DESCRIPTION:Simon Widler is inviting you to a scheduled Zoom meeting. \nTopic: Simon Widler’s Personal Meeting Room\nJoin Zoom Meeting\nhttps://us06web.zoom.us/j/7050586587?pwd=eTdNaU5Ya0dJS0h0bWtrRUZHaHFCZz09 \nMeeting ID: 705 058 6587\nPasscode: iMm04v
URL:https://nordichealthnetwork.com/event/team-training-monday-en/2026-07-27/
LOCATION:Online\, online\, Netherlands
CATEGORIES:Internal
ATTACH;FMTTYPE=image/jpeg:https://nordichealthnetwork.com/wp-content/uploads/Team-Training6.jpg
END:VEVENT
BEGIN:VEVENT
DTSTART;TZID=Europe/Amsterdam:20260803T200000
DTEND;TZID=Europe/Amsterdam:20260803T210000
DTSTAMP:20260422T041803
CREATED:20260309T163523Z
LAST-MODIFIED:20260313T132306Z
UID:10000331-1785787200-1785790800@nordichealthnetwork.com
SUMMARY:Team Training (EN)
DESCRIPTION:Simon Widler is inviting you to a scheduled Zoom meeting. \nTopic: Simon Widler’s Personal Meeting Room\nJoin Zoom Meeting\nhttps://us06web.zoom.us/j/7050586587?pwd=eTdNaU5Ya0dJS0h0bWtrRUZHaHFCZz09 \nMeeting ID: 705 058 6587\nPasscode: iMm04v
URL:https://nordichealthnetwork.com/event/team-training-monday-en/2026-08-03/
LOCATION:Online\, online\, Netherlands
CATEGORIES:Internal
ATTACH;FMTTYPE=image/jpeg:https://nordichealthnetwork.com/wp-content/uploads/Team-Training6.jpg
END:VEVENT
BEGIN:VEVENT
DTSTART;TZID=Europe/Amsterdam:20260810T200000
DTEND;TZID=Europe/Amsterdam:20260810T210000
DTSTAMP:20260422T041803
CREATED:20260309T163523Z
LAST-MODIFIED:20260313T132306Z
UID:10000332-1786392000-1786395600@nordichealthnetwork.com
SUMMARY:Team Training (EN)
DESCRIPTION:Simon Widler is inviting you to a scheduled Zoom meeting. \nTopic: Simon Widler’s Personal Meeting Room\nJoin Zoom Meeting\nhttps://us06web.zoom.us/j/7050586587?pwd=eTdNaU5Ya0dJS0h0bWtrRUZHaHFCZz09 \nMeeting ID: 705 058 6587\nPasscode: iMm04v
URL:https://nordichealthnetwork.com/event/team-training-monday-en/2026-08-10/
LOCATION:Online\, online\, Netherlands
CATEGORIES:Internal
ATTACH;FMTTYPE=image/jpeg:https://nordichealthnetwork.com/wp-content/uploads/Team-Training6.jpg
END:VEVENT
BEGIN:VEVENT
DTSTART;TZID=Europe/Amsterdam:20260817T200000
DTEND;TZID=Europe/Amsterdam:20260817T210000
DTSTAMP:20260422T041803
CREATED:20260309T163523Z
LAST-MODIFIED:20260313T132306Z
UID:10000333-1786996800-1787000400@nordichealthnetwork.com
SUMMARY:Team Training (EN)
DESCRIPTION:Simon Widler is inviting you to a scheduled Zoom meeting. \nTopic: Simon Widler’s Personal Meeting Room\nJoin Zoom Meeting\nhttps://us06web.zoom.us/j/7050586587?pwd=eTdNaU5Ya0dJS0h0bWtrRUZHaHFCZz09 \nMeeting ID: 705 058 6587\nPasscode: iMm04v
URL:https://nordichealthnetwork.com/event/team-training-monday-en/2026-08-17/
LOCATION:Online\, online\, Netherlands
CATEGORIES:Internal
ATTACH;FMTTYPE=image/jpeg:https://nordichealthnetwork.com/wp-content/uploads/Team-Training6.jpg
END:VEVENT
BEGIN:VEVENT
DTSTART;TZID=Europe/Amsterdam:20260824T200000
DTEND;TZID=Europe/Amsterdam:20260824T210000
DTSTAMP:20260422T041803
CREATED:20260309T163523Z
LAST-MODIFIED:20260313T132306Z
UID:10000334-1787601600-1787605200@nordichealthnetwork.com
SUMMARY:Team Training (EN)
DESCRIPTION:Simon Widler is inviting you to a scheduled Zoom meeting. \nTopic: Simon Widler’s Personal Meeting Room\nJoin Zoom Meeting\nhttps://us06web.zoom.us/j/7050586587?pwd=eTdNaU5Ya0dJS0h0bWtrRUZHaHFCZz09 \nMeeting ID: 705 058 6587\nPasscode: iMm04v
URL:https://nordichealthnetwork.com/event/team-training-monday-en/2026-08-24/
LOCATION:Online\, online\, Netherlands
CATEGORIES:Internal
ATTACH;FMTTYPE=image/jpeg:https://nordichealthnetwork.com/wp-content/uploads/Team-Training6.jpg
END:VEVENT
BEGIN:VEVENT
DTSTART;TZID=Europe/Amsterdam:20260831T200000
DTEND;TZID=Europe/Amsterdam:20260831T210000
DTSTAMP:20260422T041803
CREATED:20260309T163523Z
LAST-MODIFIED:20260313T132306Z
UID:10000335-1788206400-1788210000@nordichealthnetwork.com
SUMMARY:Team Training (EN)
DESCRIPTION:Simon Widler is inviting you to a scheduled Zoom meeting. \nTopic: Simon Widler’s Personal Meeting Room\nJoin Zoom Meeting\nhttps://us06web.zoom.us/j/7050586587?pwd=eTdNaU5Ya0dJS0h0bWtrRUZHaHFCZz09 \nMeeting ID: 705 058 6587\nPasscode: iMm04v
URL:https://nordichealthnetwork.com/event/team-training-monday-en/2026-08-31/
LOCATION:Online\, online\, Netherlands
CATEGORIES:Internal
ATTACH;FMTTYPE=image/jpeg:https://nordichealthnetwork.com/wp-content/uploads/Team-Training6.jpg
END:VEVENT
BEGIN:VEVENT
DTSTART;TZID=Europe/Amsterdam:20260907T200000
DTEND;TZID=Europe/Amsterdam:20260907T210000
DTSTAMP:20260422T041803
CREATED:20260309T163523Z
LAST-MODIFIED:20260313T132306Z
UID:10000336-1788811200-1788814800@nordichealthnetwork.com
SUMMARY:Team Training (EN)
DESCRIPTION:Simon Widler is inviting you to a scheduled Zoom meeting. \nTopic: Simon Widler’s Personal Meeting Room\nJoin Zoom Meeting\nhttps://us06web.zoom.us/j/7050586587?pwd=eTdNaU5Ya0dJS0h0bWtrRUZHaHFCZz09 \nMeeting ID: 705 058 6587\nPasscode: iMm04v
URL:https://nordichealthnetwork.com/event/team-training-monday-en/2026-09-07/
LOCATION:Online\, online\, Netherlands
CATEGORIES:Internal
ATTACH;FMTTYPE=image/jpeg:https://nordichealthnetwork.com/wp-content/uploads/Team-Training6.jpg
END:VEVENT
BEGIN:VEVENT
DTSTART;TZID=Europe/Amsterdam:20260914T200000
DTEND;TZID=Europe/Amsterdam:20260914T210000
DTSTAMP:20260422T041803
CREATED:20260309T163523Z
LAST-MODIFIED:20260313T132306Z
UID:10000337-1789416000-1789419600@nordichealthnetwork.com
SUMMARY:Team Training (EN)
DESCRIPTION:Simon Widler is inviting you to a scheduled Zoom meeting. \nTopic: Simon Widler’s Personal Meeting Room\nJoin Zoom Meeting\nhttps://us06web.zoom.us/j/7050586587?pwd=eTdNaU5Ya0dJS0h0bWtrRUZHaHFCZz09 \nMeeting ID: 705 058 6587\nPasscode: iMm04v
URL:https://nordichealthnetwork.com/event/team-training-monday-en/2026-09-14/
LOCATION:Online\, online\, Netherlands
CATEGORIES:Internal
ATTACH;FMTTYPE=image/jpeg:https://nordichealthnetwork.com/wp-content/uploads/Team-Training6.jpg
END:VEVENT
BEGIN:VEVENT
DTSTART;TZID=Europe/Amsterdam:20260921T200000
DTEND;TZID=Europe/Amsterdam:20260921T210000
DTSTAMP:20260422T041803
CREATED:20260309T163523Z
LAST-MODIFIED:20260313T132306Z
UID:10000338-1790020800-1790024400@nordichealthnetwork.com
SUMMARY:Team Training (EN)
DESCRIPTION:Simon Widler is inviting you to a scheduled Zoom meeting. \nTopic: Simon Widler’s Personal Meeting Room\nJoin Zoom Meeting\nhttps://us06web.zoom.us/j/7050586587?pwd=eTdNaU5Ya0dJS0h0bWtrRUZHaHFCZz09 \nMeeting ID: 705 058 6587\nPasscode: iMm04v
URL:https://nordichealthnetwork.com/event/team-training-monday-en/2026-09-21/
LOCATION:Online\, online\, Netherlands
CATEGORIES:Internal
ATTACH;FMTTYPE=image/jpeg:https://nordichealthnetwork.com/wp-content/uploads/Team-Training6.jpg
END:VEVENT
BEGIN:VEVENT
DTSTART;TZID=Europe/Amsterdam:20260928T200000
DTEND;TZID=Europe/Amsterdam:20260928T210000
DTSTAMP:20260422T041803
CREATED:20260309T163523Z
LAST-MODIFIED:20260313T132306Z
UID:10000339-1790625600-1790629200@nordichealthnetwork.com
SUMMARY:Team Training (EN)
DESCRIPTION:Simon Widler is inviting you to a scheduled Zoom meeting. \nTopic: Simon Widler’s Personal Meeting Room\nJoin Zoom Meeting\nhttps://us06web.zoom.us/j/7050586587?pwd=eTdNaU5Ya0dJS0h0bWtrRUZHaHFCZz09 \nMeeting ID: 705 058 6587\nPasscode: iMm04v
URL:https://nordichealthnetwork.com/event/team-training-monday-en/2026-09-28/
LOCATION:Online\, online\, Netherlands
CATEGORIES:Internal
ATTACH;FMTTYPE=image/jpeg:https://nordichealthnetwork.com/wp-content/uploads/Team-Training6.jpg
END:VEVENT
BEGIN:VEVENT
DTSTART;TZID=Europe/Amsterdam:20261005T200000
DTEND;TZID=Europe/Amsterdam:20261005T210000
DTSTAMP:20260422T041803
CREATED:20260309T163523Z
LAST-MODIFIED:20260313T132306Z
UID:10000340-1791230400-1791234000@nordichealthnetwork.com
SUMMARY:Team Training (EN)
DESCRIPTION:Simon Widler is inviting you to a scheduled Zoom meeting. \nTopic: Simon Widler’s Personal Meeting Room\nJoin Zoom Meeting\nhttps://us06web.zoom.us/j/7050586587?pwd=eTdNaU5Ya0dJS0h0bWtrRUZHaHFCZz09 \nMeeting ID: 705 058 6587\nPasscode: iMm04v
URL:https://nordichealthnetwork.com/event/team-training-monday-en/2026-10-05/
LOCATION:Online\, online\, Netherlands
CATEGORIES:Internal
ATTACH;FMTTYPE=image/jpeg:https://nordichealthnetwork.com/wp-content/uploads/Team-Training6.jpg
END:VEVENT
BEGIN:VEVENT
DTSTART;TZID=Europe/Amsterdam:20261012T200000
DTEND;TZID=Europe/Amsterdam:20261012T210000
DTSTAMP:20260422T041803
CREATED:20260309T163523Z
LAST-MODIFIED:20260313T132306Z
UID:10000341-1791835200-1791838800@nordichealthnetwork.com
SUMMARY:Team Training (EN)
DESCRIPTION:Simon Widler is inviting you to a scheduled Zoom meeting. \nTopic: Simon Widler’s Personal Meeting Room\nJoin Zoom Meeting\nhttps://us06web.zoom.us/j/7050586587?pwd=eTdNaU5Ya0dJS0h0bWtrRUZHaHFCZz09 \nMeeting ID: 705 058 6587\nPasscode: iMm04v
URL:https://nordichealthnetwork.com/event/team-training-monday-en/2026-10-12/
LOCATION:Online\, online\, Netherlands
CATEGORIES:Internal
ATTACH;FMTTYPE=image/jpeg:https://nordichealthnetwork.com/wp-content/uploads/Team-Training6.jpg
END:VEVENT
BEGIN:VEVENT
DTSTART;TZID=Europe/Amsterdam:20261019T200000
DTEND;TZID=Europe/Amsterdam:20261019T210000
DTSTAMP:20260422T041803
CREATED:20260309T163523Z
LAST-MODIFIED:20260313T132306Z
UID:10000342-1792440000-1792443600@nordichealthnetwork.com
SUMMARY:Team Training (EN)
DESCRIPTION:Simon Widler is inviting you to a scheduled Zoom meeting. \nTopic: Simon Widler’s Personal Meeting Room\nJoin Zoom Meeting\nhttps://us06web.zoom.us/j/7050586587?pwd=eTdNaU5Ya0dJS0h0bWtrRUZHaHFCZz09 \nMeeting ID: 705 058 6587\nPasscode: iMm04v
URL:https://nordichealthnetwork.com/event/team-training-monday-en/2026-10-19/
LOCATION:Online\, online\, Netherlands
CATEGORIES:Internal
ATTACH;FMTTYPE=image/jpeg:https://nordichealthnetwork.com/wp-content/uploads/Team-Training6.jpg
END:VEVENT
END:VCALENDAR