BEGIN:VCALENDAR
VERSION:2.0
PRODID:-//Nordic Health Network - ECPv6.15.20//NONSGML v1.0//EN
CALSCALE:GREGORIAN
METHOD:PUBLISH
X-WR-CALNAME:Nordic Health Network
X-ORIGINAL-URL:https://nordichealthnetwork.com
X-WR-CALDESC:Events for Nordic Health Network
REFRESH-INTERVAL;VALUE=DURATION:PT1H
X-Robots-Tag:noindex
X-PUBLISHED-TTL:PT1H
BEGIN:VTIMEZONE
TZID:Europe/Amsterdam
BEGIN:DAYLIGHT
TZOFFSETFROM:+0100
TZOFFSETTO:+0200
TZNAME:CEST
DTSTART:20250330T010000
END:DAYLIGHT
BEGIN:STANDARD
TZOFFSETFROM:+0200
TZOFFSETTO:+0100
TZNAME:CET
DTSTART:20251026T010000
END:STANDARD
BEGIN:DAYLIGHT
TZOFFSETFROM:+0100
TZOFFSETTO:+0200
TZNAME:CEST
DTSTART:20260329T010000
END:DAYLIGHT
BEGIN:STANDARD
TZOFFSETFROM:+0200
TZOFFSETTO:+0100
TZNAME:CET
DTSTART:20261025T010000
END:STANDARD
BEGIN:DAYLIGHT
TZOFFSETFROM:+0100
TZOFFSETTO:+0200
TZNAME:CEST
DTSTART:20270328T010000
END:DAYLIGHT
BEGIN:STANDARD
TZOFFSETFROM:+0200
TZOFFSETTO:+0100
TZNAME:CET
DTSTART:20271031T010000
END:STANDARD
END:VTIMEZONE
BEGIN:VEVENT
DTSTART;TZID=Europe/Amsterdam:20260202T200000
DTEND;TZID=Europe/Amsterdam:20260202T210000
DTSTAMP:20260421T220159
CREATED:20260127T111303Z
LAST-MODIFIED:20260127T111303Z
UID:10000021-1770062400-1770066000@nordichealthnetwork.com
SUMMARY:Team Training (EN)
DESCRIPTION:TBA \nSimon Widler is inviting you to a scheduled Zoom meeting. \nTopic: Simon Widler’s Personal Meeting Room\nJoin Zoom Meeting\nhttps://us06web.zoom.us/j/7050586587?pwd=eTdNaU5Ya0dJS0h0bWtrRUZHaHFCZz09 \nMeeting ID: 705 058 6587\nPasscode: iMm04v
URL:https://nordichealthnetwork.com/event/team-training-en-2/
LOCATION:Online\, online\, Netherlands
CATEGORIES:Internal
ATTACH;FMTTYPE=image/jpeg:https://nordichealthnetwork.com/wp-content/uploads/Team-Training6.jpg
END:VEVENT
BEGIN:VEVENT
DTSTART;TZID=Europe/Amsterdam:20260209T200000
DTEND;TZID=Europe/Amsterdam:20260209T210000
DTSTAMP:20260421T220159
CREATED:20260127T111344Z
LAST-MODIFIED:20260127T111356Z
UID:10000022-1770667200-1770670800@nordichealthnetwork.com
SUMMARY:Team Training (EN)
DESCRIPTION:TBA \nSimon Widler is inviting you to a scheduled Zoom meeting. \nTopic: Simon Widler’s Personal Meeting Room\nJoin Zoom Meeting\nhttps://us06web.zoom.us/j/7050586587?pwd=eTdNaU5Ya0dJS0h0bWtrRUZHaHFCZz09 \nMeeting ID: 705 058 6587\nPasscode: iMm04v
URL:https://nordichealthnetwork.com/event/team-training-en-copy/
LOCATION:Online\, online\, Netherlands
CATEGORIES:Internal
ATTACH;FMTTYPE=image/jpeg:https://nordichealthnetwork.com/wp-content/uploads/Team-Training6.jpg
END:VEVENT
BEGIN:VEVENT
DTSTART;TZID=Europe/Amsterdam:20260209T210000
DTEND;TZID=Europe/Amsterdam:20260209T213000
DTSTAMP:20260421T220159
CREATED:20260202T174734Z
LAST-MODIFIED:20260205T084039Z
UID:10000031-1770670800-1770672600@nordichealthnetwork.com
SUMMARY:UK Launch Call
DESCRIPTION:Boosting success across European markets\n\n\n\n\n\n\n\n\nWe are excited to launch the UK Growth Initiative\, our latest step in boosting success across European markets. The first two UK events have been announced: \n18th March – London\n19th March – Nottingham \nAll Business Partners who are motivated and want to learn more are invited to join an introductory call on February 9 at 21:00 CET to hear about our plans and how they can get involved. \nThis is an exciting step toward growing our community and helping Business Partners thrive all over Europe! \n  \nZoom Link: \nhttps://us06web.zoom.us/meeting/register/_DAs4mViQHWvdRyUTAHjUA \n 
URL:https://nordichealthnetwork.com/event/uk-launch-call/
LOCATION:Online\, online\, Netherlands
CATEGORIES:Internal
END:VEVENT
BEGIN:VEVENT
DTSTART;TZID=Europe/Amsterdam:20260216T200000
DTEND;TZID=Europe/Amsterdam:20260216T210000
DTSTAMP:20260421T220159
CREATED:20260127T111457Z
LAST-MODIFIED:20260213T092134Z
UID:10000023-1771272000-1771275600@nordichealthnetwork.com
SUMMARY:Team Training (EN)
DESCRIPTION:Effective use of social media: \nWhat works\, what doesn’t! How to use stories\, post and reels and build a flow for your social media to share your story with people without any hesitation \n  \nSimon Widler is inviting you to a scheduled Zoom meeting. \nTopic: Simon Widler’s Personal Meeting Room\nJoin Zoom Meeting\nhttps://us06web.zoom.us/j/7050586587?pwd=eTdNaU5Ya0dJS0h0bWtrRUZHaHFCZz09 \nMeeting ID: 705 058 6587\nPasscode: iMm04v
URL:https://nordichealthnetwork.com/event/team-training-en-3/
LOCATION:Online\, online\, Netherlands
CATEGORIES:Internal
ATTACH;FMTTYPE=image/jpeg:https://nordichealthnetwork.com/wp-content/uploads/Team-Training6.jpg
END:VEVENT
BEGIN:VEVENT
DTSTART;TZID=Europe/Amsterdam:20260218T180000
DTEND;TZID=Europe/Amsterdam:20260218T183000
DTSTAMP:20260421T220159
CREATED:20260213T092310Z
LAST-MODIFIED:20260213T092310Z
UID:10000038-1771437600-1771439400@nordichealthnetwork.com
SUMMARY:Co-working session
DESCRIPTION:30 mins of focused work with a set flow of activities \nSimon Widler is inviting you to a scheduled Zoom meeting. \nTopic: Simon Widler’s Personal Meeting Room\nJoin Zoom Meeting\nhttps://us06web.zoom.us/j/7050586587?pwd=eTdNaU5Ya0dJS0h0bWtrRUZHaHFCZz09 \nMeeting ID: 705 058 6587\nPasscode: iMm04v
URL:https://nordichealthnetwork.com/event/co-working-session/
LOCATION:Online\, online\, Netherlands
CATEGORIES:Internal
ATTACH;FMTTYPE=image/jpeg:https://nordichealthnetwork.com/wp-content/uploads/Team-Training6.jpg
END:VEVENT
BEGIN:VEVENT
DTSTART;TZID=Europe/Amsterdam:20260225T180000
DTEND;TZID=Europe/Amsterdam:20260225T183000
DTSTAMP:20260421T220159
CREATED:20260213T092351Z
LAST-MODIFIED:20260213T092351Z
UID:10000039-1772042400-1772044200@nordichealthnetwork.com
SUMMARY:Co-working session
DESCRIPTION:30 mins of focused work with a set flow of activities \nSimon Widler is inviting you to a scheduled Zoom meeting. \nTopic: Simon Widler’s Personal Meeting Room\nJoin Zoom Meeting\nhttps://us06web.zoom.us/j/7050586587?pwd=eTdNaU5Ya0dJS0h0bWtrRUZHaHFCZz09 \nMeeting ID: 705 058 6587\nPasscode: iMm04v
URL:https://nordichealthnetwork.com/event/co-working-session-2/
LOCATION:Online\, online\, Netherlands
CATEGORIES:Internal
ATTACH;FMTTYPE=image/jpeg:https://nordichealthnetwork.com/wp-content/uploads/Team-Training6.jpg
END:VEVENT
BEGIN:VEVENT
DTSTART;TZID=Europe/Amsterdam:20260226T191500
DTEND;TZID=Europe/Amsterdam:20260226T210000
DTSTAMP:20260421T220159
CREATED:20260222T094156Z
LAST-MODIFIED:20260222T114208Z
UID:10000042-1772133300-1772139600@nordichealthnetwork.com
SUMMARY:Business Partner Training Beekbergen
DESCRIPTION:Join us for an evening of in person learning and in a great location \n  \nGraag aanmelden via sandra.quartel@eqology.biz of margriet.nijholt@eqology.biz
URL:https://nordichealthnetwork.com/event/business-partner-training-beekbergen/
LOCATION:Marry’s Kruidentuin\, Engeland 25\, Beekbergen\, 7361 CS\, Netherlands
CATEGORIES:Internal
ATTACH;FMTTYPE=image/jpeg:https://nordichealthnetwork.com/wp-content/uploads/WhatsApp-Image-2026-02-21-at-11.57.23.jpeg
ORGANIZER;CN="Sandra & Leen":MAILTO:sandra.quartel@eqology.biz
END:VEVENT
END:VCALENDAR