BEGIN:VCALENDAR
VERSION:2.0
PRODID:-//Nordic Health Network - ECPv6.15.20//NONSGML v1.0//EN
CALSCALE:GREGORIAN
METHOD:PUBLISH
X-ORIGINAL-URL:https://nordichealthnetwork.com
X-WR-CALDESC:Events for Nordic Health Network
REFRESH-INTERVAL;VALUE=DURATION:PT1H
X-Robots-Tag:noindex
X-PUBLISHED-TTL:PT1H
BEGIN:VTIMEZONE
TZID:Europe/Amsterdam
BEGIN:DAYLIGHT
TZOFFSETFROM:+0100
TZOFFSETTO:+0200
TZNAME:CEST
DTSTART:20250330T010000
END:DAYLIGHT
BEGIN:STANDARD
TZOFFSETFROM:+0200
TZOFFSETTO:+0100
TZNAME:CET
DTSTART:20251026T010000
END:STANDARD
BEGIN:DAYLIGHT
TZOFFSETFROM:+0100
TZOFFSETTO:+0200
TZNAME:CEST
DTSTART:20260329T010000
END:DAYLIGHT
BEGIN:STANDARD
TZOFFSETFROM:+0200
TZOFFSETTO:+0100
TZNAME:CET
DTSTART:20261025T010000
END:STANDARD
BEGIN:DAYLIGHT
TZOFFSETFROM:+0100
TZOFFSETTO:+0200
TZNAME:CEST
DTSTART:20270328T010000
END:DAYLIGHT
BEGIN:STANDARD
TZOFFSETFROM:+0200
TZOFFSETTO:+0100
TZNAME:CET
DTSTART:20271031T010000
END:STANDARD
END:VTIMEZONE
BEGIN:VEVENT
DTSTART;TZID=Europe/Amsterdam:20260706T200000
DTEND;TZID=Europe/Amsterdam:20260706T210000
DTSTAMP:20260421T200808
CREATED:20260309T163523Z
LAST-MODIFIED:20260313T132306Z
UID:10000327-1783368000-1783371600@nordichealthnetwork.com
SUMMARY:Team Training (EN)
DESCRIPTION:Simon Widler is inviting you to a scheduled Zoom meeting. \nTopic: Simon Widler’s Personal Meeting Room\nJoin Zoom Meeting\nhttps://us06web.zoom.us/j/7050586587?pwd=eTdNaU5Ya0dJS0h0bWtrRUZHaHFCZz09 \nMeeting ID: 705 058 6587\nPasscode: iMm04v
URL:https://nordichealthnetwork.com/event/team-training-monday-en/2026-07-06/
LOCATION:Online\, online\, Netherlands
CATEGORIES:Internal
ATTACH;FMTTYPE=image/jpeg:https://nordichealthnetwork.com/wp-content/uploads/Team-Training6.jpg
END:VEVENT
END:VCALENDAR