BEGIN:VCALENDAR
VERSION:2.0
PRODID:-//Nordic Health Network - ECPv6.15.20//NONSGML v1.0//EN
CALSCALE:GREGORIAN
METHOD:PUBLISH
X-WR-CALNAME:Nordic Health Network
X-ORIGINAL-URL:https://nordichealthnetwork.com
X-WR-CALDESC:Events for Nordic Health Network
REFRESH-INTERVAL;VALUE=DURATION:PT1H
X-Robots-Tag:noindex
X-PUBLISHED-TTL:PT1H
BEGIN:VTIMEZONE
TZID:Europe/Amsterdam
BEGIN:DAYLIGHT
TZOFFSETFROM:+0100
TZOFFSETTO:+0200
TZNAME:CEST
DTSTART:20250330T010000
END:DAYLIGHT
BEGIN:STANDARD
TZOFFSETFROM:+0200
TZOFFSETTO:+0100
TZNAME:CET
DTSTART:20251026T010000
END:STANDARD
BEGIN:DAYLIGHT
TZOFFSETFROM:+0100
TZOFFSETTO:+0200
TZNAME:CEST
DTSTART:20260329T010000
END:DAYLIGHT
BEGIN:STANDARD
TZOFFSETFROM:+0200
TZOFFSETTO:+0100
TZNAME:CET
DTSTART:20261025T010000
END:STANDARD
BEGIN:DAYLIGHT
TZOFFSETFROM:+0100
TZOFFSETTO:+0200
TZNAME:CEST
DTSTART:20270328T010000
END:DAYLIGHT
BEGIN:STANDARD
TZOFFSETFROM:+0200
TZOFFSETTO:+0100
TZNAME:CET
DTSTART:20271031T010000
END:STANDARD
END:VTIMEZONE
BEGIN:VEVENT
DTSTART;TZID=Europe/Amsterdam:20260317T191500
DTEND;TZID=Europe/Amsterdam:20260317T203000
DTSTAMP:20260421T172721
CREATED:20260128T124957Z
LAST-MODIFIED:20260128T124957Z
UID:10000026-1773774900-1773779400@nordichealthnetwork.com
SUMMARY:Business Opportunity Meeting Zoetermeer (NL)
DESCRIPTION:An excellent opportunity to introduce yourself and your guests to Eqology and its unique concept of Health\, Finance & Time. \nDuring this meeting\, you’ll learn more about the company\, its products\, and the innovative business model that is creating new growth opportunities in the Netherlands. You’re welcome to attend with guests or on your own — to connect\, learn\, and be inspired by fellow Business Partners. \nThe atmosphere is informal and relaxed. \nDoors open at 7:15 PM. \nWe look forward to seeing you at this valuable meeting!
URL:https://nordichealthnetwork.com/event/business-opportunity-meeting-zoetermeer-nl/
LOCATION:De Hooge Woning\, Voorweg 109\, Zoetermeer\, 2716 NH\, Netherlands
CATEGORIES:Business Opportunity,Public
ATTACH;FMTTYPE=image/png:https://nordichealthnetwork.com/wp-content/uploads/ChatGPT-Image-Jan-6-2026-12_23_25-PM.png
END:VEVENT
BEGIN:VEVENT
DTSTART;TZID=Europe/Amsterdam:20260317T191500
DTEND;TZID=Europe/Amsterdam:20260317T203000
DTSTAMP:20260421T172721
CREATED:20260216T100209Z
LAST-MODIFIED:20260216T100209Z
UID:10000041-1773774900-1773779400@nordichealthnetwork.com
SUMMARY:Business Opportunity Meeting Zwolle (NL)
DESCRIPTION:An excellent opportunity to introduce yourself and your guests to Eqology and its unique concept of Health\, Finance & Time. \nDuring this meeting\, you’ll learn more about the company\, its products\, and the innovative business model that is creating new growth opportunities in the Netherlands. You’re welcome to attend with guests or on your own — to connect\, learn\, and be inspired by fellow Business Partners. \nThe atmosphere is informal and relaxed. \nDoors open at 7:00 PM. \nWe look forward to seeing you at this valuable meeting!
URL:https://nordichealthnetwork.com/event/business-opportunity-meeting-zwolle-nl-2/
LOCATION:Bistro de Stadshoeve\, Arendshorstlaan 23\, Zwolle\, 8043VE\, Netherlands
CATEGORIES:Business Opportunity,Public
ATTACH;FMTTYPE=image/png:https://nordichealthnetwork.com/wp-content/uploads/ChatGPT-Image-Jan-6-2026-12_23_25-PM.png
END:VEVENT
END:VCALENDAR