BEGIN:VCALENDAR
VERSION:2.0
PRODID:-//Nordic Health Network - ECPv6.15.20//NONSGML v1.0//EN
CALSCALE:GREGORIAN
METHOD:PUBLISH
X-ORIGINAL-URL:https://nordichealthnetwork.com
X-WR-CALDESC:Events for Nordic Health Network
REFRESH-INTERVAL;VALUE=DURATION:PT1H
X-Robots-Tag:noindex
X-PUBLISHED-TTL:PT1H
BEGIN:VTIMEZONE
TZID:Europe/Amsterdam
BEGIN:DAYLIGHT
TZOFFSETFROM:+0100
TZOFFSETTO:+0200
TZNAME:CEST
DTSTART:20250330T010000
END:DAYLIGHT
BEGIN:STANDARD
TZOFFSETFROM:+0200
TZOFFSETTO:+0100
TZNAME:CET
DTSTART:20251026T010000
END:STANDARD
BEGIN:DAYLIGHT
TZOFFSETFROM:+0100
TZOFFSETTO:+0200
TZNAME:CEST
DTSTART:20260329T010000
END:DAYLIGHT
BEGIN:STANDARD
TZOFFSETFROM:+0200
TZOFFSETTO:+0100
TZNAME:CET
DTSTART:20261025T010000
END:STANDARD
BEGIN:DAYLIGHT
TZOFFSETFROM:+0100
TZOFFSETTO:+0200
TZNAME:CEST
DTSTART:20270328T010000
END:DAYLIGHT
BEGIN:STANDARD
TZOFFSETFROM:+0200
TZOFFSETTO:+0100
TZNAME:CET
DTSTART:20271031T010000
END:STANDARD
END:VTIMEZONE
BEGIN:VEVENT
DTSTART;TZID=Europe/Amsterdam:20260217T191500
DTEND;TZID=Europe/Amsterdam:20260217T203000
DTSTAMP:20260424T003553
CREATED:20260128T124915Z
LAST-MODIFIED:20260128T124915Z
UID:10000025-1771355700-1771360200@nordichealthnetwork.com
SUMMARY:Business Opportunity Meeting Zoetermeer (NL)
DESCRIPTION:An excellent opportunity to introduce yourself and your guests to Eqology and its unique concept of Health\, Finance & Time. \nDuring this meeting\, you’ll learn more about the company\, its products\, and the innovative business model that is creating new growth opportunities in the Netherlands. You’re welcome to attend with guests or on your own — to connect\, learn\, and be inspired by fellow Business Partners. \nThe atmosphere is informal and relaxed. \nDoors open at 7:15 PM. \nWe look forward to seeing you at this valuable meeting!
URL:https://nordichealthnetwork.com/event/business-opportunity-meeting-zoetermeer/
LOCATION:De Hooge Woning\, Voorweg 109\, Zoetermeer\, 2716 NH\, Netherlands
CATEGORIES:Business Opportunity,Public
ATTACH;FMTTYPE=image/png:https://nordichealthnetwork.com/wp-content/uploads/ChatGPT-Image-Jan-6-2026-12_23_25-PM.png
END:VEVENT
BEGIN:VEVENT
DTSTART;TZID=Europe/Amsterdam:20260217T193000
DTEND;TZID=Europe/Amsterdam:20260217T203000
DTSTAMP:20260424T003553
CREATED:20260205T163138Z
LAST-MODIFIED:20260213T091932Z
UID:10000037-1771356600-1771360200@nordichealthnetwork.com
SUMMARY:Health Event: Eqology Nordic Health Concept (NL)
DESCRIPTION:Wat als optimale gezondheid begint op het kleinste niveau van je lichaam?\nTijdens deze online presentatie ontdek je hoe omega-3 en vitamine K2 + D3 samen een krachtige basis vormen voor je algehele gezondheid. We duiken in wat er gebeurt op celniveau\, hoe je bloedvaten soepel en schoon blijven en waarom sterke botten meer zijn dan alleen calcium. Wetenschappelijk onderbouwd\, helder uitgelegd en direct toepasbaar. Begrijp hoe deze nutriënten samenwerken\, waarom zoveel mensen tekorten hebben en hoe jij vandaag nog regie kunt nemen over je gezondheid van binnenuit. \n  \nhttps://us06web.zoom.us/j/86212090814?pwd=vXpT1ecA3lmA1EWCqMIL6aNJlO3mmb.1
URL:https://nordichealthnetwork.com/event/health-event-eqology-nordic-health-concept/
LOCATION:Online\, online\, Netherlands
CATEGORIES:Health Events,Public
END:VEVENT
END:VCALENDAR